BEGIN:VCALENDAR
VERSION:2.0
PRODID:-// Visit Nyack - ECPv6.15.15//NONSGML v1.0//EN
CALSCALE:GREGORIAN
METHOD:PUBLISH
X-WR-CALNAME: Visit Nyack
X-ORIGINAL-URL:https://visitnyack.org
X-WR-CALDESC:Events for  Visit Nyack
REFRESH-INTERVAL;VALUE=DURATION:PT1H
X-Robots-Tag:noindex
X-PUBLISHED-TTL:PT1H
BEGIN:VTIMEZONE
TZID:America/New_York
BEGIN:DAYLIGHT
TZOFFSETFROM:-0500
TZOFFSETTO:-0400
TZNAME:EDT
DTSTART:20250309T070000
END:DAYLIGHT
BEGIN:STANDARD
TZOFFSETFROM:-0400
TZOFFSETTO:-0500
TZNAME:EST
DTSTART:20251102T060000
END:STANDARD
BEGIN:DAYLIGHT
TZOFFSETFROM:-0500
TZOFFSETTO:-0400
TZNAME:EDT
DTSTART:20260308T070000
END:DAYLIGHT
BEGIN:STANDARD
TZOFFSETFROM:-0400
TZOFFSETTO:-0500
TZNAME:EST
DTSTART:20261101T060000
END:STANDARD
BEGIN:DAYLIGHT
TZOFFSETFROM:-0500
TZOFFSETTO:-0400
TZNAME:EDT
DTSTART:20270314T070000
END:DAYLIGHT
BEGIN:STANDARD
TZOFFSETFROM:-0400
TZOFFSETTO:-0500
TZNAME:EST
DTSTART:20271107T060000
END:STANDARD
END:VTIMEZONE
BEGIN:VEVENT
DTSTART;TZID=America/New_York:20260425T120000
DTEND;TZID=America/New_York:20260425T210000
DTSTAMP:20260423T224741
CREATED:20260318T182710Z
LAST-MODIFIED:20260318T182710Z
UID:10049218-1777118400-1777150800@visitnyack.org
SUMMARY:Independent Bookstore Day
DESCRIPTION:Join us in celebrating the ABA’s 13th Annual Independent Bookstore Day. \n*Story time schedule: \nGail Monaco (12pm) \nSam Wedelich (2pm) \nGale Galligan (3pm) \n*Music by Steve Kelman (1-3pm) \n*Raffle to win great prizes \n*Scavenger hunt for Libro FM’s golden ticket. Find the golden ticket and receive a full year of free audio books. \n*Book party for Sayantani DasGupta’s new book\, THEFT of the RUBY LOTUS \n*Poetry reading at 7pm Valzhyna Mort & Samyak Shertok \nShop indie! Shop local! Shop Nyack!
URL:https://visitnyack.org/event/independent-bookstore-day/
LOCATION:Big Red Books\,120 Main Street Nyack\, NY 10960
CATEGORIES:Children,Families-&-Kids,Family-Friendly,Literary,Literary-Arts,Live-Music
ATTACH;FMTTYPE=image/jpeg:https://visitnyack.org/wp-content/uploads/2026/03/BRB-INDIE-BOOKSTORE-DAY-2026-2.jpg
ORGANIZER;CN="Big Red Books":MAILTO:bigredbooksny@gmail.com
END:VEVENT
BEGIN:VEVENT
DTSTART;TZID=America/New_York:20260425T190000
DTEND;TZID=America/New_York:20260425T210000
DTSTAMP:20260423T224741
CREATED:20260401T230645Z
LAST-MODIFIED:20260401T230645Z
UID:10049236-1777143600-1777150800@visitnyack.org
SUMMARY:Poetry Reading featuring Valzhyna Mort & Samyak Shertok
DESCRIPTION:Join All Ways Writing in partnership with Big Red Books for an evening of poetry featuring renowned poets Valzhyna Mort and Samyak Shertok joined by community readers Kelly Jo Lillian\, Conrad Lochner\, Marjorie Tesser\, Tedo Wyman\, and Laura Zaino. \nValzhyna Mort is a poet and translator born in Minsk\, Belarus. She is the author of three poetry collections\, Factory of Tears (Copper Canyon Press\, 2008)\, Collected Body (Copper Canyon Press\, 2011) and\, mostly recently\, Music for the Dead and Resurrected (FSG\, 2020)\, named one of the best poetry book of 2020 by The New York Times and The NPR\, and the winner of the 2020 International Griffin Poetry Prize and the 2022 UNT Rilke Prize. She teaches at Cornell University. \nSamyak Shertok’s debut collection\, No Rhododendron (University of Pittsburgh Press\, 2025)\, was selected by Kimiko Hahn for the 2024 AWP Donald Hall Prize for Poetry and longlisted for the 2026 PEN Open Book Award. Originally from Nepal\, he is an Assistant Professor of English at Mississippi State University.
URL:https://visitnyack.org/event/poetry-reading-featuring-valzhyna-mort-samyak-shertok/
LOCATION:Big Red Books\,120 Main St\, Nyack\, NY 10960\, USA
CATEGORIES:Free-Admission,Literary,Literary-Arts
ATTACH;FMTTYPE=image/png:https://visitnyack.org/wp-content/uploads/2026/03/April-25-Valzhyna-Mort-and-Samyak-Shertok.png
ORGANIZER;CN="All Ways Writing Collective":MAILTO:lilygreenberg95@gmail.com
END:VEVENT
BEGIN:VEVENT
DTSTART;TZID=America/New_York:20260425T190000
DTEND;TZID=America/New_York:20260425T210000
DTSTAMP:20260423T224741
CREATED:20260401T230736Z
LAST-MODIFIED:20260401T230736Z
UID:10049239-1777143600-1777150800@visitnyack.org
SUMMARY:An Evening of Poetry with Valzhyna Mort & Samyak Shertok
DESCRIPTION:Join All Ways Writing and Big Red Books for an evening of poetry featuring renowned poets Valzhyna Mort and Samyak Shertok joined by community readers Kelly Jo Lillian\, Conrad Lochner\, Marjorie Tesser\, Tedo Wyman\, and Laura Zaino. \nValzhyna Mort is a poet and translator born in Minsk\, Belarus. She is the author of Factory of Tears (Copper Canyon Press\, 2008)\, Collected Body (Copper Canyon Press\, 2011) and Music for the Dead and Resurrected (FSG\, 2020)\, named one of the best poetry book of 2020 by The New York Times and The NPR\, and the winner of the 2020 International Griffin Poetry Prize and the 2022 UNT Rilke Prize. She teaches at Cornell University. \nSamyak Shertok’s debut collection\, No Rhododendron (University of Pittsburgh Press\, 2025)\, was selected by Kimiko Hahn for the 2024 AWP Donald Hall Prize for Poetry and longlisted for the 2026 PEN Open Book Award. Originally from Nepal\, he is an Assistant Professor of English at Mississippi State University.
URL:https://visitnyack.org/event/an-evening-of-poetry-with-valzhyna-mort-samyak-shertok/
LOCATION:Big Red Books\,120 Main Street Nyack\, NY 10960
CATEGORIES:Literary,Literary-Arts
ATTACH;FMTTYPE=image/png:https://visitnyack.org/wp-content/uploads/2026/03/0-2.png
ORGANIZER;CN="Big Red Books":MAILTO:bigredbooksny@gmail.com
END:VEVENT
BEGIN:VEVENT
DTSTART;TZID=America/New_York:20260425T190000
DTEND;TZID=America/New_York:20260425T230000
DTSTAMP:20260423T224741
CREATED:20260309T234859Z
LAST-MODIFIED:20260309T234859Z
UID:10049201-1777143600-1777158000@visitnyack.org
SUMMARY:Soccer Dreams Casino Night
DESCRIPTION:Support Rockland’s future stars by providing athletic opportunities to local youth through Haverstraw United Athletics. Come enjoy an evening of casino games\, music\, food\, drinks\, and prizes! \nPurchase Tickets here: https://www.haverstrawunited.org/event-details/soccer-dreams-casino-night \nHaverstraw United Athletics is a 501s3 non-profit providing athletic opportunities for youth. Your support helps remove financial barriers for local athletes and fuels inclusive\, professional training opportunities across Rockland County.
URL:https://visitnyack.org/event/soccer-dreams-casino-night/
LOCATION:Angel Nyack\,18 S. Broadway in Nyack
CATEGORIES:Featured,Fundraiser,Music,Restaurants/Food
ATTACH;FMTTYPE=image/png:https://visitnyack.org/wp-content/uploads/2026/03/HUA_SoccerDreams_AngelNyackGraphic@2x-scaled.png
ORGANIZER;CN="Haverstraw United Athletics":MAILTO:laurenp@zenapproaches.com
END:VEVENT
END:VCALENDAR