BEGIN:VCALENDAR
VERSION:2.0
PRODID:-// Visit Nyack - ECPv6.15.15//NONSGML v1.0//EN
CALSCALE:GREGORIAN
METHOD:PUBLISH
X-ORIGINAL-URL:https://visitnyack.org
X-WR-CALDESC:Events for  Visit Nyack
REFRESH-INTERVAL;VALUE=DURATION:PT1H
X-Robots-Tag:noindex
X-PUBLISHED-TTL:PT1H
BEGIN:VTIMEZONE
TZID:America/New_York
BEGIN:DAYLIGHT
TZOFFSETFROM:-0500
TZOFFSETTO:-0400
TZNAME:EDT
DTSTART:20250309T070000
END:DAYLIGHT
BEGIN:STANDARD
TZOFFSETFROM:-0400
TZOFFSETTO:-0500
TZNAME:EST
DTSTART:20251102T060000
END:STANDARD
BEGIN:DAYLIGHT
TZOFFSETFROM:-0500
TZOFFSETTO:-0400
TZNAME:EDT
DTSTART:20260308T070000
END:DAYLIGHT
BEGIN:STANDARD
TZOFFSETFROM:-0400
TZOFFSETTO:-0500
TZNAME:EST
DTSTART:20261101T060000
END:STANDARD
BEGIN:DAYLIGHT
TZOFFSETFROM:-0500
TZOFFSETTO:-0400
TZNAME:EDT
DTSTART:20270314T070000
END:DAYLIGHT
BEGIN:STANDARD
TZOFFSETFROM:-0400
TZOFFSETTO:-0500
TZNAME:EST
DTSTART:20271107T060000
END:STANDARD
END:VTIMEZONE
BEGIN:VEVENT
DTSTART;TZID=America/New_York:20260429T180000
DTEND;TZID=America/New_York:20260429T193000
DTSTAMP:20260424T001900
CREATED:20260401T230931Z
LAST-MODIFIED:20260401T230931Z
UID:10049233-1777485600-1777491000@visitnyack.org
SUMMARY:Cookbook Club with Mike: Bright & Fresh - A Spring Reset
DESCRIPTION:The featured cookbook is Love and Lemons Every Day: More than 100 Bright\, Plant-Forward Recipes for Every Meal: A Cookbook \nWelcome spring with vibrant flavors and fresh inspiration! This month’s Cookbook Club celebrates the season with bright\, colorful dishes that highlight fresh produce and simple\, satisfying meals. Choose a recipe from the featured cookbook and bring your dish to share as we explore new flavors and cooking ideas together.\nSpring is the perfect time to try lighter meals and experiment with seasonal ingredients like herbs\, greens\, citrus\, and early vegetables. Whether you’re an experienced cook or just getting started\, this relaxed and friendly gathering is a great way to discover new recipes and connect with fellow food lovers.\nParticipants are encouraged to bring a serving utensil and a copy of their recipe to share.
URL:https://visitnyack.org/event/cookbook-club-with-mike-bright-fresh-a-spring-reset/
LOCATION:Nyack\, NY\, USA
CATEGORIES:Featured
ORGANIZER;CN="Nyack Library":MAILTO:programs@nyacklibrary.org
END:VEVENT
BEGIN:VEVENT
DTSTART;TZID=America/New_York:20260429T183000
DTEND;TZID=America/New_York:20260429T193000
DTSTAMP:20260424T001900
CREATED:20260318T182748Z
LAST-MODIFIED:20260318T182748Z
UID:10049219-1777487400-1777491000@visitnyack.org
SUMMARY:Open Mic with Featured Poet Daniella Toosie-Watson
DESCRIPTION:Daniella Toosie-Watson (she/they) is a writer\, visual artist\, and the author of What We Do with God (Haymarket Books\, 2025). She has been published in The Atlantic\, The Paris Review\, Oxford Poetry\, Callaloo\, Virginia Quarterly Review\, and elsewhere. Her honors include the 2024 Oxford Poetry Prize Shortlist\, the 2020 Discovery Poetry Contest\, and a Graduate Hopwood Award & Zell Fellowship from the University of Michigan Helen Zell Writers’ Program where she received her MFA in poetry. Daniella lives in New York.
URL:https://visitnyack.org/event/open-mic-with-featured-poet-daniella-toosie-watson/
LOCATION:Big Red Books\,120 Main Street Nyack\, NY 10960
CATEGORIES:Literary,Literary-Arts
ATTACH;FMTTYPE=image/png:https://visitnyack.org/wp-content/uploads/2026/03/Open-Mic-Featuring-Poet-Daniella-Toosie-Watson.png.png
ORGANIZER;CN="Big Red Books":MAILTO:bigredbooksny@gmail.com
END:VEVENT
BEGIN:VEVENT
DTSTART;TZID=America/New_York:20260429T190000
DTEND;TZID=America/New_York:20260429T210000
DTSTAMP:20260424T001900
CREATED:20260120T212333Z
LAST-MODIFIED:20260120T212333Z
UID:10048370-1777489200-1777496400@visitnyack.org
SUMMARY:Tango Nuevo and Cha Cha
DESCRIPTION:We teach Tango Nuevo\, Cha Cha and Basics of Salsa every Wednesday from 7PM-9PM. We have two instructors Victor and Viktoriia teaching in a beautiful space of Gagliardi Dance Studio. The classes are two hours long with great music and fun people. Please\, call to book your spot 845 358 7031 or better yet visit us in person.
URL:https://visitnyack.org/event/tango-nuevo-and-cha-cha/2026-04-29/
LOCATION:Nyack\, NY\, USA
CATEGORIES:Dance,Featured
ATTACH;FMTTYPE=image/png:https://visitnyack.org/wp-content/uploads/2026/01/Screenshot-2025-10-10-at-8.55.12-PM.png
END:VEVENT
END:VCALENDAR