BEGIN:VCALENDAR
VERSION:2.0
PRODID:-// Visit Nyack - ECPv6.15.15//NONSGML v1.0//EN
CALSCALE:GREGORIAN
METHOD:PUBLISH
X-WR-CALNAME: Visit Nyack
X-ORIGINAL-URL:https://visitnyack.org
X-WR-CALDESC:Events for  Visit Nyack
REFRESH-INTERVAL;VALUE=DURATION:PT1H
X-Robots-Tag:noindex
X-PUBLISHED-TTL:PT1H
BEGIN:VTIMEZONE
TZID:America/New_York
BEGIN:DAYLIGHT
TZOFFSETFROM:-0500
TZOFFSETTO:-0400
TZNAME:EDT
DTSTART:20250309T070000
END:DAYLIGHT
BEGIN:STANDARD
TZOFFSETFROM:-0400
TZOFFSETTO:-0500
TZNAME:EST
DTSTART:20251102T060000
END:STANDARD
BEGIN:DAYLIGHT
TZOFFSETFROM:-0500
TZOFFSETTO:-0400
TZNAME:EDT
DTSTART:20260308T070000
END:DAYLIGHT
BEGIN:STANDARD
TZOFFSETFROM:-0400
TZOFFSETTO:-0500
TZNAME:EST
DTSTART:20261101T060000
END:STANDARD
BEGIN:DAYLIGHT
TZOFFSETFROM:-0500
TZOFFSETTO:-0400
TZNAME:EDT
DTSTART:20270314T070000
END:DAYLIGHT
BEGIN:STANDARD
TZOFFSETFROM:-0400
TZOFFSETTO:-0500
TZNAME:EST
DTSTART:20271107T060000
END:STANDARD
END:VTIMEZONE
BEGIN:VEVENT
DTSTART;TZID=America/New_York:20260429T190000
DTEND;TZID=America/New_York:20260429T210000
DTSTAMP:20260423T184613
CREATED:20260120T212333Z
LAST-MODIFIED:20260120T212333Z
UID:10048370-1777489200-1777496400@visitnyack.org
SUMMARY:Tango Nuevo and Cha Cha
DESCRIPTION:We teach Tango Nuevo\, Cha Cha and Basics of Salsa every Wednesday from 7PM-9PM. We have two instructors Victor and Viktoriia teaching in a beautiful space of Gagliardi Dance Studio. The classes are two hours long with great music and fun people. Please\, call to book your spot 845 358 7031 or better yet visit us in person.
URL:https://visitnyack.org/event/tango-nuevo-and-cha-cha/2026-04-29/
LOCATION:Nyack\, NY\, USA
CATEGORIES:Dance,Featured
ATTACH;FMTTYPE=image/png:https://visitnyack.org/wp-content/uploads/2026/01/Screenshot-2025-10-10-at-8.55.12-PM.png
END:VEVENT
BEGIN:VEVENT
DTSTART;TZID=America/New_York:20260506T190000
DTEND;TZID=America/New_York:20260506T210000
DTSTAMP:20260423T184613
CREATED:20260120T212333Z
LAST-MODIFIED:20260120T212333Z
UID:10048371-1778094000-1778101200@visitnyack.org
SUMMARY:Tango Nuevo and Cha Cha
DESCRIPTION:We teach Tango Nuevo\, Cha Cha and Basics of Salsa every Wednesday from 7PM-9PM. We have two instructors Victor and Viktoriia teaching in a beautiful space of Gagliardi Dance Studio. The classes are two hours long with great music and fun people. Please\, call to book your spot 845 358 7031 or better yet visit us in person.
URL:https://visitnyack.org/event/tango-nuevo-and-cha-cha/2026-05-06/
LOCATION:Nyack\, NY\, USA
CATEGORIES:Dance,Featured
ATTACH;FMTTYPE=image/png:https://visitnyack.org/wp-content/uploads/2026/01/Screenshot-2025-10-10-at-8.55.12-PM.png
END:VEVENT
BEGIN:VEVENT
DTSTART;TZID=America/New_York:20260513T190000
DTEND;TZID=America/New_York:20260513T210000
DTSTAMP:20260423T184613
CREATED:20260120T212333Z
LAST-MODIFIED:20260120T212333Z
UID:10048372-1778698800-1778706000@visitnyack.org
SUMMARY:Tango Nuevo and Cha Cha
DESCRIPTION:We teach Tango Nuevo\, Cha Cha and Basics of Salsa every Wednesday from 7PM-9PM. We have two instructors Victor and Viktoriia teaching in a beautiful space of Gagliardi Dance Studio. The classes are two hours long with great music and fun people. Please\, call to book your spot 845 358 7031 or better yet visit us in person.
URL:https://visitnyack.org/event/tango-nuevo-and-cha-cha/2026-05-13/
LOCATION:Nyack\, NY\, USA
CATEGORIES:Dance,Featured
ATTACH;FMTTYPE=image/png:https://visitnyack.org/wp-content/uploads/2026/01/Screenshot-2025-10-10-at-8.55.12-PM.png
END:VEVENT
BEGIN:VEVENT
DTSTART;TZID=America/New_York:20260520T190000
DTEND;TZID=America/New_York:20260520T210000
DTSTAMP:20260423T184613
CREATED:20260120T212333Z
LAST-MODIFIED:20260120T212333Z
UID:10048373-1779303600-1779310800@visitnyack.org
SUMMARY:Tango Nuevo and Cha Cha
DESCRIPTION:We teach Tango Nuevo\, Cha Cha and Basics of Salsa every Wednesday from 7PM-9PM. We have two instructors Victor and Viktoriia teaching in a beautiful space of Gagliardi Dance Studio. The classes are two hours long with great music and fun people. Please\, call to book your spot 845 358 7031 or better yet visit us in person.
URL:https://visitnyack.org/event/tango-nuevo-and-cha-cha/2026-05-20/
LOCATION:Nyack\, NY\, USA
CATEGORIES:Dance,Featured
ATTACH;FMTTYPE=image/png:https://visitnyack.org/wp-content/uploads/2026/01/Screenshot-2025-10-10-at-8.55.12-PM.png
END:VEVENT
BEGIN:VEVENT
DTSTART;TZID=America/New_York:20260527T190000
DTEND;TZID=America/New_York:20260527T210000
DTSTAMP:20260423T184613
CREATED:20260120T212333Z
LAST-MODIFIED:20260120T212333Z
UID:10048374-1779908400-1779915600@visitnyack.org
SUMMARY:Tango Nuevo and Cha Cha
DESCRIPTION:We teach Tango Nuevo\, Cha Cha and Basics of Salsa every Wednesday from 7PM-9PM. We have two instructors Victor and Viktoriia teaching in a beautiful space of Gagliardi Dance Studio. The classes are two hours long with great music and fun people. Please\, call to book your spot 845 358 7031 or better yet visit us in person.
URL:https://visitnyack.org/event/tango-nuevo-and-cha-cha/2026-05-27/
LOCATION:Nyack\, NY\, USA
CATEGORIES:Dance,Featured
ATTACH;FMTTYPE=image/png:https://visitnyack.org/wp-content/uploads/2026/01/Screenshot-2025-10-10-at-8.55.12-PM.png
END:VEVENT
BEGIN:VEVENT
DTSTART;TZID=America/New_York:20260603T190000
DTEND;TZID=America/New_York:20260603T210000
DTSTAMP:20260423T184613
CREATED:20260120T212333Z
LAST-MODIFIED:20260120T212333Z
UID:10048375-1780513200-1780520400@visitnyack.org
SUMMARY:Tango Nuevo and Cha Cha
DESCRIPTION:We teach Tango Nuevo\, Cha Cha and Basics of Salsa every Wednesday from 7PM-9PM. We have two instructors Victor and Viktoriia teaching in a beautiful space of Gagliardi Dance Studio. The classes are two hours long with great music and fun people. Please\, call to book your spot 845 358 7031 or better yet visit us in person.
URL:https://visitnyack.org/event/tango-nuevo-and-cha-cha/2026-06-03/
LOCATION:Nyack\, NY\, USA
CATEGORIES:Dance,Featured
ATTACH;FMTTYPE=image/png:https://visitnyack.org/wp-content/uploads/2026/01/Screenshot-2025-10-10-at-8.55.12-PM.png
END:VEVENT
BEGIN:VEVENT
DTSTART;TZID=America/New_York:20260610T190000
DTEND;TZID=America/New_York:20260610T210000
DTSTAMP:20260423T184613
CREATED:20260120T212333Z
LAST-MODIFIED:20260120T212333Z
UID:10048376-1781118000-1781125200@visitnyack.org
SUMMARY:Tango Nuevo and Cha Cha
DESCRIPTION:We teach Tango Nuevo\, Cha Cha and Basics of Salsa every Wednesday from 7PM-9PM. We have two instructors Victor and Viktoriia teaching in a beautiful space of Gagliardi Dance Studio. The classes are two hours long with great music and fun people. Please\, call to book your spot 845 358 7031 or better yet visit us in person.
URL:https://visitnyack.org/event/tango-nuevo-and-cha-cha/2026-06-10/
LOCATION:Nyack\, NY\, USA
CATEGORIES:Dance,Featured
ATTACH;FMTTYPE=image/png:https://visitnyack.org/wp-content/uploads/2026/01/Screenshot-2025-10-10-at-8.55.12-PM.png
END:VEVENT
BEGIN:VEVENT
DTSTART;TZID=America/New_York:20260617T190000
DTEND;TZID=America/New_York:20260617T210000
DTSTAMP:20260423T184613
CREATED:20260120T212333Z
LAST-MODIFIED:20260120T212333Z
UID:10048377-1781722800-1781730000@visitnyack.org
SUMMARY:Tango Nuevo and Cha Cha
DESCRIPTION:We teach Tango Nuevo\, Cha Cha and Basics of Salsa every Wednesday from 7PM-9PM. We have two instructors Victor and Viktoriia teaching in a beautiful space of Gagliardi Dance Studio. The classes are two hours long with great music and fun people. Please\, call to book your spot 845 358 7031 or better yet visit us in person.
URL:https://visitnyack.org/event/tango-nuevo-and-cha-cha/2026-06-17/
LOCATION:Nyack\, NY\, USA
CATEGORIES:Dance,Featured
ATTACH;FMTTYPE=image/png:https://visitnyack.org/wp-content/uploads/2026/01/Screenshot-2025-10-10-at-8.55.12-PM.png
END:VEVENT
BEGIN:VEVENT
DTSTART;TZID=America/New_York:20260624T190000
DTEND;TZID=America/New_York:20260624T210000
DTSTAMP:20260423T184613
CREATED:20260120T212333Z
LAST-MODIFIED:20260120T212333Z
UID:10048378-1782327600-1782334800@visitnyack.org
SUMMARY:Tango Nuevo and Cha Cha
DESCRIPTION:We teach Tango Nuevo\, Cha Cha and Basics of Salsa every Wednesday from 7PM-9PM. We have two instructors Victor and Viktoriia teaching in a beautiful space of Gagliardi Dance Studio. The classes are two hours long with great music and fun people. Please\, call to book your spot 845 358 7031 or better yet visit us in person.
URL:https://visitnyack.org/event/tango-nuevo-and-cha-cha/2026-06-24/
LOCATION:Nyack\, NY\, USA
CATEGORIES:Dance,Featured
ATTACH;FMTTYPE=image/png:https://visitnyack.org/wp-content/uploads/2026/01/Screenshot-2025-10-10-at-8.55.12-PM.png
END:VEVENT
BEGIN:VEVENT
DTSTART;TZID=America/New_York:20260701T190000
DTEND;TZID=America/New_York:20260701T210000
DTSTAMP:20260423T184613
CREATED:20260120T212333Z
LAST-MODIFIED:20260120T212333Z
UID:10048379-1782932400-1782939600@visitnyack.org
SUMMARY:Tango Nuevo and Cha Cha
DESCRIPTION:We teach Tango Nuevo\, Cha Cha and Basics of Salsa every Wednesday from 7PM-9PM. We have two instructors Victor and Viktoriia teaching in a beautiful space of Gagliardi Dance Studio. The classes are two hours long with great music and fun people. Please\, call to book your spot 845 358 7031 or better yet visit us in person.
URL:https://visitnyack.org/event/tango-nuevo-and-cha-cha/2026-07-01/
LOCATION:Nyack\, NY\, USA
CATEGORIES:Dance,Featured
ATTACH;FMTTYPE=image/png:https://visitnyack.org/wp-content/uploads/2026/01/Screenshot-2025-10-10-at-8.55.12-PM.png
END:VEVENT
BEGIN:VEVENT
DTSTART;TZID=America/New_York:20260708T190000
DTEND;TZID=America/New_York:20260708T210000
DTSTAMP:20260423T184613
CREATED:20260120T212333Z
LAST-MODIFIED:20260120T212333Z
UID:10048380-1783537200-1783544400@visitnyack.org
SUMMARY:Tango Nuevo and Cha Cha
DESCRIPTION:We teach Tango Nuevo\, Cha Cha and Basics of Salsa every Wednesday from 7PM-9PM. We have two instructors Victor and Viktoriia teaching in a beautiful space of Gagliardi Dance Studio. The classes are two hours long with great music and fun people. Please\, call to book your spot 845 358 7031 or better yet visit us in person.
URL:https://visitnyack.org/event/tango-nuevo-and-cha-cha/2026-07-08/
LOCATION:Nyack\, NY\, USA
CATEGORIES:Dance,Featured
ATTACH;FMTTYPE=image/png:https://visitnyack.org/wp-content/uploads/2026/01/Screenshot-2025-10-10-at-8.55.12-PM.png
END:VEVENT
BEGIN:VEVENT
DTSTART;TZID=America/New_York:20260715T190000
DTEND;TZID=America/New_York:20260715T210000
DTSTAMP:20260423T184613
CREATED:20260120T212333Z
LAST-MODIFIED:20260120T212333Z
UID:10048381-1784142000-1784149200@visitnyack.org
SUMMARY:Tango Nuevo and Cha Cha
DESCRIPTION:We teach Tango Nuevo\, Cha Cha and Basics of Salsa every Wednesday from 7PM-9PM. We have two instructors Victor and Viktoriia teaching in a beautiful space of Gagliardi Dance Studio. The classes are two hours long with great music and fun people. Please\, call to book your spot 845 358 7031 or better yet visit us in person.
URL:https://visitnyack.org/event/tango-nuevo-and-cha-cha/2026-07-15/
LOCATION:Nyack\, NY\, USA
CATEGORIES:Dance,Featured
ATTACH;FMTTYPE=image/png:https://visitnyack.org/wp-content/uploads/2026/01/Screenshot-2025-10-10-at-8.55.12-PM.png
END:VEVENT
BEGIN:VEVENT
DTSTART;TZID=America/New_York:20260722T190000
DTEND;TZID=America/New_York:20260722T210000
DTSTAMP:20260423T184613
CREATED:20260120T212333Z
LAST-MODIFIED:20260120T212333Z
UID:10048382-1784746800-1784754000@visitnyack.org
SUMMARY:Tango Nuevo and Cha Cha
DESCRIPTION:We teach Tango Nuevo\, Cha Cha and Basics of Salsa every Wednesday from 7PM-9PM. We have two instructors Victor and Viktoriia teaching in a beautiful space of Gagliardi Dance Studio. The classes are two hours long with great music and fun people. Please\, call to book your spot 845 358 7031 or better yet visit us in person.
URL:https://visitnyack.org/event/tango-nuevo-and-cha-cha/2026-07-22/
LOCATION:Nyack\, NY\, USA
CATEGORIES:Dance,Featured
ATTACH;FMTTYPE=image/png:https://visitnyack.org/wp-content/uploads/2026/01/Screenshot-2025-10-10-at-8.55.12-PM.png
END:VEVENT
BEGIN:VEVENT
DTSTART;TZID=America/New_York:20260729T190000
DTEND;TZID=America/New_York:20260729T210000
DTSTAMP:20260423T184613
CREATED:20260120T212333Z
LAST-MODIFIED:20260120T212333Z
UID:10048383-1785351600-1785358800@visitnyack.org
SUMMARY:Tango Nuevo and Cha Cha
DESCRIPTION:We teach Tango Nuevo\, Cha Cha and Basics of Salsa every Wednesday from 7PM-9PM. We have two instructors Victor and Viktoriia teaching in a beautiful space of Gagliardi Dance Studio. The classes are two hours long with great music and fun people. Please\, call to book your spot 845 358 7031 or better yet visit us in person.
URL:https://visitnyack.org/event/tango-nuevo-and-cha-cha/2026-07-29/
LOCATION:Nyack\, NY\, USA
CATEGORIES:Dance,Featured
ATTACH;FMTTYPE=image/png:https://visitnyack.org/wp-content/uploads/2026/01/Screenshot-2025-10-10-at-8.55.12-PM.png
END:VEVENT
BEGIN:VEVENT
DTSTART;TZID=America/New_York:20260805T190000
DTEND;TZID=America/New_York:20260805T210000
DTSTAMP:20260423T184613
CREATED:20260120T212333Z
LAST-MODIFIED:20260120T212333Z
UID:10048384-1785956400-1785963600@visitnyack.org
SUMMARY:Tango Nuevo and Cha Cha
DESCRIPTION:We teach Tango Nuevo\, Cha Cha and Basics of Salsa every Wednesday from 7PM-9PM. We have two instructors Victor and Viktoriia teaching in a beautiful space of Gagliardi Dance Studio. The classes are two hours long with great music and fun people. Please\, call to book your spot 845 358 7031 or better yet visit us in person.
URL:https://visitnyack.org/event/tango-nuevo-and-cha-cha/2026-08-05/
LOCATION:Nyack\, NY\, USA
CATEGORIES:Dance,Featured
ATTACH;FMTTYPE=image/png:https://visitnyack.org/wp-content/uploads/2026/01/Screenshot-2025-10-10-at-8.55.12-PM.png
END:VEVENT
BEGIN:VEVENT
DTSTART;TZID=America/New_York:20260812T190000
DTEND;TZID=America/New_York:20260812T210000
DTSTAMP:20260423T184613
CREATED:20260120T212333Z
LAST-MODIFIED:20260120T212333Z
UID:10048385-1786561200-1786568400@visitnyack.org
SUMMARY:Tango Nuevo and Cha Cha
DESCRIPTION:We teach Tango Nuevo\, Cha Cha and Basics of Salsa every Wednesday from 7PM-9PM. We have two instructors Victor and Viktoriia teaching in a beautiful space of Gagliardi Dance Studio. The classes are two hours long with great music and fun people. Please\, call to book your spot 845 358 7031 or better yet visit us in person.
URL:https://visitnyack.org/event/tango-nuevo-and-cha-cha/2026-08-12/
LOCATION:Nyack\, NY\, USA
CATEGORIES:Dance,Featured
ATTACH;FMTTYPE=image/png:https://visitnyack.org/wp-content/uploads/2026/01/Screenshot-2025-10-10-at-8.55.12-PM.png
END:VEVENT
BEGIN:VEVENT
DTSTART;TZID=America/New_York:20260819T190000
DTEND;TZID=America/New_York:20260819T210000
DTSTAMP:20260423T184613
CREATED:20260120T212333Z
LAST-MODIFIED:20260120T212333Z
UID:10048386-1787166000-1787173200@visitnyack.org
SUMMARY:Tango Nuevo and Cha Cha
DESCRIPTION:We teach Tango Nuevo\, Cha Cha and Basics of Salsa every Wednesday from 7PM-9PM. We have two instructors Victor and Viktoriia teaching in a beautiful space of Gagliardi Dance Studio. The classes are two hours long with great music and fun people. Please\, call to book your spot 845 358 7031 or better yet visit us in person.
URL:https://visitnyack.org/event/tango-nuevo-and-cha-cha/2026-08-19/
LOCATION:Nyack\, NY\, USA
CATEGORIES:Dance,Featured
ATTACH;FMTTYPE=image/png:https://visitnyack.org/wp-content/uploads/2026/01/Screenshot-2025-10-10-at-8.55.12-PM.png
END:VEVENT
BEGIN:VEVENT
DTSTART;TZID=America/New_York:20260826T190000
DTEND;TZID=America/New_York:20260826T210000
DTSTAMP:20260423T184613
CREATED:20260120T212333Z
LAST-MODIFIED:20260120T212333Z
UID:10048387-1787770800-1787778000@visitnyack.org
SUMMARY:Tango Nuevo and Cha Cha
DESCRIPTION:We teach Tango Nuevo\, Cha Cha and Basics of Salsa every Wednesday from 7PM-9PM. We have two instructors Victor and Viktoriia teaching in a beautiful space of Gagliardi Dance Studio. The classes are two hours long with great music and fun people. Please\, call to book your spot 845 358 7031 or better yet visit us in person.
URL:https://visitnyack.org/event/tango-nuevo-and-cha-cha/2026-08-26/
LOCATION:Nyack\, NY\, USA
CATEGORIES:Dance,Featured
ATTACH;FMTTYPE=image/png:https://visitnyack.org/wp-content/uploads/2026/01/Screenshot-2025-10-10-at-8.55.12-PM.png
END:VEVENT
BEGIN:VEVENT
DTSTART;TZID=America/New_York:20260902T190000
DTEND;TZID=America/New_York:20260902T210000
DTSTAMP:20260423T184613
CREATED:20260120T212333Z
LAST-MODIFIED:20260120T212333Z
UID:10048388-1788375600-1788382800@visitnyack.org
SUMMARY:Tango Nuevo and Cha Cha
DESCRIPTION:We teach Tango Nuevo\, Cha Cha and Basics of Salsa every Wednesday from 7PM-9PM. We have two instructors Victor and Viktoriia teaching in a beautiful space of Gagliardi Dance Studio. The classes are two hours long with great music and fun people. Please\, call to book your spot 845 358 7031 or better yet visit us in person.
URL:https://visitnyack.org/event/tango-nuevo-and-cha-cha/2026-09-02/
LOCATION:Nyack\, NY\, USA
CATEGORIES:Dance,Featured
ATTACH;FMTTYPE=image/png:https://visitnyack.org/wp-content/uploads/2026/01/Screenshot-2025-10-10-at-8.55.12-PM.png
END:VEVENT
BEGIN:VEVENT
DTSTART;TZID=America/New_York:20260909T190000
DTEND;TZID=America/New_York:20260909T210000
DTSTAMP:20260423T184613
CREATED:20260120T212333Z
LAST-MODIFIED:20260120T212333Z
UID:10048389-1788980400-1788987600@visitnyack.org
SUMMARY:Tango Nuevo and Cha Cha
DESCRIPTION:We teach Tango Nuevo\, Cha Cha and Basics of Salsa every Wednesday from 7PM-9PM. We have two instructors Victor and Viktoriia teaching in a beautiful space of Gagliardi Dance Studio. The classes are two hours long with great music and fun people. Please\, call to book your spot 845 358 7031 or better yet visit us in person.
URL:https://visitnyack.org/event/tango-nuevo-and-cha-cha/2026-09-09/
LOCATION:Nyack\, NY\, USA
CATEGORIES:Dance,Featured
ATTACH;FMTTYPE=image/png:https://visitnyack.org/wp-content/uploads/2026/01/Screenshot-2025-10-10-at-8.55.12-PM.png
END:VEVENT
BEGIN:VEVENT
DTSTART;TZID=America/New_York:20260916T190000
DTEND;TZID=America/New_York:20260916T210000
DTSTAMP:20260423T184613
CREATED:20260120T212333Z
LAST-MODIFIED:20260120T212333Z
UID:10048390-1789585200-1789592400@visitnyack.org
SUMMARY:Tango Nuevo and Cha Cha
DESCRIPTION:We teach Tango Nuevo\, Cha Cha and Basics of Salsa every Wednesday from 7PM-9PM. We have two instructors Victor and Viktoriia teaching in a beautiful space of Gagliardi Dance Studio. The classes are two hours long with great music and fun people. Please\, call to book your spot 845 358 7031 or better yet visit us in person.
URL:https://visitnyack.org/event/tango-nuevo-and-cha-cha/2026-09-16/
LOCATION:Nyack\, NY\, USA
CATEGORIES:Dance,Featured
ATTACH;FMTTYPE=image/png:https://visitnyack.org/wp-content/uploads/2026/01/Screenshot-2025-10-10-at-8.55.12-PM.png
END:VEVENT
BEGIN:VEVENT
DTSTART;TZID=America/New_York:20260923T190000
DTEND;TZID=America/New_York:20260923T210000
DTSTAMP:20260423T184613
CREATED:20260120T212333Z
LAST-MODIFIED:20260120T212333Z
UID:10048391-1790190000-1790197200@visitnyack.org
SUMMARY:Tango Nuevo and Cha Cha
DESCRIPTION:We teach Tango Nuevo\, Cha Cha and Basics of Salsa every Wednesday from 7PM-9PM. We have two instructors Victor and Viktoriia teaching in a beautiful space of Gagliardi Dance Studio. The classes are two hours long with great music and fun people. Please\, call to book your spot 845 358 7031 or better yet visit us in person.
URL:https://visitnyack.org/event/tango-nuevo-and-cha-cha/2026-09-23/
LOCATION:Nyack\, NY\, USA
CATEGORIES:Dance,Featured
ATTACH;FMTTYPE=image/png:https://visitnyack.org/wp-content/uploads/2026/01/Screenshot-2025-10-10-at-8.55.12-PM.png
END:VEVENT
BEGIN:VEVENT
DTSTART;TZID=America/New_York:20260930T190000
DTEND;TZID=America/New_York:20260930T210000
DTSTAMP:20260423T184613
CREATED:20260120T212333Z
LAST-MODIFIED:20260120T212333Z
UID:10048392-1790794800-1790802000@visitnyack.org
SUMMARY:Tango Nuevo and Cha Cha
DESCRIPTION:We teach Tango Nuevo\, Cha Cha and Basics of Salsa every Wednesday from 7PM-9PM. We have two instructors Victor and Viktoriia teaching in a beautiful space of Gagliardi Dance Studio. The classes are two hours long with great music and fun people. Please\, call to book your spot 845 358 7031 or better yet visit us in person.
URL:https://visitnyack.org/event/tango-nuevo-and-cha-cha/2026-09-30/
LOCATION:Nyack\, NY\, USA
CATEGORIES:Dance,Featured
ATTACH;FMTTYPE=image/png:https://visitnyack.org/wp-content/uploads/2026/01/Screenshot-2025-10-10-at-8.55.12-PM.png
END:VEVENT
BEGIN:VEVENT
DTSTART;TZID=America/New_York:20261007T190000
DTEND;TZID=America/New_York:20261007T210000
DTSTAMP:20260423T184613
CREATED:20260120T212333Z
LAST-MODIFIED:20260120T212333Z
UID:10048393-1791399600-1791406800@visitnyack.org
SUMMARY:Tango Nuevo and Cha Cha
DESCRIPTION:We teach Tango Nuevo\, Cha Cha and Basics of Salsa every Wednesday from 7PM-9PM. We have two instructors Victor and Viktoriia teaching in a beautiful space of Gagliardi Dance Studio. The classes are two hours long with great music and fun people. Please\, call to book your spot 845 358 7031 or better yet visit us in person.
URL:https://visitnyack.org/event/tango-nuevo-and-cha-cha/2026-10-07/
LOCATION:Nyack\, NY\, USA
CATEGORIES:Dance,Featured
ATTACH;FMTTYPE=image/png:https://visitnyack.org/wp-content/uploads/2026/01/Screenshot-2025-10-10-at-8.55.12-PM.png
END:VEVENT
BEGIN:VEVENT
DTSTART;TZID=America/New_York:20261014T190000
DTEND;TZID=America/New_York:20261014T210000
DTSTAMP:20260423T184613
CREATED:20260120T212333Z
LAST-MODIFIED:20260120T212333Z
UID:10048394-1792004400-1792011600@visitnyack.org
SUMMARY:Tango Nuevo and Cha Cha
DESCRIPTION:We teach Tango Nuevo\, Cha Cha and Basics of Salsa every Wednesday from 7PM-9PM. We have two instructors Victor and Viktoriia teaching in a beautiful space of Gagliardi Dance Studio. The classes are two hours long with great music and fun people. Please\, call to book your spot 845 358 7031 or better yet visit us in person.
URL:https://visitnyack.org/event/tango-nuevo-and-cha-cha/2026-10-14/
LOCATION:Nyack\, NY\, USA
CATEGORIES:Dance,Featured
ATTACH;FMTTYPE=image/png:https://visitnyack.org/wp-content/uploads/2026/01/Screenshot-2025-10-10-at-8.55.12-PM.png
END:VEVENT
BEGIN:VEVENT
DTSTART;TZID=America/New_York:20261021T190000
DTEND;TZID=America/New_York:20261021T210000
DTSTAMP:20260423T184613
CREATED:20260120T212333Z
LAST-MODIFIED:20260120T212333Z
UID:10048395-1792609200-1792616400@visitnyack.org
SUMMARY:Tango Nuevo and Cha Cha
DESCRIPTION:We teach Tango Nuevo\, Cha Cha and Basics of Salsa every Wednesday from 7PM-9PM. We have two instructors Victor and Viktoriia teaching in a beautiful space of Gagliardi Dance Studio. The classes are two hours long with great music and fun people. Please\, call to book your spot 845 358 7031 or better yet visit us in person.
URL:https://visitnyack.org/event/tango-nuevo-and-cha-cha/2026-10-21/
LOCATION:Nyack\, NY\, USA
CATEGORIES:Dance,Featured
ATTACH;FMTTYPE=image/png:https://visitnyack.org/wp-content/uploads/2026/01/Screenshot-2025-10-10-at-8.55.12-PM.png
END:VEVENT
BEGIN:VEVENT
DTSTART;TZID=America/New_York:20261028T190000
DTEND;TZID=America/New_York:20261028T210000
DTSTAMP:20260423T184613
CREATED:20260120T212333Z
LAST-MODIFIED:20260120T212333Z
UID:10048396-1793214000-1793221200@visitnyack.org
SUMMARY:Tango Nuevo and Cha Cha
DESCRIPTION:We teach Tango Nuevo\, Cha Cha and Basics of Salsa every Wednesday from 7PM-9PM. We have two instructors Victor and Viktoriia teaching in a beautiful space of Gagliardi Dance Studio. The classes are two hours long with great music and fun people. Please\, call to book your spot 845 358 7031 or better yet visit us in person.
URL:https://visitnyack.org/event/tango-nuevo-and-cha-cha/2026-10-28/
LOCATION:Nyack\, NY\, USA
CATEGORIES:Dance,Featured
ATTACH;FMTTYPE=image/png:https://visitnyack.org/wp-content/uploads/2026/01/Screenshot-2025-10-10-at-8.55.12-PM.png
END:VEVENT
BEGIN:VEVENT
DTSTART;TZID=America/New_York:20261104T190000
DTEND;TZID=America/New_York:20261104T210000
DTSTAMP:20260423T184613
CREATED:20260120T212333Z
LAST-MODIFIED:20260120T212333Z
UID:10048397-1793818800-1793826000@visitnyack.org
SUMMARY:Tango Nuevo and Cha Cha
DESCRIPTION:We teach Tango Nuevo\, Cha Cha and Basics of Salsa every Wednesday from 7PM-9PM. We have two instructors Victor and Viktoriia teaching in a beautiful space of Gagliardi Dance Studio. The classes are two hours long with great music and fun people. Please\, call to book your spot 845 358 7031 or better yet visit us in person.
URL:https://visitnyack.org/event/tango-nuevo-and-cha-cha/2026-11-04/
LOCATION:Nyack\, NY\, USA
CATEGORIES:Dance,Featured
ATTACH;FMTTYPE=image/png:https://visitnyack.org/wp-content/uploads/2026/01/Screenshot-2025-10-10-at-8.55.12-PM.png
END:VEVENT
BEGIN:VEVENT
DTSTART;TZID=America/New_York:20261111T190000
DTEND;TZID=America/New_York:20261111T210000
DTSTAMP:20260423T184613
CREATED:20260120T212333Z
LAST-MODIFIED:20260120T212333Z
UID:10048398-1794423600-1794430800@visitnyack.org
SUMMARY:Tango Nuevo and Cha Cha
DESCRIPTION:We teach Tango Nuevo\, Cha Cha and Basics of Salsa every Wednesday from 7PM-9PM. We have two instructors Victor and Viktoriia teaching in a beautiful space of Gagliardi Dance Studio. The classes are two hours long with great music and fun people. Please\, call to book your spot 845 358 7031 or better yet visit us in person.
URL:https://visitnyack.org/event/tango-nuevo-and-cha-cha/2026-11-11/
LOCATION:Nyack\, NY\, USA
CATEGORIES:Dance,Featured
ATTACH;FMTTYPE=image/png:https://visitnyack.org/wp-content/uploads/2026/01/Screenshot-2025-10-10-at-8.55.12-PM.png
END:VEVENT
BEGIN:VEVENT
DTSTART;TZID=America/New_York:20261118T190000
DTEND;TZID=America/New_York:20261118T210000
DTSTAMP:20260423T184613
CREATED:20260120T212333Z
LAST-MODIFIED:20260120T212333Z
UID:10048399-1795028400-1795035600@visitnyack.org
SUMMARY:Tango Nuevo and Cha Cha
DESCRIPTION:We teach Tango Nuevo\, Cha Cha and Basics of Salsa every Wednesday from 7PM-9PM. We have two instructors Victor and Viktoriia teaching in a beautiful space of Gagliardi Dance Studio. The classes are two hours long with great music and fun people. Please\, call to book your spot 845 358 7031 or better yet visit us in person.
URL:https://visitnyack.org/event/tango-nuevo-and-cha-cha/2026-11-18/
LOCATION:Nyack\, NY\, USA
CATEGORIES:Dance,Featured
ATTACH;FMTTYPE=image/png:https://visitnyack.org/wp-content/uploads/2026/01/Screenshot-2025-10-10-at-8.55.12-PM.png
END:VEVENT
END:VCALENDAR