BEGIN:VCALENDAR
VERSION:2.0
PRODID:-// Visit Nyack - ECPv6.15.15//NONSGML v1.0//EN
CALSCALE:GREGORIAN
METHOD:PUBLISH
X-WR-CALNAME: Visit Nyack
X-ORIGINAL-URL:https://visitnyack.org
X-WR-CALDESC:Events for  Visit Nyack
REFRESH-INTERVAL;VALUE=DURATION:PT1H
X-Robots-Tag:noindex
X-PUBLISHED-TTL:PT1H
BEGIN:VTIMEZONE
TZID:America/New_York
BEGIN:DAYLIGHT
TZOFFSETFROM:-0500
TZOFFSETTO:-0400
TZNAME:EDT
DTSTART:20250309T070000
END:DAYLIGHT
BEGIN:STANDARD
TZOFFSETFROM:-0400
TZOFFSETTO:-0500
TZNAME:EST
DTSTART:20251102T060000
END:STANDARD
BEGIN:DAYLIGHT
TZOFFSETFROM:-0500
TZOFFSETTO:-0400
TZNAME:EDT
DTSTART:20260308T070000
END:DAYLIGHT
BEGIN:STANDARD
TZOFFSETFROM:-0400
TZOFFSETTO:-0500
TZNAME:EST
DTSTART:20261101T060000
END:STANDARD
BEGIN:DAYLIGHT
TZOFFSETFROM:-0500
TZOFFSETTO:-0400
TZNAME:EDT
DTSTART:20270314T070000
END:DAYLIGHT
BEGIN:STANDARD
TZOFFSETFROM:-0400
TZOFFSETTO:-0500
TZNAME:EST
DTSTART:20271107T060000
END:STANDARD
END:VTIMEZONE
BEGIN:VEVENT
DTSTART;TZID=America/New_York:20260426T110000
DTEND;TZID=America/New_York:20260426T121500
DTSTAMP:20260423T184611
CREATED:20260120T212245Z
LAST-MODIFIED:20260120T212245Z
UID:10048646-1777201200-1777205700@visitnyack.org
SUMMARY:Work Out and Dance in Nyack
DESCRIPTION:30 minutes of full body work out and 45 minutes of choreographed dance routine. Every month we teach a new style of dance. Learn to dance Salsa\, Hip Hop\, Modern\, Belly Dance\, Bollywood\, Latin Mix\, Heels and many more.
URL:https://visitnyack.org/event/work-out-and-dance-in-nyack/2026-04-26/
LOCATION:Nyack\, NY\, USA
CATEGORIES:Dance
ATTACH;FMTTYPE=image/png:https://visitnyack.org/wp-content/uploads/2026/01/Screenshot-2025-08-16-at-11.22.00-AM.png
END:VEVENT
BEGIN:VEVENT
DTSTART;TZID=America/New_York:20260430T110000
DTEND;TZID=America/New_York:20260430T121500
DTSTAMP:20260423T184611
CREATED:20260120T212245Z
LAST-MODIFIED:20260120T212245Z
UID:10048647-1777546800-1777551300@visitnyack.org
SUMMARY:Work Out and Dance in Nyack
DESCRIPTION:30 minutes of full body work out and 45 minutes of choreographed dance routine. Every month we teach a new style of dance. Learn to dance Salsa\, Hip Hop\, Modern\, Belly Dance\, Bollywood\, Latin Mix\, Heels and many more.
URL:https://visitnyack.org/event/work-out-and-dance-in-nyack/2026-04-30/
LOCATION:Nyack\, NY\, USA
CATEGORIES:Dance
ATTACH;FMTTYPE=image/png:https://visitnyack.org/wp-content/uploads/2026/01/Screenshot-2025-08-16-at-11.22.00-AM.png
END:VEVENT
BEGIN:VEVENT
DTSTART;TZID=America/New_York:20260503T110000
DTEND;TZID=America/New_York:20260503T121500
DTSTAMP:20260423T184611
CREATED:20260120T212245Z
LAST-MODIFIED:20260120T212245Z
UID:10048648-1777806000-1777810500@visitnyack.org
SUMMARY:Work Out and Dance in Nyack
DESCRIPTION:30 minutes of full body work out and 45 minutes of choreographed dance routine. Every month we teach a new style of dance. Learn to dance Salsa\, Hip Hop\, Modern\, Belly Dance\, Bollywood\, Latin Mix\, Heels and many more.
URL:https://visitnyack.org/event/work-out-and-dance-in-nyack/2026-05-03/
LOCATION:Nyack\, NY\, USA
CATEGORIES:Dance
ATTACH;FMTTYPE=image/png:https://visitnyack.org/wp-content/uploads/2026/01/Screenshot-2025-08-16-at-11.22.00-AM.png
END:VEVENT
BEGIN:VEVENT
DTSTART;TZID=America/New_York:20260507T110000
DTEND;TZID=America/New_York:20260507T121500
DTSTAMP:20260423T184611
CREATED:20260120T212245Z
LAST-MODIFIED:20260120T212245Z
UID:10048649-1778151600-1778156100@visitnyack.org
SUMMARY:Work Out and Dance in Nyack
DESCRIPTION:30 minutes of full body work out and 45 minutes of choreographed dance routine. Every month we teach a new style of dance. Learn to dance Salsa\, Hip Hop\, Modern\, Belly Dance\, Bollywood\, Latin Mix\, Heels and many more.
URL:https://visitnyack.org/event/work-out-and-dance-in-nyack/2026-05-07/
LOCATION:Nyack\, NY\, USA
CATEGORIES:Dance
ATTACH;FMTTYPE=image/png:https://visitnyack.org/wp-content/uploads/2026/01/Screenshot-2025-08-16-at-11.22.00-AM.png
END:VEVENT
BEGIN:VEVENT
DTSTART;TZID=America/New_York:20260510T110000
DTEND;TZID=America/New_York:20260510T121500
DTSTAMP:20260423T184611
CREATED:20260120T212245Z
LAST-MODIFIED:20260120T212245Z
UID:10048650-1778410800-1778415300@visitnyack.org
SUMMARY:Work Out and Dance in Nyack
DESCRIPTION:30 minutes of full body work out and 45 minutes of choreographed dance routine. Every month we teach a new style of dance. Learn to dance Salsa\, Hip Hop\, Modern\, Belly Dance\, Bollywood\, Latin Mix\, Heels and many more.
URL:https://visitnyack.org/event/work-out-and-dance-in-nyack/2026-05-10/
LOCATION:Nyack\, NY\, USA
CATEGORIES:Dance
ATTACH;FMTTYPE=image/png:https://visitnyack.org/wp-content/uploads/2026/01/Screenshot-2025-08-16-at-11.22.00-AM.png
END:VEVENT
BEGIN:VEVENT
DTSTART;TZID=America/New_York:20260514T110000
DTEND;TZID=America/New_York:20260514T121500
DTSTAMP:20260423T184611
CREATED:20260120T212245Z
LAST-MODIFIED:20260120T212245Z
UID:10048651-1778756400-1778760900@visitnyack.org
SUMMARY:Work Out and Dance in Nyack
DESCRIPTION:30 minutes of full body work out and 45 minutes of choreographed dance routine. Every month we teach a new style of dance. Learn to dance Salsa\, Hip Hop\, Modern\, Belly Dance\, Bollywood\, Latin Mix\, Heels and many more.
URL:https://visitnyack.org/event/work-out-and-dance-in-nyack/2026-05-14/
LOCATION:Nyack\, NY\, USA
CATEGORIES:Dance
ATTACH;FMTTYPE=image/png:https://visitnyack.org/wp-content/uploads/2026/01/Screenshot-2025-08-16-at-11.22.00-AM.png
END:VEVENT
BEGIN:VEVENT
DTSTART;TZID=America/New_York:20260517T110000
DTEND;TZID=America/New_York:20260517T121500
DTSTAMP:20260423T184611
CREATED:20260120T212245Z
LAST-MODIFIED:20260120T212245Z
UID:10048652-1779015600-1779020100@visitnyack.org
SUMMARY:Work Out and Dance in Nyack
DESCRIPTION:30 minutes of full body work out and 45 minutes of choreographed dance routine. Every month we teach a new style of dance. Learn to dance Salsa\, Hip Hop\, Modern\, Belly Dance\, Bollywood\, Latin Mix\, Heels and many more.
URL:https://visitnyack.org/event/work-out-and-dance-in-nyack/2026-05-17/
LOCATION:Nyack\, NY\, USA
CATEGORIES:Dance
ATTACH;FMTTYPE=image/png:https://visitnyack.org/wp-content/uploads/2026/01/Screenshot-2025-08-16-at-11.22.00-AM.png
END:VEVENT
BEGIN:VEVENT
DTSTART;TZID=America/New_York:20260521T110000
DTEND;TZID=America/New_York:20260521T121500
DTSTAMP:20260423T184611
CREATED:20260120T212245Z
LAST-MODIFIED:20260120T212245Z
UID:10048653-1779361200-1779365700@visitnyack.org
SUMMARY:Work Out and Dance in Nyack
DESCRIPTION:30 minutes of full body work out and 45 minutes of choreographed dance routine. Every month we teach a new style of dance. Learn to dance Salsa\, Hip Hop\, Modern\, Belly Dance\, Bollywood\, Latin Mix\, Heels and many more.
URL:https://visitnyack.org/event/work-out-and-dance-in-nyack/2026-05-21/
LOCATION:Nyack\, NY\, USA
CATEGORIES:Dance
ATTACH;FMTTYPE=image/png:https://visitnyack.org/wp-content/uploads/2026/01/Screenshot-2025-08-16-at-11.22.00-AM.png
END:VEVENT
BEGIN:VEVENT
DTSTART;TZID=America/New_York:20260524T110000
DTEND;TZID=America/New_York:20260524T121500
DTSTAMP:20260423T184611
CREATED:20260120T212245Z
LAST-MODIFIED:20260120T212245Z
UID:10048654-1779620400-1779624900@visitnyack.org
SUMMARY:Work Out and Dance in Nyack
DESCRIPTION:30 minutes of full body work out and 45 minutes of choreographed dance routine. Every month we teach a new style of dance. Learn to dance Salsa\, Hip Hop\, Modern\, Belly Dance\, Bollywood\, Latin Mix\, Heels and many more.
URL:https://visitnyack.org/event/work-out-and-dance-in-nyack/2026-05-24/
LOCATION:Nyack\, NY\, USA
CATEGORIES:Dance
ATTACH;FMTTYPE=image/png:https://visitnyack.org/wp-content/uploads/2026/01/Screenshot-2025-08-16-at-11.22.00-AM.png
END:VEVENT
BEGIN:VEVENT
DTSTART;TZID=America/New_York:20260528T110000
DTEND;TZID=America/New_York:20260528T121500
DTSTAMP:20260423T184611
CREATED:20260120T212245Z
LAST-MODIFIED:20260120T212245Z
UID:10048655-1779966000-1779970500@visitnyack.org
SUMMARY:Work Out and Dance in Nyack
DESCRIPTION:30 minutes of full body work out and 45 minutes of choreographed dance routine. Every month we teach a new style of dance. Learn to dance Salsa\, Hip Hop\, Modern\, Belly Dance\, Bollywood\, Latin Mix\, Heels and many more.
URL:https://visitnyack.org/event/work-out-and-dance-in-nyack/2026-05-28/
LOCATION:Nyack\, NY\, USA
CATEGORIES:Dance
ATTACH;FMTTYPE=image/png:https://visitnyack.org/wp-content/uploads/2026/01/Screenshot-2025-08-16-at-11.22.00-AM.png
END:VEVENT
BEGIN:VEVENT
DTSTART;TZID=America/New_York:20260531T110000
DTEND;TZID=America/New_York:20260531T121500
DTSTAMP:20260423T184611
CREATED:20260120T212245Z
LAST-MODIFIED:20260120T212245Z
UID:10048656-1780225200-1780229700@visitnyack.org
SUMMARY:Work Out and Dance in Nyack
DESCRIPTION:30 minutes of full body work out and 45 minutes of choreographed dance routine. Every month we teach a new style of dance. Learn to dance Salsa\, Hip Hop\, Modern\, Belly Dance\, Bollywood\, Latin Mix\, Heels and many more.
URL:https://visitnyack.org/event/work-out-and-dance-in-nyack/2026-05-31/
LOCATION:Nyack\, NY\, USA
CATEGORIES:Dance
ATTACH;FMTTYPE=image/png:https://visitnyack.org/wp-content/uploads/2026/01/Screenshot-2025-08-16-at-11.22.00-AM.png
END:VEVENT
BEGIN:VEVENT
DTSTART;TZID=America/New_York:20260604T110000
DTEND;TZID=America/New_York:20260604T121500
DTSTAMP:20260423T184611
CREATED:20260120T212245Z
LAST-MODIFIED:20260120T212245Z
UID:10048657-1780570800-1780575300@visitnyack.org
SUMMARY:Work Out and Dance in Nyack
DESCRIPTION:30 minutes of full body work out and 45 minutes of choreographed dance routine. Every month we teach a new style of dance. Learn to dance Salsa\, Hip Hop\, Modern\, Belly Dance\, Bollywood\, Latin Mix\, Heels and many more.
URL:https://visitnyack.org/event/work-out-and-dance-in-nyack/2026-06-04/
LOCATION:Nyack\, NY\, USA
CATEGORIES:Dance
ATTACH;FMTTYPE=image/png:https://visitnyack.org/wp-content/uploads/2026/01/Screenshot-2025-08-16-at-11.22.00-AM.png
END:VEVENT
BEGIN:VEVENT
DTSTART;TZID=America/New_York:20260607T110000
DTEND;TZID=America/New_York:20260607T121500
DTSTAMP:20260423T184611
CREATED:20260120T212245Z
LAST-MODIFIED:20260120T212245Z
UID:10048658-1780830000-1780834500@visitnyack.org
SUMMARY:Work Out and Dance in Nyack
DESCRIPTION:30 minutes of full body work out and 45 minutes of choreographed dance routine. Every month we teach a new style of dance. Learn to dance Salsa\, Hip Hop\, Modern\, Belly Dance\, Bollywood\, Latin Mix\, Heels and many more.
URL:https://visitnyack.org/event/work-out-and-dance-in-nyack/2026-06-07/
LOCATION:Nyack\, NY\, USA
CATEGORIES:Dance
ATTACH;FMTTYPE=image/png:https://visitnyack.org/wp-content/uploads/2026/01/Screenshot-2025-08-16-at-11.22.00-AM.png
END:VEVENT
BEGIN:VEVENT
DTSTART;TZID=America/New_York:20260611T110000
DTEND;TZID=America/New_York:20260611T121500
DTSTAMP:20260423T184611
CREATED:20260120T212245Z
LAST-MODIFIED:20260120T212245Z
UID:10048659-1781175600-1781180100@visitnyack.org
SUMMARY:Work Out and Dance in Nyack
DESCRIPTION:30 minutes of full body work out and 45 minutes of choreographed dance routine. Every month we teach a new style of dance. Learn to dance Salsa\, Hip Hop\, Modern\, Belly Dance\, Bollywood\, Latin Mix\, Heels and many more.
URL:https://visitnyack.org/event/work-out-and-dance-in-nyack/2026-06-11/
LOCATION:Nyack\, NY\, USA
CATEGORIES:Dance
ATTACH;FMTTYPE=image/png:https://visitnyack.org/wp-content/uploads/2026/01/Screenshot-2025-08-16-at-11.22.00-AM.png
END:VEVENT
BEGIN:VEVENT
DTSTART;TZID=America/New_York:20260614T110000
DTEND;TZID=America/New_York:20260614T121500
DTSTAMP:20260423T184611
CREATED:20260120T212245Z
LAST-MODIFIED:20260120T212245Z
UID:10048660-1781434800-1781439300@visitnyack.org
SUMMARY:Work Out and Dance in Nyack
DESCRIPTION:30 minutes of full body work out and 45 minutes of choreographed dance routine. Every month we teach a new style of dance. Learn to dance Salsa\, Hip Hop\, Modern\, Belly Dance\, Bollywood\, Latin Mix\, Heels and many more.
URL:https://visitnyack.org/event/work-out-and-dance-in-nyack/2026-06-14/
LOCATION:Nyack\, NY\, USA
CATEGORIES:Dance
ATTACH;FMTTYPE=image/png:https://visitnyack.org/wp-content/uploads/2026/01/Screenshot-2025-08-16-at-11.22.00-AM.png
END:VEVENT
BEGIN:VEVENT
DTSTART;TZID=America/New_York:20260618T110000
DTEND;TZID=America/New_York:20260618T121500
DTSTAMP:20260423T184611
CREATED:20260120T212245Z
LAST-MODIFIED:20260120T212245Z
UID:10048661-1781780400-1781784900@visitnyack.org
SUMMARY:Work Out and Dance in Nyack
DESCRIPTION:30 minutes of full body work out and 45 minutes of choreographed dance routine. Every month we teach a new style of dance. Learn to dance Salsa\, Hip Hop\, Modern\, Belly Dance\, Bollywood\, Latin Mix\, Heels and many more.
URL:https://visitnyack.org/event/work-out-and-dance-in-nyack/2026-06-18/
LOCATION:Nyack\, NY\, USA
CATEGORIES:Dance
ATTACH;FMTTYPE=image/png:https://visitnyack.org/wp-content/uploads/2026/01/Screenshot-2025-08-16-at-11.22.00-AM.png
END:VEVENT
BEGIN:VEVENT
DTSTART;TZID=America/New_York:20260621T110000
DTEND;TZID=America/New_York:20260621T121500
DTSTAMP:20260423T184611
CREATED:20260120T212245Z
LAST-MODIFIED:20260120T212245Z
UID:10048662-1782039600-1782044100@visitnyack.org
SUMMARY:Work Out and Dance in Nyack
DESCRIPTION:30 minutes of full body work out and 45 minutes of choreographed dance routine. Every month we teach a new style of dance. Learn to dance Salsa\, Hip Hop\, Modern\, Belly Dance\, Bollywood\, Latin Mix\, Heels and many more.
URL:https://visitnyack.org/event/work-out-and-dance-in-nyack/2026-06-21/
LOCATION:Nyack\, NY\, USA
CATEGORIES:Dance
ATTACH;FMTTYPE=image/png:https://visitnyack.org/wp-content/uploads/2026/01/Screenshot-2025-08-16-at-11.22.00-AM.png
END:VEVENT
BEGIN:VEVENT
DTSTART;TZID=America/New_York:20260625T110000
DTEND;TZID=America/New_York:20260625T121500
DTSTAMP:20260423T184611
CREATED:20260120T212245Z
LAST-MODIFIED:20260120T212245Z
UID:10048663-1782385200-1782389700@visitnyack.org
SUMMARY:Work Out and Dance in Nyack
DESCRIPTION:30 minutes of full body work out and 45 minutes of choreographed dance routine. Every month we teach a new style of dance. Learn to dance Salsa\, Hip Hop\, Modern\, Belly Dance\, Bollywood\, Latin Mix\, Heels and many more.
URL:https://visitnyack.org/event/work-out-and-dance-in-nyack/2026-06-25/
LOCATION:Nyack\, NY\, USA
CATEGORIES:Dance
ATTACH;FMTTYPE=image/png:https://visitnyack.org/wp-content/uploads/2026/01/Screenshot-2025-08-16-at-11.22.00-AM.png
END:VEVENT
BEGIN:VEVENT
DTSTART;TZID=America/New_York:20260628T110000
DTEND;TZID=America/New_York:20260628T121500
DTSTAMP:20260423T184611
CREATED:20260120T212245Z
LAST-MODIFIED:20260120T212245Z
UID:10048664-1782644400-1782648900@visitnyack.org
SUMMARY:Work Out and Dance in Nyack
DESCRIPTION:30 minutes of full body work out and 45 minutes of choreographed dance routine. Every month we teach a new style of dance. Learn to dance Salsa\, Hip Hop\, Modern\, Belly Dance\, Bollywood\, Latin Mix\, Heels and many more.
URL:https://visitnyack.org/event/work-out-and-dance-in-nyack/2026-06-28/
LOCATION:Nyack\, NY\, USA
CATEGORIES:Dance
ATTACH;FMTTYPE=image/png:https://visitnyack.org/wp-content/uploads/2026/01/Screenshot-2025-08-16-at-11.22.00-AM.png
END:VEVENT
BEGIN:VEVENT
DTSTART;TZID=America/New_York:20260702T110000
DTEND;TZID=America/New_York:20260702T121500
DTSTAMP:20260423T184611
CREATED:20260120T212245Z
LAST-MODIFIED:20260120T212245Z
UID:10048665-1782990000-1782994500@visitnyack.org
SUMMARY:Work Out and Dance in Nyack
DESCRIPTION:30 minutes of full body work out and 45 minutes of choreographed dance routine. Every month we teach a new style of dance. Learn to dance Salsa\, Hip Hop\, Modern\, Belly Dance\, Bollywood\, Latin Mix\, Heels and many more.
URL:https://visitnyack.org/event/work-out-and-dance-in-nyack/2026-07-02/
LOCATION:Nyack\, NY\, USA
CATEGORIES:Dance
ATTACH;FMTTYPE=image/png:https://visitnyack.org/wp-content/uploads/2026/01/Screenshot-2025-08-16-at-11.22.00-AM.png
END:VEVENT
BEGIN:VEVENT
DTSTART;TZID=America/New_York:20260705T110000
DTEND;TZID=America/New_York:20260705T121500
DTSTAMP:20260423T184611
CREATED:20260120T212245Z
LAST-MODIFIED:20260120T212245Z
UID:10048666-1783249200-1783253700@visitnyack.org
SUMMARY:Work Out and Dance in Nyack
DESCRIPTION:30 minutes of full body work out and 45 minutes of choreographed dance routine. Every month we teach a new style of dance. Learn to dance Salsa\, Hip Hop\, Modern\, Belly Dance\, Bollywood\, Latin Mix\, Heels and many more.
URL:https://visitnyack.org/event/work-out-and-dance-in-nyack/2026-07-05/
LOCATION:Nyack\, NY\, USA
CATEGORIES:Dance
ATTACH;FMTTYPE=image/png:https://visitnyack.org/wp-content/uploads/2026/01/Screenshot-2025-08-16-at-11.22.00-AM.png
END:VEVENT
BEGIN:VEVENT
DTSTART;TZID=America/New_York:20260709T110000
DTEND;TZID=America/New_York:20260709T121500
DTSTAMP:20260423T184611
CREATED:20260120T212245Z
LAST-MODIFIED:20260120T212245Z
UID:10048667-1783594800-1783599300@visitnyack.org
SUMMARY:Work Out and Dance in Nyack
DESCRIPTION:30 minutes of full body work out and 45 minutes of choreographed dance routine. Every month we teach a new style of dance. Learn to dance Salsa\, Hip Hop\, Modern\, Belly Dance\, Bollywood\, Latin Mix\, Heels and many more.
URL:https://visitnyack.org/event/work-out-and-dance-in-nyack/2026-07-09/
LOCATION:Nyack\, NY\, USA
CATEGORIES:Dance
ATTACH;FMTTYPE=image/png:https://visitnyack.org/wp-content/uploads/2026/01/Screenshot-2025-08-16-at-11.22.00-AM.png
END:VEVENT
BEGIN:VEVENT
DTSTART;TZID=America/New_York:20260712T110000
DTEND;TZID=America/New_York:20260712T121500
DTSTAMP:20260423T184611
CREATED:20260120T212245Z
LAST-MODIFIED:20260120T212245Z
UID:10048668-1783854000-1783858500@visitnyack.org
SUMMARY:Work Out and Dance in Nyack
DESCRIPTION:30 minutes of full body work out and 45 minutes of choreographed dance routine. Every month we teach a new style of dance. Learn to dance Salsa\, Hip Hop\, Modern\, Belly Dance\, Bollywood\, Latin Mix\, Heels and many more.
URL:https://visitnyack.org/event/work-out-and-dance-in-nyack/2026-07-12/
LOCATION:Nyack\, NY\, USA
CATEGORIES:Dance
ATTACH;FMTTYPE=image/png:https://visitnyack.org/wp-content/uploads/2026/01/Screenshot-2025-08-16-at-11.22.00-AM.png
END:VEVENT
BEGIN:VEVENT
DTSTART;TZID=America/New_York:20260716T110000
DTEND;TZID=America/New_York:20260716T121500
DTSTAMP:20260423T184611
CREATED:20260120T212245Z
LAST-MODIFIED:20260120T212245Z
UID:10048669-1784199600-1784204100@visitnyack.org
SUMMARY:Work Out and Dance in Nyack
DESCRIPTION:30 minutes of full body work out and 45 minutes of choreographed dance routine. Every month we teach a new style of dance. Learn to dance Salsa\, Hip Hop\, Modern\, Belly Dance\, Bollywood\, Latin Mix\, Heels and many more.
URL:https://visitnyack.org/event/work-out-and-dance-in-nyack/2026-07-16/
LOCATION:Nyack\, NY\, USA
CATEGORIES:Dance
ATTACH;FMTTYPE=image/png:https://visitnyack.org/wp-content/uploads/2026/01/Screenshot-2025-08-16-at-11.22.00-AM.png
END:VEVENT
BEGIN:VEVENT
DTSTART;TZID=America/New_York:20260719T110000
DTEND;TZID=America/New_York:20260719T121500
DTSTAMP:20260423T184611
CREATED:20260120T212245Z
LAST-MODIFIED:20260120T212245Z
UID:10048670-1784458800-1784463300@visitnyack.org
SUMMARY:Work Out and Dance in Nyack
DESCRIPTION:30 minutes of full body work out and 45 minutes of choreographed dance routine. Every month we teach a new style of dance. Learn to dance Salsa\, Hip Hop\, Modern\, Belly Dance\, Bollywood\, Latin Mix\, Heels and many more.
URL:https://visitnyack.org/event/work-out-and-dance-in-nyack/2026-07-19/
LOCATION:Nyack\, NY\, USA
CATEGORIES:Dance
ATTACH;FMTTYPE=image/png:https://visitnyack.org/wp-content/uploads/2026/01/Screenshot-2025-08-16-at-11.22.00-AM.png
END:VEVENT
BEGIN:VEVENT
DTSTART;TZID=America/New_York:20260723T110000
DTEND;TZID=America/New_York:20260723T121500
DTSTAMP:20260423T184611
CREATED:20260120T212245Z
LAST-MODIFIED:20260120T212245Z
UID:10048671-1784804400-1784808900@visitnyack.org
SUMMARY:Work Out and Dance in Nyack
DESCRIPTION:30 minutes of full body work out and 45 minutes of choreographed dance routine. Every month we teach a new style of dance. Learn to dance Salsa\, Hip Hop\, Modern\, Belly Dance\, Bollywood\, Latin Mix\, Heels and many more.
URL:https://visitnyack.org/event/work-out-and-dance-in-nyack/2026-07-23/
LOCATION:Nyack\, NY\, USA
CATEGORIES:Dance
ATTACH;FMTTYPE=image/png:https://visitnyack.org/wp-content/uploads/2026/01/Screenshot-2025-08-16-at-11.22.00-AM.png
END:VEVENT
BEGIN:VEVENT
DTSTART;TZID=America/New_York:20260726T110000
DTEND;TZID=America/New_York:20260726T121500
DTSTAMP:20260423T184611
CREATED:20260120T212245Z
LAST-MODIFIED:20260120T212245Z
UID:10048672-1785063600-1785068100@visitnyack.org
SUMMARY:Work Out and Dance in Nyack
DESCRIPTION:30 minutes of full body work out and 45 minutes of choreographed dance routine. Every month we teach a new style of dance. Learn to dance Salsa\, Hip Hop\, Modern\, Belly Dance\, Bollywood\, Latin Mix\, Heels and many more.
URL:https://visitnyack.org/event/work-out-and-dance-in-nyack/2026-07-26/
LOCATION:Nyack\, NY\, USA
CATEGORIES:Dance
ATTACH;FMTTYPE=image/png:https://visitnyack.org/wp-content/uploads/2026/01/Screenshot-2025-08-16-at-11.22.00-AM.png
END:VEVENT
BEGIN:VEVENT
DTSTART;TZID=America/New_York:20260730T110000
DTEND;TZID=America/New_York:20260730T121500
DTSTAMP:20260423T184611
CREATED:20260120T212245Z
LAST-MODIFIED:20260120T212245Z
UID:10048673-1785409200-1785413700@visitnyack.org
SUMMARY:Work Out and Dance in Nyack
DESCRIPTION:30 minutes of full body work out and 45 minutes of choreographed dance routine. Every month we teach a new style of dance. Learn to dance Salsa\, Hip Hop\, Modern\, Belly Dance\, Bollywood\, Latin Mix\, Heels and many more.
URL:https://visitnyack.org/event/work-out-and-dance-in-nyack/2026-07-30/
LOCATION:Nyack\, NY\, USA
CATEGORIES:Dance
ATTACH;FMTTYPE=image/png:https://visitnyack.org/wp-content/uploads/2026/01/Screenshot-2025-08-16-at-11.22.00-AM.png
END:VEVENT
BEGIN:VEVENT
DTSTART;TZID=America/New_York:20260802T110000
DTEND;TZID=America/New_York:20260802T121500
DTSTAMP:20260423T184611
CREATED:20260120T212245Z
LAST-MODIFIED:20260120T212245Z
UID:10048674-1785668400-1785672900@visitnyack.org
SUMMARY:Work Out and Dance in Nyack
DESCRIPTION:30 minutes of full body work out and 45 minutes of choreographed dance routine. Every month we teach a new style of dance. Learn to dance Salsa\, Hip Hop\, Modern\, Belly Dance\, Bollywood\, Latin Mix\, Heels and many more.
URL:https://visitnyack.org/event/work-out-and-dance-in-nyack/2026-08-02/
LOCATION:Nyack\, NY\, USA
CATEGORIES:Dance
ATTACH;FMTTYPE=image/png:https://visitnyack.org/wp-content/uploads/2026/01/Screenshot-2025-08-16-at-11.22.00-AM.png
END:VEVENT
BEGIN:VEVENT
DTSTART;TZID=America/New_York:20260806T110000
DTEND;TZID=America/New_York:20260806T121500
DTSTAMP:20260423T184611
CREATED:20260120T212245Z
LAST-MODIFIED:20260120T212245Z
UID:10048675-1786014000-1786018500@visitnyack.org
SUMMARY:Work Out and Dance in Nyack
DESCRIPTION:30 minutes of full body work out and 45 minutes of choreographed dance routine. Every month we teach a new style of dance. Learn to dance Salsa\, Hip Hop\, Modern\, Belly Dance\, Bollywood\, Latin Mix\, Heels and many more.
URL:https://visitnyack.org/event/work-out-and-dance-in-nyack/2026-08-06/
LOCATION:Nyack\, NY\, USA
CATEGORIES:Dance
ATTACH;FMTTYPE=image/png:https://visitnyack.org/wp-content/uploads/2026/01/Screenshot-2025-08-16-at-11.22.00-AM.png
END:VEVENT
END:VCALENDAR