BEGIN:VCALENDAR
VERSION:2.0
PRODID:-// Visit Nyack - ECPv6.15.15//NONSGML v1.0//EN
CALSCALE:GREGORIAN
METHOD:PUBLISH
X-WR-CALNAME: Visit Nyack
X-ORIGINAL-URL:https://visitnyack.org
X-WR-CALDESC:Events for  Visit Nyack
REFRESH-INTERVAL;VALUE=DURATION:PT1H
X-Robots-Tag:noindex
X-PUBLISHED-TTL:PT1H
BEGIN:VTIMEZONE
TZID:America/New_York
BEGIN:DAYLIGHT
TZOFFSETFROM:-0500
TZOFFSETTO:-0400
TZNAME:EDT
DTSTART:20250309T070000
END:DAYLIGHT
BEGIN:STANDARD
TZOFFSETFROM:-0400
TZOFFSETTO:-0500
TZNAME:EST
DTSTART:20251102T060000
END:STANDARD
BEGIN:DAYLIGHT
TZOFFSETFROM:-0500
TZOFFSETTO:-0400
TZNAME:EDT
DTSTART:20260308T070000
END:DAYLIGHT
BEGIN:STANDARD
TZOFFSETFROM:-0400
TZOFFSETTO:-0500
TZNAME:EST
DTSTART:20261101T060000
END:STANDARD
BEGIN:DAYLIGHT
TZOFFSETFROM:-0500
TZOFFSETTO:-0400
TZNAME:EDT
DTSTART:20270314T070000
END:DAYLIGHT
BEGIN:STANDARD
TZOFFSETFROM:-0400
TZOFFSETTO:-0500
TZNAME:EST
DTSTART:20271107T060000
END:STANDARD
END:VTIMEZONE
BEGIN:VEVENT
DTSTART;VALUE=DATE:20260124
DTEND;VALUE=DATE:20260324
DTSTAMP:20260424T013459
CREATED:20260107T205103Z
LAST-MODIFIED:20260107T205103Z
UID:10048340-1769223600-1774234799@visitnyack.org
SUMMARY:Perry Lawson Fine Art Presents: Bending the Arc
DESCRIPTION:Perry Lawson Fine Art is pleased to present Bending the Arc\, a national juried exhibition featuring artwork that explores the complexities of human values\, such as respect\, empathy\, integrity\, and moral courage. The title is drawn from an idea referenced by Martin Luther King\, Jr.\, that “the arc of the moral universe is long\, but it bends toward justice.” \nThe twenty-five artists in this exhibition span a wide range of practices\, working in sculpture\, digital media\, painting\, and printmaking. Each engages with the theme in their own way: some present abstract works that convey tension or transformation; others take a narrative approach to illustrate hope or destructive forces; still others use metaphor or symbolism to express their reckoning with the world. \nThese works were selected through an open call by juror Claire Koelling\, an arts professional based in New York City who currently serves as Senior Exhibitions Manager at Gagosian Gallery. \nGallery Hours: Friday-Sunday\, 12-5 PM \nOpening Reception: Saturday\, January 24\, 3-5 PM
URL:https://visitnyack.org/event/perry-lawson-fine-art-presents-bending-the-arc/
LOCATION:Perry Lawson Fine Art\,90 North Broadway\, Nyack\, NY 10960\, USA
CATEGORIES:Art,Featured,paintings,Visual-Art
ATTACH;FMTTYPE=image/jpeg:https://visitnyack.org/wp-content/uploads/2025/12/James_2_DSC_2674_WEB_copy_jbkc7g_o2gxoq_xtwvu7.jpg
ORGANIZER;CN="Perry Lawson Fine Art":MAILTO:info@perrylawsonfineart.com
END:VEVENT
BEGIN:VEVENT
DTSTART;VALUE=DATE:20260227
DTEND;VALUE=DATE:20260428
DTSTAMP:20260424T013459
CREATED:20260207T150752Z
LAST-MODIFIED:20260207T150752Z
UID:10049168-1772161200-1777258799@visitnyack.org
SUMMARY:Perry Lawson Fine Art Presents: Caleb Weintraub: Both Sides of the Mirror
DESCRIPTION:We are pleased to present Caleb Weintraub: Both Sides of the Mirror in the Studio at Perry Lawson Fine Art. Weintraub’s work explores the tension between stability and disquiet\, treating the domestic space as both a source of comfort and the tension that unsettles it. Within these layered environments\, observation becomes both subject and object; watching and being watched coexist as inseparable conditions. \nBlending figural and landscape sensibilities into imagined spaces\, Weintraub situates his imagery between memory and myth. Each element in his heavily impastoed\, textured paintings carries symbolic weight: birds suggest displacement\, trees offer refuge\, and fire embodies both warmth and danger\, comfort and forewarning. \nOpening Reception: Friday\, February 27\, 6-8 PM \nGallery Hours: Friday-Sunday\, 12-5 PM \n 
URL:https://visitnyack.org/event/perry-lawson-fine-art-presents-caleb-weintraub-both-sides-of-the-mirror/
LOCATION:Perry Lawson Fine Art\,90 North Broadway\, Nyack\, NY 10960\, USA
CATEGORIES:Art,paintings,Visual-Art
ATTACH;FMTTYPE=image/jpeg:https://visitnyack.org/wp-content/uploads/2026/02/Caleb-Weintraub-Rare-Birds-2.jpg
ORGANIZER;CN="Perry Lawson Fine Art":MAILTO:info@perrylawsonfineart.com
END:VEVENT
BEGIN:VEVENT
DTSTART;TZID=America/New_York:20260306T190000
DTEND;TZID=America/New_York:20260306T210000
DTSTAMP:20260424T013459
CREATED:20250324T221221Z
LAST-MODIFIED:20250324T221221Z
UID:10047433-1772823600-1772830800@visitnyack.org
SUMMARY:First Friday
DESCRIPTION:The Nyack Art Collective\, an organization of over 80 talented visual artists from the Nyack area\, has a members’ art exhibit and monthly First Friday event at The Burger Loft\, 3 N Broadway (corner of Main St.)\, Nyack NY 7:00-9:00 pm. Learn about us at www.nyackartcollective.com
URL:https://visitnyack.org/event/first-friday/2026-03-06/
CATEGORIES:Art
ATTACH;FMTTYPE=image/jpeg:https://visitnyack.org/wp-content/uploads/2025/03/naclogoPos_Sm.jpg
ORGANIZER;CN="Nyack Art Collective":MAILTO:Info@nyackartcollective.com
END:VEVENT
BEGIN:VEVENT
DTSTART;TZID=America/New_York:20260306T190000
DTEND;TZID=America/New_York:20260306T210000
DTSTAMP:20260424T013459
CREATED:20250417T154025Z
LAST-MODIFIED:20250417T154025Z
UID:10047642-1772823600-1772830800@visitnyack.org
SUMMARY:Nyack Art Collective First Friday
DESCRIPTION:The Nyack Art Collective hosts a First Friday Art Exhibit every month from 7-9 pm at the gallery at The Burger Loft\, 3 North Broadway\, Nyack. The event is free\, open to the public and includes artwork\, light refreshments and artist talks.
URL:https://visitnyack.org/event/nyack-art-collective-first-friday/2026-03-06/
LOCATION:The Burger Loft\, 3 W Broadway\, Nyack\, NY\, United States
CATEGORIES:Art,Free-Admission
ATTACH;FMTTYPE=image/jpeg:https://visitnyack.org/wp-content/uploads/2025/04/Screenshot-2025-02-05-at-10.27.15 PM.jpeg
ORGANIZER;CN="Nyack Art Collective":MAILTO:Info@nyackartcollective.com
GEO:41.094783;-73.939005
X-APPLE-STRUCTURED-LOCATION;VALUE=URI;X-ADDRESS=The Burger Loft 3 W Broadway Nyack NY United States;X-APPLE-RADIUS=500;X-TITLE=3 W Broadway:geo:-73.939005,41.094783
END:VEVENT
BEGIN:VEVENT
DTSTART;TZID=America/New_York:20260321T110000
DTEND;TZID=America/New_York:20260321T170000
DTSTAMP:20260424T013459
CREATED:20260309T234327Z
LAST-MODIFIED:20260309T234327Z
UID:10049200-1774090800-1774112400@visitnyack.org
SUMMARY:The Secret Garden Party
DESCRIPTION:Spring cannot come soon enough…and the first Saturday of the season brings a Secret Garden Party to Nyack\, NY! On March 21st\, a group of small businesses are hosting activities for both children and adults\, including: a book discussion\, tea party\, fairy wishing well crafting workshop\, and a floral bouquet craft — all within walking distance downtown! To get things started\, swing by Big Red Books and order a copy of Frances Hodgson Burnett’s The Secret Garden for 15% off!! We’ll be reading and discussing this beautifully illustrated\, unabridged edition: 9780763647322.\n\nFeel free to participate in one\, two\, or ALL of the day’s events! Please RSVP so we can be ready for you. Text 845-596-7539\, email larisa.schuckle16@gmail.com\, or message @glitterthickett on Instagram — and let us know which activities you would like to sign up for! (Poster artwork by Nick Duke.)\n\n March 21st Event Schedule \n\n The Secret Garden Book Discussion @ 11am (FREE)Glitter Thicket – 88 Burd Street\, Nyack NYStart the day off with The Secret Garden book club! Treats and drinks will be available for sale.\n\n Tea Party @ 12:30pm ($25/person)Glitter Thicket – 88 Burd Street\, Nyack NYThe events continue at Glitter Thicket\, with a High Tea Party! There will be tea trays full of finger sandwiches (vegan bacon egg and cheese\, bacon lettuce and tomato\, English cucumber\, and hummus avocado)\, cupcakes\, cinnamon swirls\, tea cakes\, truffles\, gluten-free peanut butter cookies and berry bars\, and plenty of tea and pink lemonade for all! Everything is vegan and served in the theme of whimsical indoor garden tea time!\nThere will also be information available about community food and gardening efforts! Learn how you can help with Food Not Bombs\, Nyack Soup Angels\, and local collective gardening projects and mutual aid groups to increase community food security!\n\n Fairy Wishing Well Crafting Workshop @ 1:30pm ($50/person)Glitter Thicket – 88 Burd Street\, Nyack NYGather around the crafting table at Glitter Thicket to make your very own fairy wishing well\, perfect to keep in your home or place in a tiny fairy garden! Participants will use a hot glue gun\, moss\, dried flowers\, acorns\, crystals and other natural and recycled materials to build a tiny wishing well to take home! All materials provided.\n\n Floral Craft: 2:30pm – 5pm ($15 for small\, $20 for medium bouquets)Iron Rose Interiors and Decor – 85 South Broadway\, Nyack NYMake your way down South Broadway for a floral crafting session! Make a Spring floral hand held Tussie Mussie Bouquet and learn the secret meanings of all the flowers!!
URL:https://visitnyack.org/event/the-secret-garden-party/
LOCATION:Nyack\, NY\, USA
CATEGORIES:Art,Children,Families-&-Kids,Family-Friendly,Featured,Literary,Literary-Arts,Spring Fling,Visual-Art,Workshop,Workshops-&-Classes
ATTACH;FMTTYPE=image/jpeg:https://visitnyack.org/wp-content/uploads/2026/02/The-Secret-Garden-Party-Poster-scaled.jpg
END:VEVENT
END:VCALENDAR