BEGIN:VCALENDAR
VERSION:2.0
PRODID:-// Visit Nyack - ECPv6.15.15//NONSGML v1.0//EN
CALSCALE:GREGORIAN
METHOD:PUBLISH
X-ORIGINAL-URL:https://visitnyack.org
X-WR-CALDESC:Events for  Visit Nyack
REFRESH-INTERVAL;VALUE=DURATION:PT1H
X-Robots-Tag:noindex
X-PUBLISHED-TTL:PT1H
BEGIN:VTIMEZONE
TZID:America/New_York
BEGIN:DAYLIGHT
TZOFFSETFROM:-0500
TZOFFSETTO:-0400
TZNAME:EDT
DTSTART:20270314T070000
END:DAYLIGHT
BEGIN:STANDARD
TZOFFSETFROM:-0400
TZOFFSETTO:-0500
TZNAME:EST
DTSTART:20271107T060000
END:STANDARD
BEGIN:DAYLIGHT
TZOFFSETFROM:-0500
TZOFFSETTO:-0400
TZNAME:EDT
DTSTART:20280312T070000
END:DAYLIGHT
BEGIN:STANDARD
TZOFFSETFROM:-0400
TZOFFSETTO:-0500
TZNAME:EST
DTSTART:20281105T060000
END:STANDARD
BEGIN:DAYLIGHT
TZOFFSETFROM:-0500
TZOFFSETTO:-0400
TZNAME:EDT
DTSTART:20290311T070000
END:DAYLIGHT
BEGIN:STANDARD
TZOFFSETFROM:-0400
TZOFFSETTO:-0500
TZNAME:EST
DTSTART:20291104T060000
END:STANDARD
END:VTIMEZONE
BEGIN:VEVENT
DTSTART;TZID=America/New_York:20280202T190000
DTEND;TZID=America/New_York:20280202T210000
DTSTAMP:20260425T092913
CREATED:20260120T212333Z
LAST-MODIFIED:20260120T212333Z
UID:10048462-1833130800-1833138000@visitnyack.org
SUMMARY:Tango Nuevo and Cha Cha
DESCRIPTION:We teach Tango Nuevo\, Cha Cha and Basics of Salsa every Wednesday from 7PM-9PM. We have two instructors Victor and Viktoriia teaching in a beautiful space of Gagliardi Dance Studio. The classes are two hours long with great music and fun people. Please\, call to book your spot 845 358 7031 or better yet visit us in person.
URL:https://visitnyack.org/event/tango-nuevo-and-cha-cha/2028-02-02/
LOCATION:Nyack\, NY\, USA
CATEGORIES:Dance,Featured
ATTACH;FMTTYPE=image/png:https://visitnyack.org/wp-content/uploads/2026/01/Screenshot-2025-10-10-at-8.55.12-PM.png
END:VEVENT
BEGIN:VEVENT
DTSTART;TZID=America/New_York:20280203T110000
DTEND;TZID=America/New_York:20280203T121500
DTSTAMP:20260425T092913
CREATED:20260120T212245Z
LAST-MODIFIED:20260120T212245Z
UID:10048831-1833188400-1833192900@visitnyack.org
SUMMARY:Work Out and Dance in Nyack
DESCRIPTION:30 minutes of full body work out and 45 minutes of choreographed dance routine. Every month we teach a new style of dance. Learn to dance Salsa\, Hip Hop\, Modern\, Belly Dance\, Bollywood\, Latin Mix\, Heels and many more.
URL:https://visitnyack.org/event/work-out-and-dance-in-nyack/2028-02-03/
LOCATION:Nyack\, NY\, USA
CATEGORIES:Dance
ATTACH;FMTTYPE=image/png:https://visitnyack.org/wp-content/uploads/2026/01/Screenshot-2025-08-16-at-11.22.00-AM.png
END:VEVENT
BEGIN:VEVENT
DTSTART;TZID=America/New_York:20280206T110000
DTEND;TZID=America/New_York:20280206T121500
DTSTAMP:20260425T092913
CREATED:20260120T212245Z
LAST-MODIFIED:20260120T212245Z
UID:10048832-1833447600-1833452100@visitnyack.org
SUMMARY:Work Out and Dance in Nyack
DESCRIPTION:30 minutes of full body work out and 45 minutes of choreographed dance routine. Every month we teach a new style of dance. Learn to dance Salsa\, Hip Hop\, Modern\, Belly Dance\, Bollywood\, Latin Mix\, Heels and many more.
URL:https://visitnyack.org/event/work-out-and-dance-in-nyack/2028-02-06/
LOCATION:Nyack\, NY\, USA
CATEGORIES:Dance
ATTACH;FMTTYPE=image/png:https://visitnyack.org/wp-content/uploads/2026/01/Screenshot-2025-08-16-at-11.22.00-AM.png
END:VEVENT
BEGIN:VEVENT
DTSTART;TZID=America/New_York:20280209T190000
DTEND;TZID=America/New_York:20280209T210000
DTSTAMP:20260425T092913
CREATED:20260120T212333Z
LAST-MODIFIED:20260120T212333Z
UID:10048463-1833735600-1833742800@visitnyack.org
SUMMARY:Tango Nuevo and Cha Cha
DESCRIPTION:We teach Tango Nuevo\, Cha Cha and Basics of Salsa every Wednesday from 7PM-9PM. We have two instructors Victor and Viktoriia teaching in a beautiful space of Gagliardi Dance Studio. The classes are two hours long with great music and fun people. Please\, call to book your spot 845 358 7031 or better yet visit us in person.
URL:https://visitnyack.org/event/tango-nuevo-and-cha-cha/2028-02-09/
LOCATION:Nyack\, NY\, USA
CATEGORIES:Dance,Featured
ATTACH;FMTTYPE=image/png:https://visitnyack.org/wp-content/uploads/2026/01/Screenshot-2025-10-10-at-8.55.12-PM.png
END:VEVENT
BEGIN:VEVENT
DTSTART;TZID=America/New_York:20280210T110000
DTEND;TZID=America/New_York:20280210T121500
DTSTAMP:20260425T092913
CREATED:20260120T212245Z
LAST-MODIFIED:20260120T212245Z
UID:10048833-1833793200-1833797700@visitnyack.org
SUMMARY:Work Out and Dance in Nyack
DESCRIPTION:30 minutes of full body work out and 45 minutes of choreographed dance routine. Every month we teach a new style of dance. Learn to dance Salsa\, Hip Hop\, Modern\, Belly Dance\, Bollywood\, Latin Mix\, Heels and many more.
URL:https://visitnyack.org/event/work-out-and-dance-in-nyack/2028-02-10/
LOCATION:Nyack\, NY\, USA
CATEGORIES:Dance
ATTACH;FMTTYPE=image/png:https://visitnyack.org/wp-content/uploads/2026/01/Screenshot-2025-08-16-at-11.22.00-AM.png
END:VEVENT
BEGIN:VEVENT
DTSTART;TZID=America/New_York:20280213T110000
DTEND;TZID=America/New_York:20280213T121500
DTSTAMP:20260425T092913
CREATED:20260120T212245Z
LAST-MODIFIED:20260120T212245Z
UID:10048834-1834052400-1834056900@visitnyack.org
SUMMARY:Work Out and Dance in Nyack
DESCRIPTION:30 minutes of full body work out and 45 minutes of choreographed dance routine. Every month we teach a new style of dance. Learn to dance Salsa\, Hip Hop\, Modern\, Belly Dance\, Bollywood\, Latin Mix\, Heels and many more.
URL:https://visitnyack.org/event/work-out-and-dance-in-nyack/2028-02-13/
LOCATION:Nyack\, NY\, USA
CATEGORIES:Dance
ATTACH;FMTTYPE=image/png:https://visitnyack.org/wp-content/uploads/2026/01/Screenshot-2025-08-16-at-11.22.00-AM.png
END:VEVENT
BEGIN:VEVENT
DTSTART;TZID=America/New_York:20280216T190000
DTEND;TZID=America/New_York:20280216T210000
DTSTAMP:20260425T092913
CREATED:20260120T212333Z
LAST-MODIFIED:20260120T212333Z
UID:10048464-1834340400-1834347600@visitnyack.org
SUMMARY:Tango Nuevo and Cha Cha
DESCRIPTION:We teach Tango Nuevo\, Cha Cha and Basics of Salsa every Wednesday from 7PM-9PM. We have two instructors Victor and Viktoriia teaching in a beautiful space of Gagliardi Dance Studio. The classes are two hours long with great music and fun people. Please\, call to book your spot 845 358 7031 or better yet visit us in person.
URL:https://visitnyack.org/event/tango-nuevo-and-cha-cha/2028-02-16/
LOCATION:Nyack\, NY\, USA
CATEGORIES:Dance,Featured
ATTACH;FMTTYPE=image/png:https://visitnyack.org/wp-content/uploads/2026/01/Screenshot-2025-10-10-at-8.55.12-PM.png
END:VEVENT
BEGIN:VEVENT
DTSTART;TZID=America/New_York:20280217T110000
DTEND;TZID=America/New_York:20280217T121500
DTSTAMP:20260425T092913
CREATED:20260120T212245Z
LAST-MODIFIED:20260120T212245Z
UID:10048835-1834398000-1834402500@visitnyack.org
SUMMARY:Work Out and Dance in Nyack
DESCRIPTION:30 minutes of full body work out and 45 minutes of choreographed dance routine. Every month we teach a new style of dance. Learn to dance Salsa\, Hip Hop\, Modern\, Belly Dance\, Bollywood\, Latin Mix\, Heels and many more.
URL:https://visitnyack.org/event/work-out-and-dance-in-nyack/2028-02-17/
LOCATION:Nyack\, NY\, USA
CATEGORIES:Dance
ATTACH;FMTTYPE=image/png:https://visitnyack.org/wp-content/uploads/2026/01/Screenshot-2025-08-16-at-11.22.00-AM.png
END:VEVENT
BEGIN:VEVENT
DTSTART;TZID=America/New_York:20280220T110000
DTEND;TZID=America/New_York:20280220T121500
DTSTAMP:20260425T092913
CREATED:20260120T212245Z
LAST-MODIFIED:20260120T212245Z
UID:10048836-1834657200-1834661700@visitnyack.org
SUMMARY:Work Out and Dance in Nyack
DESCRIPTION:30 minutes of full body work out and 45 minutes of choreographed dance routine. Every month we teach a new style of dance. Learn to dance Salsa\, Hip Hop\, Modern\, Belly Dance\, Bollywood\, Latin Mix\, Heels and many more.
URL:https://visitnyack.org/event/work-out-and-dance-in-nyack/2028-02-20/
LOCATION:Nyack\, NY\, USA
CATEGORIES:Dance
ATTACH;FMTTYPE=image/png:https://visitnyack.org/wp-content/uploads/2026/01/Screenshot-2025-08-16-at-11.22.00-AM.png
END:VEVENT
BEGIN:VEVENT
DTSTART;TZID=America/New_York:20280223T190000
DTEND;TZID=America/New_York:20280223T210000
DTSTAMP:20260425T092913
CREATED:20260120T212333Z
LAST-MODIFIED:20260120T212333Z
UID:10048465-1834945200-1834952400@visitnyack.org
SUMMARY:Tango Nuevo and Cha Cha
DESCRIPTION:We teach Tango Nuevo\, Cha Cha and Basics of Salsa every Wednesday from 7PM-9PM. We have two instructors Victor and Viktoriia teaching in a beautiful space of Gagliardi Dance Studio. The classes are two hours long with great music and fun people. Please\, call to book your spot 845 358 7031 or better yet visit us in person.
URL:https://visitnyack.org/event/tango-nuevo-and-cha-cha/2028-02-23/
LOCATION:Nyack\, NY\, USA
CATEGORIES:Dance,Featured
ATTACH;FMTTYPE=image/png:https://visitnyack.org/wp-content/uploads/2026/01/Screenshot-2025-10-10-at-8.55.12-PM.png
END:VEVENT
BEGIN:VEVENT
DTSTART;TZID=America/New_York:20280224T110000
DTEND;TZID=America/New_York:20280224T121500
DTSTAMP:20260425T092913
CREATED:20260120T212245Z
LAST-MODIFIED:20260120T212245Z
UID:10048837-1835002800-1835007300@visitnyack.org
SUMMARY:Work Out and Dance in Nyack
DESCRIPTION:30 minutes of full body work out and 45 minutes of choreographed dance routine. Every month we teach a new style of dance. Learn to dance Salsa\, Hip Hop\, Modern\, Belly Dance\, Bollywood\, Latin Mix\, Heels and many more.
URL:https://visitnyack.org/event/work-out-and-dance-in-nyack/2028-02-24/
LOCATION:Nyack\, NY\, USA
CATEGORIES:Dance
ATTACH;FMTTYPE=image/png:https://visitnyack.org/wp-content/uploads/2026/01/Screenshot-2025-08-16-at-11.22.00-AM.png
END:VEVENT
BEGIN:VEVENT
DTSTART;TZID=America/New_York:20280227T110000
DTEND;TZID=America/New_York:20280227T121500
DTSTAMP:20260425T092913
CREATED:20260120T212245Z
LAST-MODIFIED:20260120T212245Z
UID:10048838-1835262000-1835266500@visitnyack.org
SUMMARY:Work Out and Dance in Nyack
DESCRIPTION:30 minutes of full body work out and 45 minutes of choreographed dance routine. Every month we teach a new style of dance. Learn to dance Salsa\, Hip Hop\, Modern\, Belly Dance\, Bollywood\, Latin Mix\, Heels and many more.
URL:https://visitnyack.org/event/work-out-and-dance-in-nyack/2028-02-27/
LOCATION:Nyack\, NY\, USA
CATEGORIES:Dance
ATTACH;FMTTYPE=image/png:https://visitnyack.org/wp-content/uploads/2026/01/Screenshot-2025-08-16-at-11.22.00-AM.png
END:VEVENT
END:VCALENDAR