BEGIN:VCALENDAR
VERSION:2.0
PRODID:-// Visit Nyack - ECPv6.15.15//NONSGML v1.0//EN
CALSCALE:GREGORIAN
METHOD:PUBLISH
X-WR-CALNAME: Visit Nyack
X-ORIGINAL-URL:https://visitnyack.org
X-WR-CALDESC:Events for  Visit Nyack
REFRESH-INTERVAL;VALUE=DURATION:PT1H
X-Robots-Tag:noindex
X-PUBLISHED-TTL:PT1H
BEGIN:VTIMEZONE
TZID:America/New_York
BEGIN:DAYLIGHT
TZOFFSETFROM:-0500
TZOFFSETTO:-0400
TZNAME:EDT
DTSTART:20270314T070000
END:DAYLIGHT
BEGIN:STANDARD
TZOFFSETFROM:-0400
TZOFFSETTO:-0500
TZNAME:EST
DTSTART:20271107T060000
END:STANDARD
BEGIN:DAYLIGHT
TZOFFSETFROM:-0500
TZOFFSETTO:-0400
TZNAME:EDT
DTSTART:20280312T070000
END:DAYLIGHT
BEGIN:STANDARD
TZOFFSETFROM:-0400
TZOFFSETTO:-0500
TZNAME:EST
DTSTART:20281105T060000
END:STANDARD
BEGIN:DAYLIGHT
TZOFFSETFROM:-0500
TZOFFSETTO:-0400
TZNAME:EDT
DTSTART:20290311T070000
END:DAYLIGHT
BEGIN:STANDARD
TZOFFSETFROM:-0400
TZOFFSETTO:-0500
TZNAME:EST
DTSTART:20291104T060000
END:STANDARD
END:VTIMEZONE
BEGIN:VEVENT
DTSTART;TZID=America/New_York:20280802T190000
DTEND;TZID=America/New_York:20280802T210000
DTSTAMP:20260425T185956
CREATED:20260120T212333Z
LAST-MODIFIED:20260120T212333Z
UID:10048488-1848855600-1848862800@visitnyack.org
SUMMARY:Tango Nuevo and Cha Cha
DESCRIPTION:We teach Tango Nuevo\, Cha Cha and Basics of Salsa every Wednesday from 7PM-9PM. We have two instructors Victor and Viktoriia teaching in a beautiful space of Gagliardi Dance Studio. The classes are two hours long with great music and fun people. Please\, call to book your spot 845 358 7031 or better yet visit us in person.
URL:https://visitnyack.org/event/tango-nuevo-and-cha-cha/2028-08-02/
LOCATION:Nyack\, NY\, USA
CATEGORIES:Dance,Featured
ATTACH;FMTTYPE=image/png:https://visitnyack.org/wp-content/uploads/2026/01/Screenshot-2025-10-10-at-8.55.12-PM.png
END:VEVENT
BEGIN:VEVENT
DTSTART;TZID=America/New_York:20280803T110000
DTEND;TZID=America/New_York:20280803T121500
DTSTAMP:20260425T185956
CREATED:20260120T212245Z
LAST-MODIFIED:20260120T212245Z
UID:10048883-1848913200-1848917700@visitnyack.org
SUMMARY:Work Out and Dance in Nyack
DESCRIPTION:30 minutes of full body work out and 45 minutes of choreographed dance routine. Every month we teach a new style of dance. Learn to dance Salsa\, Hip Hop\, Modern\, Belly Dance\, Bollywood\, Latin Mix\, Heels and many more.
URL:https://visitnyack.org/event/work-out-and-dance-in-nyack/2028-08-03/
LOCATION:Nyack\, NY\, USA
CATEGORIES:Dance
ATTACH;FMTTYPE=image/png:https://visitnyack.org/wp-content/uploads/2026/01/Screenshot-2025-08-16-at-11.22.00-AM.png
END:VEVENT
BEGIN:VEVENT
DTSTART;TZID=America/New_York:20280806T110000
DTEND;TZID=America/New_York:20280806T121500
DTSTAMP:20260425T185956
CREATED:20260120T212245Z
LAST-MODIFIED:20260120T212245Z
UID:10048884-1849172400-1849176900@visitnyack.org
SUMMARY:Work Out and Dance in Nyack
DESCRIPTION:30 minutes of full body work out and 45 minutes of choreographed dance routine. Every month we teach a new style of dance. Learn to dance Salsa\, Hip Hop\, Modern\, Belly Dance\, Bollywood\, Latin Mix\, Heels and many more.
URL:https://visitnyack.org/event/work-out-and-dance-in-nyack/2028-08-06/
LOCATION:Nyack\, NY\, USA
CATEGORIES:Dance
ATTACH;FMTTYPE=image/png:https://visitnyack.org/wp-content/uploads/2026/01/Screenshot-2025-08-16-at-11.22.00-AM.png
END:VEVENT
BEGIN:VEVENT
DTSTART;TZID=America/New_York:20280809T190000
DTEND;TZID=America/New_York:20280809T210000
DTSTAMP:20260425T185957
CREATED:20260120T212333Z
LAST-MODIFIED:20260120T212333Z
UID:10048489-1849460400-1849467600@visitnyack.org
SUMMARY:Tango Nuevo and Cha Cha
DESCRIPTION:We teach Tango Nuevo\, Cha Cha and Basics of Salsa every Wednesday from 7PM-9PM. We have two instructors Victor and Viktoriia teaching in a beautiful space of Gagliardi Dance Studio. The classes are two hours long with great music and fun people. Please\, call to book your spot 845 358 7031 or better yet visit us in person.
URL:https://visitnyack.org/event/tango-nuevo-and-cha-cha/2028-08-09/
LOCATION:Nyack\, NY\, USA
CATEGORIES:Dance,Featured
ATTACH;FMTTYPE=image/png:https://visitnyack.org/wp-content/uploads/2026/01/Screenshot-2025-10-10-at-8.55.12-PM.png
END:VEVENT
BEGIN:VEVENT
DTSTART;TZID=America/New_York:20280810T110000
DTEND;TZID=America/New_York:20280810T121500
DTSTAMP:20260425T185957
CREATED:20260120T212245Z
LAST-MODIFIED:20260120T212245Z
UID:10048885-1849518000-1849522500@visitnyack.org
SUMMARY:Work Out and Dance in Nyack
DESCRIPTION:30 minutes of full body work out and 45 minutes of choreographed dance routine. Every month we teach a new style of dance. Learn to dance Salsa\, Hip Hop\, Modern\, Belly Dance\, Bollywood\, Latin Mix\, Heels and many more.
URL:https://visitnyack.org/event/work-out-and-dance-in-nyack/2028-08-10/
LOCATION:Nyack\, NY\, USA
CATEGORIES:Dance
ATTACH;FMTTYPE=image/png:https://visitnyack.org/wp-content/uploads/2026/01/Screenshot-2025-08-16-at-11.22.00-AM.png
END:VEVENT
BEGIN:VEVENT
DTSTART;TZID=America/New_York:20280813T110000
DTEND;TZID=America/New_York:20280813T121500
DTSTAMP:20260425T185957
CREATED:20260120T212245Z
LAST-MODIFIED:20260120T212245Z
UID:10048886-1849777200-1849781700@visitnyack.org
SUMMARY:Work Out and Dance in Nyack
DESCRIPTION:30 minutes of full body work out and 45 minutes of choreographed dance routine. Every month we teach a new style of dance. Learn to dance Salsa\, Hip Hop\, Modern\, Belly Dance\, Bollywood\, Latin Mix\, Heels and many more.
URL:https://visitnyack.org/event/work-out-and-dance-in-nyack/2028-08-13/
LOCATION:Nyack\, NY\, USA
CATEGORIES:Dance
ATTACH;FMTTYPE=image/png:https://visitnyack.org/wp-content/uploads/2026/01/Screenshot-2025-08-16-at-11.22.00-AM.png
END:VEVENT
BEGIN:VEVENT
DTSTART;TZID=America/New_York:20280816T190000
DTEND;TZID=America/New_York:20280816T210000
DTSTAMP:20260425T185957
CREATED:20260120T212333Z
LAST-MODIFIED:20260120T212333Z
UID:10048490-1850065200-1850072400@visitnyack.org
SUMMARY:Tango Nuevo and Cha Cha
DESCRIPTION:We teach Tango Nuevo\, Cha Cha and Basics of Salsa every Wednesday from 7PM-9PM. We have two instructors Victor and Viktoriia teaching in a beautiful space of Gagliardi Dance Studio. The classes are two hours long with great music and fun people. Please\, call to book your spot 845 358 7031 or better yet visit us in person.
URL:https://visitnyack.org/event/tango-nuevo-and-cha-cha/2028-08-16/
LOCATION:Nyack\, NY\, USA
CATEGORIES:Dance,Featured
ATTACH;FMTTYPE=image/png:https://visitnyack.org/wp-content/uploads/2026/01/Screenshot-2025-10-10-at-8.55.12-PM.png
END:VEVENT
BEGIN:VEVENT
DTSTART;TZID=America/New_York:20280817T110000
DTEND;TZID=America/New_York:20280817T121500
DTSTAMP:20260425T185957
CREATED:20260120T212245Z
LAST-MODIFIED:20260120T212245Z
UID:10048887-1850122800-1850127300@visitnyack.org
SUMMARY:Work Out and Dance in Nyack
DESCRIPTION:30 minutes of full body work out and 45 minutes of choreographed dance routine. Every month we teach a new style of dance. Learn to dance Salsa\, Hip Hop\, Modern\, Belly Dance\, Bollywood\, Latin Mix\, Heels and many more.
URL:https://visitnyack.org/event/work-out-and-dance-in-nyack/2028-08-17/
LOCATION:Nyack\, NY\, USA
CATEGORIES:Dance
ATTACH;FMTTYPE=image/png:https://visitnyack.org/wp-content/uploads/2026/01/Screenshot-2025-08-16-at-11.22.00-AM.png
END:VEVENT
BEGIN:VEVENT
DTSTART;TZID=America/New_York:20280820T110000
DTEND;TZID=America/New_York:20280820T121500
DTSTAMP:20260425T185957
CREATED:20260120T212245Z
LAST-MODIFIED:20260120T212245Z
UID:10048888-1850382000-1850386500@visitnyack.org
SUMMARY:Work Out and Dance in Nyack
DESCRIPTION:30 minutes of full body work out and 45 minutes of choreographed dance routine. Every month we teach a new style of dance. Learn to dance Salsa\, Hip Hop\, Modern\, Belly Dance\, Bollywood\, Latin Mix\, Heels and many more.
URL:https://visitnyack.org/event/work-out-and-dance-in-nyack/2028-08-20/
LOCATION:Nyack\, NY\, USA
CATEGORIES:Dance
ATTACH;FMTTYPE=image/png:https://visitnyack.org/wp-content/uploads/2026/01/Screenshot-2025-08-16-at-11.22.00-AM.png
END:VEVENT
BEGIN:VEVENT
DTSTART;TZID=America/New_York:20280823T190000
DTEND;TZID=America/New_York:20280823T210000
DTSTAMP:20260425T185957
CREATED:20260120T212333Z
LAST-MODIFIED:20260120T212333Z
UID:10048491-1850670000-1850677200@visitnyack.org
SUMMARY:Tango Nuevo and Cha Cha
DESCRIPTION:We teach Tango Nuevo\, Cha Cha and Basics of Salsa every Wednesday from 7PM-9PM. We have two instructors Victor and Viktoriia teaching in a beautiful space of Gagliardi Dance Studio. The classes are two hours long with great music and fun people. Please\, call to book your spot 845 358 7031 or better yet visit us in person.
URL:https://visitnyack.org/event/tango-nuevo-and-cha-cha/2028-08-23/
LOCATION:Nyack\, NY\, USA
CATEGORIES:Dance,Featured
ATTACH;FMTTYPE=image/png:https://visitnyack.org/wp-content/uploads/2026/01/Screenshot-2025-10-10-at-8.55.12-PM.png
END:VEVENT
BEGIN:VEVENT
DTSTART;TZID=America/New_York:20280824T110000
DTEND;TZID=America/New_York:20280824T121500
DTSTAMP:20260425T185957
CREATED:20260120T212245Z
LAST-MODIFIED:20260120T212245Z
UID:10048889-1850727600-1850732100@visitnyack.org
SUMMARY:Work Out and Dance in Nyack
DESCRIPTION:30 minutes of full body work out and 45 minutes of choreographed dance routine. Every month we teach a new style of dance. Learn to dance Salsa\, Hip Hop\, Modern\, Belly Dance\, Bollywood\, Latin Mix\, Heels and many more.
URL:https://visitnyack.org/event/work-out-and-dance-in-nyack/2028-08-24/
LOCATION:Nyack\, NY\, USA
CATEGORIES:Dance
ATTACH;FMTTYPE=image/png:https://visitnyack.org/wp-content/uploads/2026/01/Screenshot-2025-08-16-at-11.22.00-AM.png
END:VEVENT
BEGIN:VEVENT
DTSTART;TZID=America/New_York:20280827T110000
DTEND;TZID=America/New_York:20280827T121500
DTSTAMP:20260425T185957
CREATED:20260120T212245Z
LAST-MODIFIED:20260120T212245Z
UID:10048890-1850986800-1850991300@visitnyack.org
SUMMARY:Work Out and Dance in Nyack
DESCRIPTION:30 minutes of full body work out and 45 minutes of choreographed dance routine. Every month we teach a new style of dance. Learn to dance Salsa\, Hip Hop\, Modern\, Belly Dance\, Bollywood\, Latin Mix\, Heels and many more.
URL:https://visitnyack.org/event/work-out-and-dance-in-nyack/2028-08-27/
LOCATION:Nyack\, NY\, USA
CATEGORIES:Dance
ATTACH;FMTTYPE=image/png:https://visitnyack.org/wp-content/uploads/2026/01/Screenshot-2025-08-16-at-11.22.00-AM.png
END:VEVENT
BEGIN:VEVENT
DTSTART;TZID=America/New_York:20280830T190000
DTEND;TZID=America/New_York:20280830T210000
DTSTAMP:20260425T185957
CREATED:20260120T212333Z
LAST-MODIFIED:20260120T212333Z
UID:10048492-1851274800-1851282000@visitnyack.org
SUMMARY:Tango Nuevo and Cha Cha
DESCRIPTION:We teach Tango Nuevo\, Cha Cha and Basics of Salsa every Wednesday from 7PM-9PM. We have two instructors Victor and Viktoriia teaching in a beautiful space of Gagliardi Dance Studio. The classes are two hours long with great music and fun people. Please\, call to book your spot 845 358 7031 or better yet visit us in person.
URL:https://visitnyack.org/event/tango-nuevo-and-cha-cha/2028-08-30/
LOCATION:Nyack\, NY\, USA
CATEGORIES:Dance,Featured
ATTACH;FMTTYPE=image/png:https://visitnyack.org/wp-content/uploads/2026/01/Screenshot-2025-10-10-at-8.55.12-PM.png
END:VEVENT
BEGIN:VEVENT
DTSTART;TZID=America/New_York:20280831T110000
DTEND;TZID=America/New_York:20280831T121500
DTSTAMP:20260425T185957
CREATED:20260120T212245Z
LAST-MODIFIED:20260120T212245Z
UID:10048891-1851332400-1851336900@visitnyack.org
SUMMARY:Work Out and Dance in Nyack
DESCRIPTION:30 minutes of full body work out and 45 minutes of choreographed dance routine. Every month we teach a new style of dance. Learn to dance Salsa\, Hip Hop\, Modern\, Belly Dance\, Bollywood\, Latin Mix\, Heels and many more.
URL:https://visitnyack.org/event/work-out-and-dance-in-nyack/2028-08-31/
LOCATION:Nyack\, NY\, USA
CATEGORIES:Dance
ATTACH;FMTTYPE=image/png:https://visitnyack.org/wp-content/uploads/2026/01/Screenshot-2025-08-16-at-11.22.00-AM.png
END:VEVENT
END:VCALENDAR