BEGIN:VCALENDAR
VERSION:2.0
PRODID:-// Visit Nyack - ECPv6.15.15//NONSGML v1.0//EN
CALSCALE:GREGORIAN
METHOD:PUBLISH
X-WR-CALNAME: Visit Nyack
X-ORIGINAL-URL:https://visitnyack.org
X-WR-CALDESC:Events for  Visit Nyack
REFRESH-INTERVAL;VALUE=DURATION:PT1H
X-Robots-Tag:noindex
X-PUBLISHED-TTL:PT1H
BEGIN:VTIMEZONE
TZID:America/New_York
BEGIN:DAYLIGHT
TZOFFSETFROM:-0500
TZOFFSETTO:-0400
TZNAME:EDT
DTSTART:20270314T070000
END:DAYLIGHT
BEGIN:STANDARD
TZOFFSETFROM:-0400
TZOFFSETTO:-0500
TZNAME:EST
DTSTART:20271107T060000
END:STANDARD
BEGIN:DAYLIGHT
TZOFFSETFROM:-0500
TZOFFSETTO:-0400
TZNAME:EDT
DTSTART:20280312T070000
END:DAYLIGHT
BEGIN:STANDARD
TZOFFSETFROM:-0400
TZOFFSETTO:-0500
TZNAME:EST
DTSTART:20281105T060000
END:STANDARD
BEGIN:DAYLIGHT
TZOFFSETFROM:-0500
TZOFFSETTO:-0400
TZNAME:EDT
DTSTART:20290311T070000
END:DAYLIGHT
BEGIN:STANDARD
TZOFFSETFROM:-0400
TZOFFSETTO:-0500
TZNAME:EST
DTSTART:20291104T060000
END:STANDARD
END:VTIMEZONE
BEGIN:VEVENT
DTSTART;TZID=America/New_York:20281001T110000
DTEND;TZID=America/New_York:20281001T121500
DTSTAMP:20260425T221210
CREATED:20260120T212245Z
LAST-MODIFIED:20260120T212245Z
UID:10048900-1854010800-1854015300@visitnyack.org
SUMMARY:Work Out and Dance in Nyack
DESCRIPTION:30 minutes of full body work out and 45 minutes of choreographed dance routine. Every month we teach a new style of dance. Learn to dance Salsa\, Hip Hop\, Modern\, Belly Dance\, Bollywood\, Latin Mix\, Heels and many more.
URL:https://visitnyack.org/event/work-out-and-dance-in-nyack/2028-10-01/
LOCATION:Nyack\, NY\, USA
CATEGORIES:Dance
ATTACH;FMTTYPE=image/png:https://visitnyack.org/wp-content/uploads/2026/01/Screenshot-2025-08-16-at-11.22.00-AM.png
END:VEVENT
BEGIN:VEVENT
DTSTART;TZID=America/New_York:20281004T190000
DTEND;TZID=America/New_York:20281004T210000
DTSTAMP:20260425T221210
CREATED:20260120T212333Z
LAST-MODIFIED:20260120T212333Z
UID:10048497-1854298800-1854306000@visitnyack.org
SUMMARY:Tango Nuevo and Cha Cha
DESCRIPTION:We teach Tango Nuevo\, Cha Cha and Basics of Salsa every Wednesday from 7PM-9PM. We have two instructors Victor and Viktoriia teaching in a beautiful space of Gagliardi Dance Studio. The classes are two hours long with great music and fun people. Please\, call to book your spot 845 358 7031 or better yet visit us in person.
URL:https://visitnyack.org/event/tango-nuevo-and-cha-cha/2028-10-04/
LOCATION:Nyack\, NY\, USA
CATEGORIES:Dance,Featured
ATTACH;FMTTYPE=image/png:https://visitnyack.org/wp-content/uploads/2026/01/Screenshot-2025-10-10-at-8.55.12-PM.png
END:VEVENT
BEGIN:VEVENT
DTSTART;TZID=America/New_York:20281005T110000
DTEND;TZID=America/New_York:20281005T121500
DTSTAMP:20260425T221210
CREATED:20260120T212245Z
LAST-MODIFIED:20260120T212245Z
UID:10048901-1854356400-1854360900@visitnyack.org
SUMMARY:Work Out and Dance in Nyack
DESCRIPTION:30 minutes of full body work out and 45 minutes of choreographed dance routine. Every month we teach a new style of dance. Learn to dance Salsa\, Hip Hop\, Modern\, Belly Dance\, Bollywood\, Latin Mix\, Heels and many more.
URL:https://visitnyack.org/event/work-out-and-dance-in-nyack/2028-10-05/
LOCATION:Nyack\, NY\, USA
CATEGORIES:Dance
ATTACH;FMTTYPE=image/png:https://visitnyack.org/wp-content/uploads/2026/01/Screenshot-2025-08-16-at-11.22.00-AM.png
END:VEVENT
BEGIN:VEVENT
DTSTART;TZID=America/New_York:20281008T110000
DTEND;TZID=America/New_York:20281008T121500
DTSTAMP:20260425T221210
CREATED:20260120T212245Z
LAST-MODIFIED:20260120T212245Z
UID:10048902-1854615600-1854620100@visitnyack.org
SUMMARY:Work Out and Dance in Nyack
DESCRIPTION:30 minutes of full body work out and 45 minutes of choreographed dance routine. Every month we teach a new style of dance. Learn to dance Salsa\, Hip Hop\, Modern\, Belly Dance\, Bollywood\, Latin Mix\, Heels and many more.
URL:https://visitnyack.org/event/work-out-and-dance-in-nyack/2028-10-08/
LOCATION:Nyack\, NY\, USA
CATEGORIES:Dance
ATTACH;FMTTYPE=image/png:https://visitnyack.org/wp-content/uploads/2026/01/Screenshot-2025-08-16-at-11.22.00-AM.png
END:VEVENT
BEGIN:VEVENT
DTSTART;TZID=America/New_York:20281011T190000
DTEND;TZID=America/New_York:20281011T210000
DTSTAMP:20260425T221210
CREATED:20260120T212333Z
LAST-MODIFIED:20260120T212333Z
UID:10048498-1854903600-1854910800@visitnyack.org
SUMMARY:Tango Nuevo and Cha Cha
DESCRIPTION:We teach Tango Nuevo\, Cha Cha and Basics of Salsa every Wednesday from 7PM-9PM. We have two instructors Victor and Viktoriia teaching in a beautiful space of Gagliardi Dance Studio. The classes are two hours long with great music and fun people. Please\, call to book your spot 845 358 7031 or better yet visit us in person.
URL:https://visitnyack.org/event/tango-nuevo-and-cha-cha/2028-10-11/
LOCATION:Nyack\, NY\, USA
CATEGORIES:Dance,Featured
ATTACH;FMTTYPE=image/png:https://visitnyack.org/wp-content/uploads/2026/01/Screenshot-2025-10-10-at-8.55.12-PM.png
END:VEVENT
BEGIN:VEVENT
DTSTART;TZID=America/New_York:20281012T110000
DTEND;TZID=America/New_York:20281012T121500
DTSTAMP:20260425T221210
CREATED:20260120T212245Z
LAST-MODIFIED:20260120T212245Z
UID:10048903-1854961200-1854965700@visitnyack.org
SUMMARY:Work Out and Dance in Nyack
DESCRIPTION:30 minutes of full body work out and 45 minutes of choreographed dance routine. Every month we teach a new style of dance. Learn to dance Salsa\, Hip Hop\, Modern\, Belly Dance\, Bollywood\, Latin Mix\, Heels and many more.
URL:https://visitnyack.org/event/work-out-and-dance-in-nyack/2028-10-12/
LOCATION:Nyack\, NY\, USA
CATEGORIES:Dance
ATTACH;FMTTYPE=image/png:https://visitnyack.org/wp-content/uploads/2026/01/Screenshot-2025-08-16-at-11.22.00-AM.png
END:VEVENT
BEGIN:VEVENT
DTSTART;TZID=America/New_York:20281015T110000
DTEND;TZID=America/New_York:20281015T121500
DTSTAMP:20260425T221210
CREATED:20260120T212245Z
LAST-MODIFIED:20260120T212245Z
UID:10048904-1855220400-1855224900@visitnyack.org
SUMMARY:Work Out and Dance in Nyack
DESCRIPTION:30 minutes of full body work out and 45 minutes of choreographed dance routine. Every month we teach a new style of dance. Learn to dance Salsa\, Hip Hop\, Modern\, Belly Dance\, Bollywood\, Latin Mix\, Heels and many more.
URL:https://visitnyack.org/event/work-out-and-dance-in-nyack/2028-10-15/
LOCATION:Nyack\, NY\, USA
CATEGORIES:Dance
ATTACH;FMTTYPE=image/png:https://visitnyack.org/wp-content/uploads/2026/01/Screenshot-2025-08-16-at-11.22.00-AM.png
END:VEVENT
BEGIN:VEVENT
DTSTART;TZID=America/New_York:20281018T190000
DTEND;TZID=America/New_York:20281018T210000
DTSTAMP:20260425T221210
CREATED:20260120T212333Z
LAST-MODIFIED:20260120T212333Z
UID:10048499-1855508400-1855515600@visitnyack.org
SUMMARY:Tango Nuevo and Cha Cha
DESCRIPTION:We teach Tango Nuevo\, Cha Cha and Basics of Salsa every Wednesday from 7PM-9PM. We have two instructors Victor and Viktoriia teaching in a beautiful space of Gagliardi Dance Studio. The classes are two hours long with great music and fun people. Please\, call to book your spot 845 358 7031 or better yet visit us in person.
URL:https://visitnyack.org/event/tango-nuevo-and-cha-cha/2028-10-18/
LOCATION:Nyack\, NY\, USA
CATEGORIES:Dance,Featured
ATTACH;FMTTYPE=image/png:https://visitnyack.org/wp-content/uploads/2026/01/Screenshot-2025-10-10-at-8.55.12-PM.png
END:VEVENT
BEGIN:VEVENT
DTSTART;TZID=America/New_York:20281019T110000
DTEND;TZID=America/New_York:20281019T121500
DTSTAMP:20260425T221210
CREATED:20260120T212245Z
LAST-MODIFIED:20260120T212245Z
UID:10048905-1855566000-1855570500@visitnyack.org
SUMMARY:Work Out and Dance in Nyack
DESCRIPTION:30 minutes of full body work out and 45 minutes of choreographed dance routine. Every month we teach a new style of dance. Learn to dance Salsa\, Hip Hop\, Modern\, Belly Dance\, Bollywood\, Latin Mix\, Heels and many more.
URL:https://visitnyack.org/event/work-out-and-dance-in-nyack/2028-10-19/
LOCATION:Nyack\, NY\, USA
CATEGORIES:Dance
ATTACH;FMTTYPE=image/png:https://visitnyack.org/wp-content/uploads/2026/01/Screenshot-2025-08-16-at-11.22.00-AM.png
END:VEVENT
BEGIN:VEVENT
DTSTART;TZID=America/New_York:20281022T110000
DTEND;TZID=America/New_York:20281022T121500
DTSTAMP:20260425T221210
CREATED:20260120T212245Z
LAST-MODIFIED:20260120T212245Z
UID:10048906-1855825200-1855829700@visitnyack.org
SUMMARY:Work Out and Dance in Nyack
DESCRIPTION:30 minutes of full body work out and 45 minutes of choreographed dance routine. Every month we teach a new style of dance. Learn to dance Salsa\, Hip Hop\, Modern\, Belly Dance\, Bollywood\, Latin Mix\, Heels and many more.
URL:https://visitnyack.org/event/work-out-and-dance-in-nyack/2028-10-22/
LOCATION:Nyack\, NY\, USA
CATEGORIES:Dance
ATTACH;FMTTYPE=image/png:https://visitnyack.org/wp-content/uploads/2026/01/Screenshot-2025-08-16-at-11.22.00-AM.png
END:VEVENT
BEGIN:VEVENT
DTSTART;TZID=America/New_York:20281025T190000
DTEND;TZID=America/New_York:20281025T210000
DTSTAMP:20260425T221210
CREATED:20260120T212333Z
LAST-MODIFIED:20260120T212333Z
UID:10048500-1856113200-1856120400@visitnyack.org
SUMMARY:Tango Nuevo and Cha Cha
DESCRIPTION:We teach Tango Nuevo\, Cha Cha and Basics of Salsa every Wednesday from 7PM-9PM. We have two instructors Victor and Viktoriia teaching in a beautiful space of Gagliardi Dance Studio. The classes are two hours long with great music and fun people. Please\, call to book your spot 845 358 7031 or better yet visit us in person.
URL:https://visitnyack.org/event/tango-nuevo-and-cha-cha/2028-10-25/
LOCATION:Nyack\, NY\, USA
CATEGORIES:Dance,Featured
ATTACH;FMTTYPE=image/png:https://visitnyack.org/wp-content/uploads/2026/01/Screenshot-2025-10-10-at-8.55.12-PM.png
END:VEVENT
BEGIN:VEVENT
DTSTART;TZID=America/New_York:20281026T110000
DTEND;TZID=America/New_York:20281026T121500
DTSTAMP:20260425T221210
CREATED:20260120T212245Z
LAST-MODIFIED:20260120T212245Z
UID:10048907-1856170800-1856175300@visitnyack.org
SUMMARY:Work Out and Dance in Nyack
DESCRIPTION:30 minutes of full body work out and 45 minutes of choreographed dance routine. Every month we teach a new style of dance. Learn to dance Salsa\, Hip Hop\, Modern\, Belly Dance\, Bollywood\, Latin Mix\, Heels and many more.
URL:https://visitnyack.org/event/work-out-and-dance-in-nyack/2028-10-26/
LOCATION:Nyack\, NY\, USA
CATEGORIES:Dance
ATTACH;FMTTYPE=image/png:https://visitnyack.org/wp-content/uploads/2026/01/Screenshot-2025-08-16-at-11.22.00-AM.png
END:VEVENT
BEGIN:VEVENT
DTSTART;TZID=America/New_York:20281029T110000
DTEND;TZID=America/New_York:20281029T121500
DTSTAMP:20260425T221210
CREATED:20260120T212245Z
LAST-MODIFIED:20260120T212245Z
UID:10048908-1856430000-1856434500@visitnyack.org
SUMMARY:Work Out and Dance in Nyack
DESCRIPTION:30 minutes of full body work out and 45 minutes of choreographed dance routine. Every month we teach a new style of dance. Learn to dance Salsa\, Hip Hop\, Modern\, Belly Dance\, Bollywood\, Latin Mix\, Heels and many more.
URL:https://visitnyack.org/event/work-out-and-dance-in-nyack/2028-10-29/
LOCATION:Nyack\, NY\, USA
CATEGORIES:Dance
ATTACH;FMTTYPE=image/png:https://visitnyack.org/wp-content/uploads/2026/01/Screenshot-2025-08-16-at-11.22.00-AM.png
END:VEVENT
END:VCALENDAR