BEGIN:VCALENDAR
VERSION:2.0
PRODID:-// Visit Nyack - ECPv6.15.15//NONSGML v1.0//EN
CALSCALE:GREGORIAN
METHOD:PUBLISH
X-WR-CALNAME: Visit Nyack
X-ORIGINAL-URL:https://visitnyack.org
X-WR-CALDESC:Events for  Visit Nyack
REFRESH-INTERVAL;VALUE=DURATION:PT1H
X-Robots-Tag:noindex
X-PUBLISHED-TTL:PT1H
BEGIN:VTIMEZONE
TZID:America/New_York
BEGIN:DAYLIGHT
TZOFFSETFROM:-0500
TZOFFSETTO:-0400
TZNAME:EDT
DTSTART:20250309T070000
END:DAYLIGHT
BEGIN:STANDARD
TZOFFSETFROM:-0400
TZOFFSETTO:-0500
TZNAME:EST
DTSTART:20251102T060000
END:STANDARD
BEGIN:DAYLIGHT
TZOFFSETFROM:-0500
TZOFFSETTO:-0400
TZNAME:EDT
DTSTART:20260308T070000
END:DAYLIGHT
BEGIN:STANDARD
TZOFFSETFROM:-0400
TZOFFSETTO:-0500
TZNAME:EST
DTSTART:20261101T060000
END:STANDARD
BEGIN:DAYLIGHT
TZOFFSETFROM:-0500
TZOFFSETTO:-0400
TZNAME:EDT
DTSTART:20270314T070000
END:DAYLIGHT
BEGIN:STANDARD
TZOFFSETFROM:-0400
TZOFFSETTO:-0500
TZNAME:EST
DTSTART:20271107T060000
END:STANDARD
END:VTIMEZONE
BEGIN:VEVENT
DTSTART;TZID=America/New_York:20260423T110000
DTEND;TZID=America/New_York:20260423T121500
DTSTAMP:20260423T224535
CREATED:20260120T212245Z
LAST-MODIFIED:20260120T212245Z
UID:10048645-1776942000-1776946500@visitnyack.org
SUMMARY:Work Out and Dance in Nyack
DESCRIPTION:30 minutes of full body work out and 45 minutes of choreographed dance routine. Every month we teach a new style of dance. Learn to dance Salsa\, Hip Hop\, Modern\, Belly Dance\, Bollywood\, Latin Mix\, Heels and many more.
URL:https://visitnyack.org/event/work-out-and-dance-in-nyack/2026-04-23/
LOCATION:Nyack\, NY\, USA
CATEGORIES:Dance
ATTACH;FMTTYPE=image/png:https://visitnyack.org/wp-content/uploads/2026/01/Screenshot-2025-08-16-at-11.22.00-AM.png
END:VEVENT
END:VCALENDAR