BEGIN:VCALENDAR
VERSION:2.0
PRODID:-// Visit Nyack - ECPv6.15.15//NONSGML v1.0//EN
CALSCALE:GREGORIAN
METHOD:PUBLISH
X-WR-CALNAME: Visit Nyack
X-ORIGINAL-URL:https://visitnyack.org
X-WR-CALDESC:Events for  Visit Nyack
REFRESH-INTERVAL;VALUE=DURATION:PT1H
X-Robots-Tag:noindex
X-PUBLISHED-TTL:PT1H
BEGIN:VTIMEZONE
TZID:America/New_York
BEGIN:DAYLIGHT
TZOFFSETFROM:-0500
TZOFFSETTO:-0400
TZNAME:EDT
DTSTART:20250309T070000
END:DAYLIGHT
BEGIN:STANDARD
TZOFFSETFROM:-0400
TZOFFSETTO:-0500
TZNAME:EST
DTSTART:20251102T060000
END:STANDARD
BEGIN:DAYLIGHT
TZOFFSETFROM:-0500
TZOFFSETTO:-0400
TZNAME:EDT
DTSTART:20260308T070000
END:DAYLIGHT
BEGIN:STANDARD
TZOFFSETFROM:-0400
TZOFFSETTO:-0500
TZNAME:EST
DTSTART:20261101T060000
END:STANDARD
BEGIN:DAYLIGHT
TZOFFSETFROM:-0500
TZOFFSETTO:-0400
TZNAME:EDT
DTSTART:20270314T070000
END:DAYLIGHT
BEGIN:STANDARD
TZOFFSETFROM:-0400
TZOFFSETTO:-0500
TZNAME:EST
DTSTART:20271107T060000
END:STANDARD
END:VTIMEZONE
BEGIN:VEVENT
DTSTART;TZID=America/New_York:20260311T200000
DTEND;TZID=America/New_York:20260311T220000
DTSTAMP:20260424T013458
CREATED:20260218T220532Z
LAST-MODIFIED:20260218T220532Z
UID:10049174-1773259200-1773266400@visitnyack.org
SUMMARY:Film Screening - You Got Gold: A Celebration of John Prine
DESCRIPTION:Prine\, widely celebrated as one of history’s great songwriters\, captivated millions of fans and earned the admiration of icons such as Bonnie Raitt\, Brandi Carlile\, Tyler Childers\, Lucinda Williams\, Dwight Yoakam\, Jason Isbell\, and Bob Weir\, who\, amongst many others\, are featured here performing at this special celebration of Prine’s life and music.
URL:https://visitnyack.org/event/film-screening-you-got-gold-a-celebration-of-john-prine/
LOCATION:Nyack Center\,S Broadway & Depew Ave\, Nyack\, NY 10960\, USA\, United States
CATEGORIES:Featured,Film
ATTACH;FMTTYPE=image/jpeg:https://visitnyack.org/wp-content/uploads/2026/02/YGG_Theatrical_600.jpg
GEO:41.089365;-73.919534
END:VEVENT
BEGIN:VEVENT
DTSTART;TZID=America/New_York:20260325T200000
DTEND;TZID=America/New_York:20260325T220000
DTSTAMP:20260424T013458
CREATED:20260218T220831Z
LAST-MODIFIED:20260218T220831Z
UID:10049175-1774468800-1774476000@visitnyack.org
SUMMARY:Film Screening - If I Had Legs I'd Kick You
DESCRIPTION:With her life (and ceiling) crashing down around her\, Linda (Rose Byrne\, nominated for an Oscar for this role) attempts to navigate her child’s mysterious illness\, her absent husband\, a missing person\, and an increasingly hostile relationship with her therapist. With Rose Bryne\, Conan O’Brien\, 2025\, USA\, 113 minutes
URL:https://visitnyack.org/event/film-screening-if-i-had-legs-id-kick-you/
LOCATION:Nyack Center\,S Broadway & Depew Ave\, Nyack\, NY 10960\, USA\, United States
CATEGORIES:Featured,Film
ATTACH;FMTTYPE=image/jpeg:https://visitnyack.org/wp-content/uploads/2026/02/LegsPoster-600.jpg
GEO:41.089365;-73.919534
END:VEVENT
END:VCALENDAR