BEGIN:VCALENDAR
VERSION:2.0
PRODID:-// Visit Nyack - ECPv6.15.15//NONSGML v1.0//EN
CALSCALE:GREGORIAN
METHOD:PUBLISH
X-ORIGINAL-URL:https://visitnyack.org
X-WR-CALDESC:Events for  Visit Nyack
REFRESH-INTERVAL;VALUE=DURATION:PT1H
X-Robots-Tag:noindex
X-PUBLISHED-TTL:PT1H
BEGIN:VTIMEZONE
TZID:America/New_York
BEGIN:DAYLIGHT
TZOFFSETFROM:-0500
TZOFFSETTO:-0400
TZNAME:EDT
DTSTART:20250309T070000
END:DAYLIGHT
BEGIN:STANDARD
TZOFFSETFROM:-0400
TZOFFSETTO:-0500
TZNAME:EST
DTSTART:20251102T060000
END:STANDARD
BEGIN:DAYLIGHT
TZOFFSETFROM:-0500
TZOFFSETTO:-0400
TZNAME:EDT
DTSTART:20260308T070000
END:DAYLIGHT
BEGIN:STANDARD
TZOFFSETFROM:-0400
TZOFFSETTO:-0500
TZNAME:EST
DTSTART:20261101T060000
END:STANDARD
BEGIN:DAYLIGHT
TZOFFSETFROM:-0500
TZOFFSETTO:-0400
TZNAME:EDT
DTSTART:20270314T070000
END:DAYLIGHT
BEGIN:STANDARD
TZOFFSETFROM:-0400
TZOFFSETTO:-0500
TZNAME:EST
DTSTART:20271107T060000
END:STANDARD
END:VTIMEZONE
BEGIN:VEVENT
DTSTART;TZID=America/New_York:20260208T160000
DTEND;TZID=America/New_York:20260208T170000
DTSTAMP:20260424T063159
CREATED:20260107T205207Z
LAST-MODIFIED:20260107T205207Z
UID:10048349-1770566400-1770570000@visitnyack.org
SUMMARY:Songs from the Soul with Amy Azzara
DESCRIPTION:an intimate concert with NYC-based singer\, songwriter and composer Amy Azzara. A versatile and expressive artist\, Amy blends original music with influences from the jazz idiom. She’ll perform a selection of her original songs while accompanying herself on keyboard\, offering a warm\, engaging afternoon of music in a relaxed\, art-filled setting. \nSeats are limited for this performance – reserve your tickets now and secure your spot for this one-of-a-kind concert.
URL:https://visitnyack.org/event/songs-from-the-soul-with-amy-azzara/
LOCATION:90 North\, 90 N Broadway\, Nyack\, 10960
CATEGORIES:Live-Music,Music
ATTACH;FMTTYPE=image/jpeg:https://visitnyack.org/wp-content/uploads/2026/01/Amy-Azzara-concert-promo-graphic.jpg
ORGANIZER;CN="90 North":MAILTO:info@90northbroadway.com
END:VEVENT
BEGIN:VEVENT
DTSTART;TZID=America/New_York:20260219T200000
DTEND;TZID=America/New_York:20260219T220000
DTSTAMP:20260424T063159
CREATED:20260107T205235Z
LAST-MODIFIED:20260107T205235Z
UID:10048341-1771531200-1771538400@visitnyack.org
SUMMARY:Yuval Ron Ensemble: Traditional Sacred and Middle Eastern Music | award-winning composer Yuval Ron and world music artists!
DESCRIPTION:Overview\n\n\n\n\n\nSacred Hebrew music & Kabbalistic stories of healing and resilience. Award-winning oud master Yuval Ron leads this acclaimed ensemble.\n\n\n\nYuval Ron Ensemble! Live Concert\nTickets available at Eventbrite \nThursday\, February 19\, 2026 8:00 PM – 10:00 PM \nLocation: Congregation Sons of Israel\, Nyack\,k 300 North Broadway\, Nyack\, NY 10960 \nRenowned Yuval Ron and his Ensemble delight us with a concert of sacred music.\nAni Le Dodi | A Journey To The Beloved Mystical Hebrew Music and Kabbalistic stories about healing and resilience. \nAward-winning composer and master oud player Yuval Ron leads this acclaimed ensemble specializing in the sacred musical traditions of the Middle East. The group has captivated audiences at major festivals and venues worldwide. \nAn event not to be missed!
URL:https://visitnyack.org/event/yuval-ron-ensemble-traditional-sacred-and-middle-eastern-music-award-winning-composer-yuval-ron-and-world-music-artists/
LOCATION:Nyack\, NY\, USA
CATEGORIES:Live-Music
ATTACH;FMTTYPE=image/png:https://visitnyack.org/wp-content/uploads/2025/12/Screenshot-2025-12-28-at-2.54.56-PM.png
ORGANIZER;CN="CSI Nyack":MAILTO:office@csinyack.org
END:VEVENT
BEGIN:VEVENT
DTSTART;TZID=America/New_York:20260220T190000
DTEND;TZID=America/New_York:20260220T220000
DTSTAMP:20260424T063159
CREATED:20260120T213836Z
LAST-MODIFIED:20260120T213836Z
UID:10049137-1771614000-1771624800@visitnyack.org
SUMMARY:Candlelight Rock Concert: Ryan Townsend Band\, Johnny Laser\, and Live & Uplugged ( The Angel Nyack )
DESCRIPTION:Get ready to rock out with Ryan Townsend Band\, Johnny Laser\, and Live & Unplugged among the candlelight for an electrifying night of music at The Angel Nyack on Friday February\, 20th.
URL:https://visitnyack.org/event/candlelight-rock-concert-ryan-townsend-band-johnny-laser-and-live-uplugged-the-angel-nyack/
LOCATION:Nyack\, NY\, USA
CATEGORIES:enjoy-nyack,Featured,Live-Music,Music,Winter-Fun
ATTACH;FMTTYPE=image/jpeg:https://visitnyack.org/wp-content/uploads/2026/01/Candlelight-Rock-Concert_The-Angel_2.20.26.jpg
ORGANIZER;CN="RCT Music Group":MAILTO:ryantownsend@rctmusicgroup.com
END:VEVENT
BEGIN:VEVENT
DTSTART;TZID=America/New_York:20260222T160000
DTEND;TZID=America/New_York:20260222T173000
DTSTAMP:20260424T063159
CREATED:20260207T150500Z
LAST-MODIFIED:20260207T150500Z
UID:10049161-1771776000-1771781400@visitnyack.org
SUMMARY:GraceMusic presents Sputter Box
DESCRIPTION:Join us for the unforgettable Sputter Box\, an innovative clarinet\, voice\, percussion ensemble that is engaging new audiences in contemporary chamber music through their entertaining\, interdisciplinary performances.  They promise a high quality fun concert.  Com see for yourself!
URL:https://visitnyack.org/event/gracemusic-presents-sputter-box/
LOCATION:Grace Church 130 First Avenue Nyack\, NY
CATEGORIES:Family-Friendly,Live-Music,Music
ATTACH;FMTTYPE=image/jpeg:https://visitnyack.org/wp-content/uploads/2026/01/Flyers_SputterBox2.22.26.jpg
GEO:41.0934898;-73.9207017
END:VEVENT
END:VCALENDAR