BEGIN:VCALENDAR
VERSION:2.0
PRODID:-// Visit Nyack - ECPv6.15.15//NONSGML v1.0//EN
CALSCALE:GREGORIAN
METHOD:PUBLISH
X-ORIGINAL-URL:https://visitnyack.org
X-WR-CALDESC:Events for  Visit Nyack
REFRESH-INTERVAL;VALUE=DURATION:PT1H
X-Robots-Tag:noindex
X-PUBLISHED-TTL:PT1H
BEGIN:VTIMEZONE
TZID:America/New_York
BEGIN:DAYLIGHT
TZOFFSETFROM:-0500
TZOFFSETTO:-0400
TZNAME:EDT
DTSTART:20250309T070000
END:DAYLIGHT
BEGIN:STANDARD
TZOFFSETFROM:-0400
TZOFFSETTO:-0500
TZNAME:EST
DTSTART:20251102T060000
END:STANDARD
BEGIN:DAYLIGHT
TZOFFSETFROM:-0500
TZOFFSETTO:-0400
TZNAME:EDT
DTSTART:20260308T070000
END:DAYLIGHT
BEGIN:STANDARD
TZOFFSETFROM:-0400
TZOFFSETTO:-0500
TZNAME:EST
DTSTART:20261101T060000
END:STANDARD
BEGIN:DAYLIGHT
TZOFFSETFROM:-0500
TZOFFSETTO:-0400
TZNAME:EDT
DTSTART:20270314T070000
END:DAYLIGHT
BEGIN:STANDARD
TZOFFSETFROM:-0400
TZOFFSETTO:-0500
TZNAME:EST
DTSTART:20271107T060000
END:STANDARD
END:VTIMEZONE
BEGIN:VEVENT
DTSTART;TZID=America/New_York:20260422T170000
DTEND;TZID=America/New_York:20260422T210000
DTSTAMP:20260424T031550
CREATED:20260317T144429Z
LAST-MODIFIED:20260317T144429Z
UID:10049209-1776877200-1776891600@visitnyack.org
SUMMARY:Resonating Earth\, Carolyn Enger\, piano
DESCRIPTION:Harnessing the power found in the fusion of musical and visual artistry\, Resonating Earth is a breathtaking immersive soundscape. Mesmerizing imagery will captivate the eye as live music inspires a mediative space of connection and integration to our natural surroundings. \nAs renowned pianist Carolyn Enger plays works by Bach\, Nico Muhly\, Pia Møller Johansen\, Missy Mazzoli\, Philip Glass and others\, she will take attendees from the glorious heights of mountain ranges in Alaska to mountains of potassium waste in Eastern Germany\, from the oil spill in the Gulf of Mexico to coal burning plants around the world. \nThis stylistically fluid program will feature imagery by visual artists Myles Aronowitz\, internationally exhibited environmental activist\, and photographer\, J Henry Fair and Elliott Forrest (ArtsRock/WQXR). \nBring the entire family to decompress while connecting to the exquisite relationship between humanity and our glorious planet. Loose and easy\, come and go to the rhythm of your day. There will be seating but feel free to bring pillows and blankets to enhance the immersive experience of the program. \nInternationally-celebrated American pianist Carolyn Enger has gained critical acclaim for her exquisite lyrical playing\, as well as her deeply felt interpretations. In addition to an active performance schedule on two continents\, including recent performances at The National Gallery Oslo\, Baruch College\, Kean University and Noontime Concerts in San Francisco; Ms. Enger has enjoyed remarkable success as a recording artist. The New York Times selected her Naxos recording of intimate Ned Rorem miniatures\, Piano Album I & Six Friends\, as one of the newspaper’s “Best In Classical Recordings”. Her latest recording\, Resonating Earth\, was released in September 2024.
URL:https://visitnyack.org/event/resonating-earth-carolyn-enger-piano/
LOCATION:The Angel Nyack\, 18 W Broadway\, Nyack\, NY\, United States
CATEGORIES:Live-Music
ATTACH;FMTTYPE=image/jpeg:https://visitnyack.org/wp-content/uploads/2026/03/ResonatingEarthGraphic01.jpg
GEO:41.094196;-73.939118
X-APPLE-STRUCTURED-LOCATION;VALUE=URI;X-ADDRESS=The Angel Nyack 18 W Broadway Nyack NY United States;X-APPLE-RADIUS=500;X-TITLE=18 W Broadway:geo:-73.939118,41.094196
END:VEVENT
END:VCALENDAR