BEGIN:VCALENDAR
VERSION:2.0
PRODID:-// Visit Nyack - ECPv6.15.15//NONSGML v1.0//EN
CALSCALE:GREGORIAN
METHOD:PUBLISH
X-ORIGINAL-URL:https://visitnyack.org
X-WR-CALDESC:Events for  Visit Nyack
REFRESH-INTERVAL;VALUE=DURATION:PT1H
X-Robots-Tag:noindex
X-PUBLISHED-TTL:PT1H
BEGIN:VTIMEZONE
TZID:America/New_York
BEGIN:DAYLIGHT
TZOFFSETFROM:-0500
TZOFFSETTO:-0400
TZNAME:EDT
DTSTART:20250309T070000
END:DAYLIGHT
BEGIN:STANDARD
TZOFFSETFROM:-0400
TZOFFSETTO:-0500
TZNAME:EST
DTSTART:20251102T060000
END:STANDARD
BEGIN:DAYLIGHT
TZOFFSETFROM:-0500
TZOFFSETTO:-0400
TZNAME:EDT
DTSTART:20260308T070000
END:DAYLIGHT
BEGIN:STANDARD
TZOFFSETFROM:-0400
TZOFFSETTO:-0500
TZNAME:EST
DTSTART:20261101T060000
END:STANDARD
BEGIN:DAYLIGHT
TZOFFSETFROM:-0500
TZOFFSETTO:-0400
TZNAME:EDT
DTSTART:20270314T070000
END:DAYLIGHT
BEGIN:STANDARD
TZOFFSETFROM:-0400
TZOFFSETTO:-0500
TZNAME:EST
DTSTART:20271107T060000
END:STANDARD
END:VTIMEZONE
BEGIN:VEVENT
DTSTART;TZID=America/New_York:20260904T190000
DTEND;TZID=America/New_York:20260904T210000
DTSTAMP:20260424T083329
CREATED:20250324T221221Z
LAST-MODIFIED:20250324T221221Z
UID:10047439-1788548400-1788555600@visitnyack.org
SUMMARY:First Friday
DESCRIPTION:The Nyack Art Collective\, an organization of over 80 talented visual artists from the Nyack area\, has a members’ art exhibit and monthly First Friday event at The Burger Loft\, 3 N Broadway (corner of Main St.)\, Nyack NY 7:00-9:00 pm. Learn about us at www.nyackartcollective.com
URL:https://visitnyack.org/event/first-friday/2026-09-04/
LOCATION:NY
CATEGORIES:Art
ATTACH;FMTTYPE=image/jpeg:https://visitnyack.org/wp-content/uploads/2025/03/naclogoPos_Sm.jpg
ORGANIZER;CN="Nyack Art Collective":MAILTO:Info@nyackartcollective.com
END:VEVENT
BEGIN:VEVENT
DTSTART;TZID=America/New_York:20260904T190000
DTEND;TZID=America/New_York:20260904T210000
DTSTAMP:20260424T083329
CREATED:20250417T154025Z
LAST-MODIFIED:20250417T154025Z
UID:10047648-1788548400-1788555600@visitnyack.org
SUMMARY:Nyack Art Collective First Friday
DESCRIPTION:The Nyack Art Collective hosts a First Friday Art Exhibit every month from 7-9 pm at the gallery at The Burger Loft\, 3 North Broadway\, Nyack. The event is free\, open to the public and includes artwork\, light refreshments and artist talks.
URL:https://visitnyack.org/event/nyack-art-collective-first-friday/2026-09-04/
LOCATION:The Burger Loft\, 3 W Broadway\, Nyack\, NY\, United States
CATEGORIES:Art,Free-Admission
ATTACH;FMTTYPE=image/jpeg:https://visitnyack.org/wp-content/uploads/2025/04/Screenshot-2025-02-05-at-10.27.15 PM.jpeg
ORGANIZER;CN="Nyack Art Collective":MAILTO:Info@nyackartcollective.com
GEO:41.094783;-73.939005
X-APPLE-STRUCTURED-LOCATION;VALUE=URI;X-ADDRESS=The Burger Loft 3 W Broadway Nyack NY United States;X-APPLE-RADIUS=500;X-TITLE=3 W Broadway:geo:-73.939005,41.094783
END:VEVENT
END:VCALENDAR