BEGIN:VCALENDAR
VERSION:2.0
PRODID:-// Visit Nyack - ECPv6.15.15//NONSGML v1.0//EN
CALSCALE:GREGORIAN
METHOD:PUBLISH
X-ORIGINAL-URL:https://visitnyack.org
X-WR-CALDESC:Events for  Visit Nyack
REFRESH-INTERVAL;VALUE=DURATION:PT1H
X-Robots-Tag:noindex
X-PUBLISHED-TTL:PT1H
BEGIN:VTIMEZONE
TZID:America/New_York
BEGIN:DAYLIGHT
TZOFFSETFROM:-0500
TZOFFSETTO:-0400
TZNAME:EDT
DTSTART:20250309T070000
END:DAYLIGHT
BEGIN:STANDARD
TZOFFSETFROM:-0400
TZOFFSETTO:-0500
TZNAME:EST
DTSTART:20251102T060000
END:STANDARD
BEGIN:DAYLIGHT
TZOFFSETFROM:-0500
TZOFFSETTO:-0400
TZNAME:EDT
DTSTART:20260308T070000
END:DAYLIGHT
BEGIN:STANDARD
TZOFFSETFROM:-0400
TZOFFSETTO:-0500
TZNAME:EST
DTSTART:20261101T060000
END:STANDARD
BEGIN:DAYLIGHT
TZOFFSETFROM:-0500
TZOFFSETTO:-0400
TZNAME:EDT
DTSTART:20270314T070000
END:DAYLIGHT
BEGIN:STANDARD
TZOFFSETFROM:-0400
TZOFFSETTO:-0500
TZNAME:EST
DTSTART:20271107T060000
END:STANDARD
END:VTIMEZONE
BEGIN:VEVENT
DTSTART;TZID=America/New_York:20260422T183000
DTEND;TZID=America/New_York:20260422T193000
DTSTAMP:20260423T225255
CREATED:20260318T182623Z
LAST-MODIFIED:20260318T182623Z
UID:10049217-1776882600-1776886200@visitnyack.org
SUMMARY:How to Read a Book of Poetry with Lily Greenberg
DESCRIPTION:If you’ve ever felt like you don’t “get” poetry\, this event is for you—poems require a special kind of engagement that’s more akin to classical music-listening than novel-reading\, and works best read aloud in community as opposed to quietly alone. So\, we’re creating this experience for you. \nJoin Big Red Books and All Ways Writing Collective in which we will read aloud together Valzhyna Mort’s Music for the Dead and Resurrected\, using intuitive forms of engagement to better hear and appreciate the art at hand. \nThe program is free; all you need to do to register is purchase Music for the Dead and Resurrected from Big Red Books and receive 15% off. Please RSVP.
URL:https://visitnyack.org/event/how-to-read-a-book-of-poetry-with-lily-greenberg/
LOCATION:Big Red Books\,120 Main Street Nyack\, NY 10960
CATEGORIES:Literary,Literary-Arts
ATTACH;FMTTYPE=image/png:https://visitnyack.org/wp-content/uploads/2026/03/0-1.png
ORGANIZER;CN="Big Red Books":MAILTO:bigredbooksny@gmail.com
END:VEVENT
BEGIN:VEVENT
DTSTART;TZID=America/New_York:20260425T190000
DTEND;TZID=America/New_York:20260425T210000
DTSTAMP:20260423T225255
CREATED:20260401T230736Z
LAST-MODIFIED:20260401T230736Z
UID:10049239-1777143600-1777150800@visitnyack.org
SUMMARY:An Evening of Poetry with Valzhyna Mort & Samyak Shertok
DESCRIPTION:Join All Ways Writing and Big Red Books for an evening of poetry featuring renowned poets Valzhyna Mort and Samyak Shertok joined by community readers Kelly Jo Lillian\, Conrad Lochner\, Marjorie Tesser\, Tedo Wyman\, and Laura Zaino. \nValzhyna Mort is a poet and translator born in Minsk\, Belarus. She is the author of Factory of Tears (Copper Canyon Press\, 2008)\, Collected Body (Copper Canyon Press\, 2011) and Music for the Dead and Resurrected (FSG\, 2020)\, named one of the best poetry book of 2020 by The New York Times and The NPR\, and the winner of the 2020 International Griffin Poetry Prize and the 2022 UNT Rilke Prize. She teaches at Cornell University. \nSamyak Shertok’s debut collection\, No Rhododendron (University of Pittsburgh Press\, 2025)\, was selected by Kimiko Hahn for the 2024 AWP Donald Hall Prize for Poetry and longlisted for the 2026 PEN Open Book Award. Originally from Nepal\, he is an Assistant Professor of English at Mississippi State University.
URL:https://visitnyack.org/event/an-evening-of-poetry-with-valzhyna-mort-samyak-shertok/
LOCATION:Big Red Books\,120 Main Street Nyack\, NY 10960
CATEGORIES:Literary,Literary-Arts
ATTACH;FMTTYPE=image/png:https://visitnyack.org/wp-content/uploads/2026/03/0-2.png
ORGANIZER;CN="Big Red Books":MAILTO:bigredbooksny@gmail.com
END:VEVENT
END:VCALENDAR