BEGIN:VCALENDAR
VERSION:2.0
PRODID:-// Visit Nyack - ECPv6.15.15//NONSGML v1.0//EN
CALSCALE:GREGORIAN
METHOD:PUBLISH
X-ORIGINAL-URL:https://visitnyack.org
X-WR-CALDESC:Events for  Visit Nyack
REFRESH-INTERVAL;VALUE=DURATION:PT1H
X-Robots-Tag:noindex
X-PUBLISHED-TTL:PT1H
BEGIN:VTIMEZONE
TZID:America/New_York
BEGIN:DAYLIGHT
TZOFFSETFROM:-0500
TZOFFSETTO:-0400
TZNAME:EDT
DTSTART:20250309T070000
END:DAYLIGHT
BEGIN:STANDARD
TZOFFSETFROM:-0400
TZOFFSETTO:-0500
TZNAME:EST
DTSTART:20251102T060000
END:STANDARD
BEGIN:DAYLIGHT
TZOFFSETFROM:-0500
TZOFFSETTO:-0400
TZNAME:EDT
DTSTART:20260308T070000
END:DAYLIGHT
BEGIN:STANDARD
TZOFFSETFROM:-0400
TZOFFSETTO:-0500
TZNAME:EST
DTSTART:20261101T060000
END:STANDARD
BEGIN:DAYLIGHT
TZOFFSETFROM:-0500
TZOFFSETTO:-0400
TZNAME:EDT
DTSTART:20270314T070000
END:DAYLIGHT
BEGIN:STANDARD
TZOFFSETFROM:-0400
TZOFFSETTO:-0500
TZNAME:EST
DTSTART:20271107T060000
END:STANDARD
END:VTIMEZONE
BEGIN:VEVENT
DTSTART;TZID=America/New_York:20260218T183000
DTEND;TZID=America/New_York:20260218T193000
DTSTAMP:20260424T013352
CREATED:20260120T213610Z
LAST-MODIFIED:20260120T213719Z
UID:10049142-1771439400-1771443000@visitnyack.org
SUMMARY:Open Mic with Featured Poet Christine Potter
DESCRIPTION:Christine Potter has taught English and creative writing in the Clarkstown Schools\, made church music\, and cooked for a living. These days she’s the poetry editor of Eclectica magazine\, and a poet whose work has appeared in Rattle\, The McNeese Review\, Tar River Poetry\, ONE ART\, Grain\, Booth\, Autumn Sky Poetry Daily\, and many other literary publications. She writes a monthly column about local poets for the Rockland County Business Journal. Her time traveling young adult series\, The Bean Books\, is on Evernight Teen\, and her last full-length collection of poetry\, Unforgetting\, is published by Kelsay Books. She lives locally with her husband and her indulged cat Bella. Her house is haunted.
URL:https://visitnyack.org/event/open-mic-with-featured-poet-christine-potter/
LOCATION:Big Red Books\,120 Main Street Nyack\, NY 10960
CATEGORIES:Literary,Literary-Arts
ATTACH;FMTTYPE=image/png:https://visitnyack.org/wp-content/uploads/2026/01/Open-Mic-with-Featured-Poet-Christine-Potter.png.png
ORGANIZER;CN="Big Red Books":MAILTO:bigredbooksny@gmail.com
END:VEVENT
END:VCALENDAR