BEGIN:VCALENDAR
VERSION:2.0
PRODID:-// Visit Nyack - ECPv6.15.15//NONSGML v1.0//EN
CALSCALE:GREGORIAN
METHOD:PUBLISH
X-WR-CALNAME: Visit Nyack
X-ORIGINAL-URL:https://visitnyack.org
X-WR-CALDESC:Events for  Visit Nyack
REFRESH-INTERVAL;VALUE=DURATION:PT1H
X-Robots-Tag:noindex
X-PUBLISHED-TTL:PT1H
BEGIN:VTIMEZONE
TZID:America/New_York
BEGIN:DAYLIGHT
TZOFFSETFROM:-0500
TZOFFSETTO:-0400
TZNAME:EDT
DTSTART:20250309T070000
END:DAYLIGHT
BEGIN:STANDARD
TZOFFSETFROM:-0400
TZOFFSETTO:-0500
TZNAME:EST
DTSTART:20251102T060000
END:STANDARD
BEGIN:DAYLIGHT
TZOFFSETFROM:-0500
TZOFFSETTO:-0400
TZNAME:EDT
DTSTART:20260308T070000
END:DAYLIGHT
BEGIN:STANDARD
TZOFFSETFROM:-0400
TZOFFSETTO:-0500
TZNAME:EST
DTSTART:20261101T060000
END:STANDARD
BEGIN:DAYLIGHT
TZOFFSETFROM:-0500
TZOFFSETTO:-0400
TZNAME:EDT
DTSTART:20270314T070000
END:DAYLIGHT
BEGIN:STANDARD
TZOFFSETFROM:-0400
TZOFFSETTO:-0500
TZNAME:EST
DTSTART:20271107T060000
END:STANDARD
END:VTIMEZONE
BEGIN:VEVENT
DTSTART;TZID=America/New_York:20260123T173000
DTEND;TZID=America/New_York:20260123T183000
DTSTAMP:20260424T062255
CREATED:20251222T204130Z
LAST-MODIFIED:20251222T204130Z
UID:10048337-1769189400-1769193000@visitnyack.org
SUMMARY:Reading & Book Signing With Children's Author Janae Marks
DESCRIPTION:Janae Marks is the New York Times bestselling author of the Zoe Washington series\, A Soft Place to Land\, and A Split Second. Her work can also be found in the middle grade anthologies Hope Wins\, edited by Rose Brock\, and Black Girl Power\, edited by Leah Johnson. Her novels have been named Best Book of the Year by Parents Magazine\, Chicago Public Library\, the Boston Globe\, the Bank Street College of Education\, and others.
URL:https://visitnyack.org/event/reading-book-signing-with-childrens-author-janae-marks/
LOCATION:Big Red Books\,120 Main St\, Nyack\, NY 10960\, USA
CATEGORIES:Children,Families-&-Kids,Family-Friendly
ATTACH;FMTTYPE=image/jpeg:https://visitnyack.org/wp-content/uploads/2025/12/0-5.jpeg
ORGANIZER;CN="Big Red Books":MAILTO:bigredbooksny@gmail.com
END:VEVENT
BEGIN:VEVENT
DTSTART;VALUE=DATE:20260124
DTEND;VALUE=DATE:20260324
DTSTAMP:20260424T062255
CREATED:20260107T205103Z
LAST-MODIFIED:20260107T205103Z
UID:10048340-1769223600-1774234799@visitnyack.org
SUMMARY:Perry Lawson Fine Art Presents: Bending the Arc
DESCRIPTION:Perry Lawson Fine Art is pleased to present Bending the Arc\, a national juried exhibition featuring artwork that explores the complexities of human values\, such as respect\, empathy\, integrity\, and moral courage. The title is drawn from an idea referenced by Martin Luther King\, Jr.\, that “the arc of the moral universe is long\, but it bends toward justice.” \nThe twenty-five artists in this exhibition span a wide range of practices\, working in sculpture\, digital media\, painting\, and printmaking. Each engages with the theme in their own way: some present abstract works that convey tension or transformation; others take a narrative approach to illustrate hope or destructive forces; still others use metaphor or symbolism to express their reckoning with the world. \nThese works were selected through an open call by juror Claire Koelling\, an arts professional based in New York City who currently serves as Senior Exhibitions Manager at Gagosian Gallery. \nGallery Hours: Friday-Sunday\, 12-5 PM \nOpening Reception: Saturday\, January 24\, 3-5 PM
URL:https://visitnyack.org/event/perry-lawson-fine-art-presents-bending-the-arc/
LOCATION:Perry Lawson Fine Art\,90 North Broadway\, Nyack\, NY 10960\, USA
CATEGORIES:Art,Featured,paintings,Visual-Art
ATTACH;FMTTYPE=image/jpeg:https://visitnyack.org/wp-content/uploads/2025/12/James_2_DSC_2674_WEB_copy_jbkc7g_o2gxoq_xtwvu7.jpg
ORGANIZER;CN="Perry Lawson Fine Art":MAILTO:info@perrylawsonfineart.com
END:VEVENT
BEGIN:VEVENT
DTSTART;TZID=America/New_York:20260124T190000
DTEND;TZID=America/New_York:20260124T203000
DTSTAMP:20260424T062255
CREATED:20260120T212426Z
LAST-MODIFIED:20260120T212426Z
UID:10049144-1769281200-1769286600@visitnyack.org
SUMMARY:Candlelight Concert: Sean Lee\, violin and Rohan De Silva\, piano
DESCRIPTION:American violinist Sean Lee has captured the attention of audiences worldwide\, with performances described by The New York Times as “breathtakingly beautiful”. \nA long-time violinist with the Chamber Music Society of Lincoln Center\, Lee has also collaborated in performances with Itzhak Perlman\, Sir James Galway\, Deborah Voigt\, and members of the Emerson and Guarneri String Quartets. \nRohan De Silva\, pianist\, was born in Colombo\, Sri Lanka\, and has collaborated with Itzhak Perlman\, Cho-Liang Lin\, Joshua Bell\, Gil Shaham\, and Midori\, among others. \nProgram:\nFranz Schubert: Sonatina in D\, D. 384\nLudwig van Beethoven: Romance in F\, Op. 50\nRobert Schumann: Fantasiestücke\, Op. 73\nFranz Liszt: Liebestraum S.541/R.211 No. 3\, arr. Joseph Achron\nNiccolò Paganini: 24 Caprices – Nos.13\, 20\, 22\, 24
URL:https://visitnyack.org/event/candlelight-concert-sean-lee-violin-and-rohan-de-silva-piano/
LOCATION:The Angel Nyack at First Reformed Church\,18 S. Broadway\, Nyack\, NY
CATEGORIES:Featured,Live-Music
ATTACH;FMTTYPE=image/jpeg:https://visitnyack.org/wp-content/uploads/2026/01/Sean-Lee-image.jpeg
END:VEVENT
BEGIN:VEVENT
DTSTART;TZID=America/New_York:20260125T110000
DTEND;TZID=America/New_York:20260125T121500
DTSTAMP:20260424T062255
CREATED:20260120T212245Z
LAST-MODIFIED:20260120T212245Z
UID:10048620-1769338800-1769343300@visitnyack.org
SUMMARY:Work Out and Dance in Nyack
DESCRIPTION:30 minutes of full body work out and 45 minutes of choreographed dance routine. Every month we teach a new style of dance. Learn to dance Salsa\, Hip Hop\, Modern\, Belly Dance\, Bollywood\, Latin Mix\, Heels and many more.
URL:https://visitnyack.org/event/work-out-and-dance-in-nyack/2026-01-25/
LOCATION:Nyack\, NY\, USA
CATEGORIES:Dance
ATTACH;FMTTYPE=image/png:https://visitnyack.org/wp-content/uploads/2026/01/Screenshot-2025-08-16-at-11.22.00-AM.png
END:VEVENT
BEGIN:VEVENT
DTSTART;TZID=America/New_York:20260125T160000
DTEND;TZID=America/New_York:20260125T180000
DTSTAMP:20260424T062255
CREATED:20260107T205139Z
LAST-MODIFIED:20260107T205139Z
UID:10048347-1769356800-1769364000@visitnyack.org
SUMMARY:Let the Story Warm You: An Afternoon Prose Reading with All Ways Writing Collective & Marydell
DESCRIPTION:Join All Ways Writing in collaboration with Marydell Faith & Life Center for a cozy afternoon of prose readings\, featuring a curated selection of nine local writers. Hosted by Lily Greenberg\, the readers include Ellyn Hament\, Christina Leaño\, Bridget McFadden\, Emilya Naymark\, Alex Russo\, Fredric Sinclair\, Collin Stephens\, Jessica Wahlstrom\, and Zaneta. The readers will present short pieces in groups of three\, with brief Q&A’s to punctuate each group. Light refreshments will be served. Free and open to the public\, the reading will take place in the Marydell Dining Hall; guests are encouraged to park at Gate 3.
URL:https://visitnyack.org/event/let-the-story-warm-you-an-afternoon-prose-reading-with-all-ways-writing-collective-marydell/
LOCATION:Marydell Faith & Life Center\, 640 N Midland Ave\, Nyack\, NY 10960\, USA
CATEGORIES:Free-Admission,Literary-Arts
ATTACH;FMTTYPE=image/png:https://visitnyack.org/wp-content/uploads/2026/01/Jan-25-Marydell-Flyer.png
ORGANIZER;CN="All Ways Writing Collective":MAILTO:lilygreenberg95@gmail.com
GEO:41.117866;-73.921224
END:VEVENT
END:VCALENDAR