BEGIN:VCALENDAR
VERSION:2.0
PRODID:-// Visit Nyack - ECPv6.15.15//NONSGML v1.0//EN
CALSCALE:GREGORIAN
METHOD:PUBLISH
X-WR-CALNAME: Visit Nyack
X-ORIGINAL-URL:https://visitnyack.org
X-WR-CALDESC:Events for  Visit Nyack
REFRESH-INTERVAL;VALUE=DURATION:PT1H
X-Robots-Tag:noindex
X-PUBLISHED-TTL:PT1H
BEGIN:VTIMEZONE
TZID:America/New_York
BEGIN:DAYLIGHT
TZOFFSETFROM:-0500
TZOFFSETTO:-0400
TZNAME:EDT
DTSTART:20250309T070000
END:DAYLIGHT
BEGIN:STANDARD
TZOFFSETFROM:-0400
TZOFFSETTO:-0500
TZNAME:EST
DTSTART:20251102T060000
END:STANDARD
BEGIN:DAYLIGHT
TZOFFSETFROM:-0500
TZOFFSETTO:-0400
TZNAME:EDT
DTSTART:20260308T070000
END:DAYLIGHT
BEGIN:STANDARD
TZOFFSETFROM:-0400
TZOFFSETTO:-0500
TZNAME:EST
DTSTART:20261101T060000
END:STANDARD
BEGIN:DAYLIGHT
TZOFFSETFROM:-0500
TZOFFSETTO:-0400
TZNAME:EDT
DTSTART:20270314T070000
END:DAYLIGHT
BEGIN:STANDARD
TZOFFSETFROM:-0400
TZOFFSETTO:-0500
TZNAME:EST
DTSTART:20271107T060000
END:STANDARD
END:VTIMEZONE
BEGIN:VEVENT
DTSTART;TZID=America/New_York:20260422T183000
DTEND;TZID=America/New_York:20260422T193000
DTSTAMP:20260423T212631
CREATED:20260318T182623Z
LAST-MODIFIED:20260318T182623Z
UID:10049217-1776882600-1776886200@visitnyack.org
SUMMARY:How to Read a Book of Poetry with Lily Greenberg
DESCRIPTION:If you’ve ever felt like you don’t “get” poetry\, this event is for you—poems require a special kind of engagement that’s more akin to classical music-listening than novel-reading\, and works best read aloud in community as opposed to quietly alone. So\, we’re creating this experience for you. \nJoin Big Red Books and All Ways Writing Collective in which we will read aloud together Valzhyna Mort’s Music for the Dead and Resurrected\, using intuitive forms of engagement to better hear and appreciate the art at hand. \nThe program is free; all you need to do to register is purchase Music for the Dead and Resurrected from Big Red Books and receive 15% off. Please RSVP.
URL:https://visitnyack.org/event/how-to-read-a-book-of-poetry-with-lily-greenberg/
LOCATION:Big Red Books\,120 Main Street Nyack\, NY 10960
CATEGORIES:Literary,Literary-Arts
ATTACH;FMTTYPE=image/png:https://visitnyack.org/wp-content/uploads/2026/03/0-1.png
ORGANIZER;CN="Big Red Books":MAILTO:bigredbooksny@gmail.com
END:VEVENT
BEGIN:VEVENT
DTSTART;TZID=America/New_York:20260417T173000
DTEND;TZID=America/New_York:20260417T180000
DTSTAMP:20260423T212631
CREATED:20260318T182533Z
LAST-MODIFIED:20260318T182533Z
UID:10049216-1776447000-1776448800@visitnyack.org
SUMMARY:Jonathan Kruk's Dramatic Reading of The Magical\, Wonderful Bul Bul Bird Book
DESCRIPTION:A full-time teaching artist\, Jonathan performs full time at schools\, libraries and historic sites. Jonathan’s best known for his animated and courtly solo shows of – “The Legend of Sleepy Hollow” & “A Christmas Carol” for Historic Hudson Valley. \nJonathan has been featured on CBS Sunday Morning\, The TODAY Show\, the BBC\, The Travel\, History\, and National Geographic Channels. His books for The History Press are; “Legends and Lore of Sleepy Hollow and the Hudson Valley” and “Legends and Lore of the Hudson Highlands.”
URL:https://visitnyack.org/event/jonathan-kruks-dramatic-reading-of-the-magical-wonderful-bul-bul-bird-book/
LOCATION:Big Red Books\,120 Main Street Nyack\, NY 10960
CATEGORIES:Children,Families-&-Kids,Family-Friendly,Featured,Theater
ATTACH;FMTTYPE=image/png:https://visitnyack.org/wp-content/uploads/2026/03/Jonathan-Kruks-Dramatic-Reading-of-His-New-Book-The-Magical-Wonderful-Bul-Bul-Bird-Book-April-2026.png
ORGANIZER;CN="Big Red Books":MAILTO:bigredbooksny@gmail.com
END:VEVENT
BEGIN:VEVENT
DTSTART;TZID=America/New_York:20260415T183000
DTEND;TZID=America/New_York:20260415T193000
DTSTAMP:20260423T212631
CREATED:20260401T230141Z
LAST-MODIFIED:20260401T230141Z
UID:10049238-1776277800-1776281400@visitnyack.org
SUMMARY:A Staged Reading of Doris Written and Performed by Bette Carlson Silver
DESCRIPTION:BETTE SILER is an actor\, director and playwright. Her plays have been produced at the Edinburgh Fringe\, New Jersey Repertory\, NYC’s Estrogenius Festival\, Vermont Playwrights\, NYC’s Emerging Artists and Westchester Collaborative Theatre. Staged readings of Bette’s work have been performed at the McCarter Theater Centre and the George Street Playhouse. Bette has directed in New York\, Scotland and at the International Dublin Gay Theatre Festival. She has performed at Arena Stage\, the Pacific Conservatory of the Performing Arts\, California Actors’ Theater and in Off-Broadway showcases in NYC. \nEveryone is welcome to this free event. Donations are suggested. Please RSVP.
URL:https://visitnyack.org/event/a-staged-reading-of-doris-written-and-performed-by-bette-carlson-silver/
LOCATION:Big Red Books\,120 Main Street Nyack\, NY 10960
CATEGORIES:Featured,Theater
ATTACH;FMTTYPE=image/png:https://visitnyack.org/wp-content/uploads/2026/03/a-staged-reading-of-DORIS.png
ORGANIZER;CN="Big Red Books":MAILTO:bigredbooksny@gmail.com
END:VEVENT
BEGIN:VEVENT
DTSTART;TZID=America/New_York:20260412T080000
DTEND;TZID=America/New_York:20260412T170000
DTSTAMP:20260423T212631
CREATED:20260318T182457Z
LAST-MODIFIED:20260318T182457Z
UID:10049215-1775980800-1776013200@visitnyack.org
SUMMARY:Fantasy Book Club
DESCRIPTION:Join us at the shop for a discussion of Kill the Beast by debut author Serra Swift. \nTo participate in our meeting\, you must purchase the novel at Big Red Books\, and you will receive a 15% discount. \nEveryone is welcome\, whether you’ve finished the book or not. \nFeel free to bring a snack or beverage.
URL:https://visitnyack.org/event/fantasy-book-club/
LOCATION:Big Red Books\,120 Main Street Nyack\, NY 10960
CATEGORIES:Literary,Literary-Arts
ATTACH;FMTTYPE=image/png:https://visitnyack.org/wp-content/uploads/2026/03/SciFi-Fantasy-Book-Club-Kill-the-Beast-by-Serra-Swift-copy-scaled.png
ORGANIZER;CN="Big Red Books":MAILTO:bigredbooksny@gmail.com
END:VEVENT
BEGIN:VEVENT
DTSTART;TZID=America/New_York:20260411T130000
DTEND;TZID=America/New_York:20260411T150000
DTSTAMP:20260423T212631
CREATED:20260318T182423Z
LAST-MODIFIED:20260318T182423Z
UID:10049214-1775912400-1775919600@visitnyack.org
SUMMARY:Meet and Greet with Seth Tannenbaum
DESCRIPTION:Seth S. Tannenbaum is an assistant professor of sport studies at Manhattanville University where he teaches Baseball and American Society\, Spectators and Fans\, Urban Sport\, and American Sport History. He earned a PhD in American History at Temple University and a BA in History at Vassar College. Bleacher Seats and Luxury Suites: Democracy and Divisionat the Twentieth Century Ballpark is his first book. His other scholarship has been published in The Journal of African American History\, The Journal of Sport History\, Nine: A Journal of Baseball History & Culture\, the Washington Post\, and the Philadelphia Inquirer.
URL:https://visitnyack.org/event/meet-and-greet-with-seth-tannenbaum/
LOCATION:Big Red Books\,120 Main Street Nyack\, NY 10960
CATEGORIES:Literary,Literary-Arts
ATTACH;FMTTYPE=image/png:https://visitnyack.org/wp-content/uploads/2026/03/MeetGreet-Seth-S.-Tannenbaum.png
ORGANIZER;CN="Big Red Books":MAILTO:bigredbooksny@gmail.com
END:VEVENT
BEGIN:VEVENT
DTSTART;TZID=America/New_York:20260408T183000
DTEND;TZID=America/New_York:20260408T193000
DTSTAMP:20260423T212631
CREATED:20260318T182255Z
LAST-MODIFIED:20260318T182255Z
UID:10049213-1775673000-1775676600@visitnyack.org
SUMMARY:The Art and Industry of Audiobooks with Tavia Gilbert
DESCRIPTION:Audiobooks are a multi-billion dollar industry\, and a leader in publishing revenues\, but for many entrepreneurial authors\, audiobooks remain untapped and misunderstood. When and where should resources be invested in order to create a successful audiobook? Should every writer narrate their own book or hire a professional voice talent (or use an AI voice)? How are books recorded\, produced\, and distributed? Join leading audiobook narrator and director Tavia Gilbert in a short session designed to demystify the booming business of audio. \n**********This event is in collaboration with the Arts Council of Rockland County************
URL:https://visitnyack.org/event/the-art-and-industry-of-audiobooks-with-tavia-gilbert/
LOCATION:Big Red Books\,120 Main Street Nyack\, NY 10960
CATEGORIES:Workshop
ATTACH;FMTTYPE=image/png:https://visitnyack.org/wp-content/uploads/2026/03/The-Art-and-Industry-of-Audiobooks-with-Tavia-Gilbert.png
ORGANIZER;CN="Big Red Books":MAILTO:bigredbooksny@gmail.com
END:VEVENT
BEGIN:VEVENT
DTSTART;TZID=America/New_York:20260404T130000
DTEND;TZID=America/New_York:20260404T150000
DTSTAMP:20260423T212631
CREATED:20260318T182219Z
LAST-MODIFIED:20260318T182219Z
UID:10049212-1775307600-1775314800@visitnyack.org
SUMMARY:Meet and Greet with Author Barbara Worton
DESCRIPTION:Barbara Worton is the author of Chatterbox: Stories from a Noisy Life\, Bedtime Stories: The Short\, Long and Tall Tales of a Sleepwriter and  Too Tall Alice. She co-authored If I’m Talking\, Why Aren’t You Listening? with Linda Dini Jenkins and The Adventures of The Baker’s Daughter with Rochelle Udell. Her stories have appeared in Memories of John Lennon\, The Haight-Ashbury Literary Journal\, Ovunque Siamo\, The Paterson Literary Review\, Italian American/University of Illinois Press\, VIA: Voices in Italian Americana and Platform Review. She has also written for women’s magazines and business publications\, was an Associate Producer on the award-winning independent film Surviving on LES and is a member of the Italian American Writers Association.
URL:https://visitnyack.org/event/meet-and-greet-with-author-barbara-worton/
LOCATION:Big Red Books\,120 Main Street Nyack\, NY 10960
CATEGORIES:Literary,Literary-Arts
ATTACH;FMTTYPE=image/png:https://visitnyack.org/wp-content/uploads/2026/03/Meet-and-Greet-with-Author-Barbara-Worton.png
ORGANIZER;CN="Big Red Books":MAILTO:bigredbooksny@gmail.com
END:VEVENT
BEGIN:VEVENT
DTSTART;TZID=America/New_York:20260325T063000
DTEND;TZID=America/New_York:20260325T193000
DTSTAMP:20260423T212631
CREATED:20260218T220754Z
LAST-MODIFIED:20260218T220754Z
UID:10049171-1774420200-1774467000@visitnyack.org
SUMMARY:Open mic with Featured Poet Maria Miura
DESCRIPTION:Maria Giura is the author of. two poetry collections published by Bordighera Press—If We Still Lived Where I Was Born (Nov. 2025) and What My Father Taught Me—and a memoir\, Celibate published by Apprentice House Press. An Academy of American Poets winner\, Giura teaches writing workshops for Casa Belvedere and received her PhD in English from Binghamton University.
URL:https://visitnyack.org/event/open-mic-with-featured-poet-maria-miura/
LOCATION:Big Red Books\,120 Main Street Nyack\, NY 10960
CATEGORIES:Literary,Literary-Arts
ATTACH;FMTTYPE=image/png:https://visitnyack.org/wp-content/uploads/2026/02/Open-Mic-with-Featured-Poet-Maria-Giura.png
ORGANIZER;CN="Big Red Books":MAILTO:bigredbooksny@gmail.com
END:VEVENT
BEGIN:VEVENT
DTSTART;TZID=America/New_York:20260319T163000
DTEND;TZID=America/New_York:20260319T173000
DTSTAMP:20260423T212631
CREATED:20260218T220653Z
LAST-MODIFIED:20260218T220653Z
UID:10049170-1773937800-1773941400@visitnyack.org
SUMMARY:Free Writing Workshop with Author Maria José Fitzgerald (7-12 year-olds)
DESCRIPTION:Join author Maria José Fitzgerald for a character development writing workshop. We’ll read\, chat\, and brainstorm characters for your next story! \nAfter the workshop\, join Maria for a reading/book signing of her new book\, Mystery on Macaw Mountain.
URL:https://visitnyack.org/event/free-writing-workshop-with-author-maria-jose-fitzgerald-7-12-year-olds/
LOCATION:Big Red Books\,120 Main Street Nyack\, NY 10960
CATEGORIES:Children,Literary,Literary-Arts
ATTACH;FMTTYPE=image/jpeg:https://visitnyack.org/wp-content/uploads/2026/02/unnamed.jpg
ORGANIZER;CN="Big Red Books":MAILTO:bigredbooksny@gmail.com
END:VEVENT
BEGIN:VEVENT
DTSTART;TZID=America/New_York:20260305T183000
DTEND;TZID=America/New_York:20260305T193000
DTSTAMP:20260423T212631
CREATED:20260207T150240Z
LAST-MODIFIED:20260207T150240Z
UID:10049157-1772735400-1772739000@visitnyack.org
SUMMARY:An Evening With John Sayles
DESCRIPTION:John Sayles is an independent filmmaker\, screenwriter\, actor\, and novelist. He has twice been nominated for the Academy Award for Best Original Screenplay\, and once for the National Book Award. He has written eight novels\, including\, most recently\, Jamie MacGillivray\, To Save the Man and Crucible. \nTickets are $36 and include a signed copy of Crucible. Please purchase tickets at bigredbooks.net\, 845-975-7707 or in-person. There is limited seating for this event. \n 
URL:https://visitnyack.org/event/an-evening-with-john-sayles/
LOCATION:Big Red Books\,120 Main Street Nyack\, NY 10960
CATEGORIES:Featured,Film,Literary,Literary-Arts
ATTACH;FMTTYPE=image/png:https://visitnyack.org/wp-content/uploads/2026/01/An-Evening-With-John-Sayles.png
ORGANIZER;CN="Big Red Books":MAILTO:bigredbooksny@gmail.com
END:VEVENT
BEGIN:VEVENT
DTSTART;TZID=America/New_York:20260301T150000
DTEND;TZID=America/New_York:20260301T153000
DTSTAMP:20260423T212631
CREATED:20260218T220455Z
LAST-MODIFIED:20260218T220455Z
UID:10049169-1772377200-1772379000@visitnyack.org
SUMMARY:Story Time with Children’s Author David Sherrin
DESCRIPTION:David Sherrin teaches social studies at Scarsdale High School and lives in Tarrytown. He is also the author of four picture books including the new release Big Bad Wolf and the Masquerade Ball (Apples & Honey Press\, 2026). He loves teaching\, writing\, playing tennis\, and drinking smoothies.
URL:https://visitnyack.org/event/story-time-with-childrens-author-david-sherrin/
LOCATION:Nyack\, NY\, USA
CATEGORIES:Children,Families-&-Kids,Family-Friendly
ORGANIZER;CN="Big Red Books":MAILTO:bigredbooksny@gmail.com
END:VEVENT
BEGIN:VEVENT
DTSTART;TZID=America/New_York:20260228T130000
DTEND;TZID=America/New_York:20260228T150000
DTSTAMP:20260423T212631
CREATED:20260120T214008Z
LAST-MODIFIED:20260120T214008Z
UID:10049143-1772283600-1772290800@visitnyack.org
SUMMARY:Meet and Greet with True Crime Author Dawn Barclay
DESCRIPTION:Dawn M.Barclay (who writes fiction as D.M. Barr and edits under suggested development.com) has been writing in the travel field for decades\, first as a travel trade journalist and later as a book author. She is the 2023 Lowell Thomas Gold Award-winning author of the autism travel bible\, Traveling Different: Vacation Strategies for Parents of the Anxious\, the Inflexible\, and the Neurodiverse (Rowman & Littlefield\, 2022).
URL:https://visitnyack.org/event/meet-and-greet-with-true-crime-author-dawn-barclay/
LOCATION:Big Red Books\,120 Main Street Nyack\, NY 10960
CATEGORIES:Literary,Literary-Arts
ATTACH;FMTTYPE=image/png:https://visitnyack.org/wp-content/uploads/2026/01/MeetGreet-Dawn-Barclay.png
ORGANIZER;CN="Big Red Books":MAILTO:bigredbooksny@gmail.com
END:VEVENT
BEGIN:VEVENT
DTSTART;TZID=America/New_York:20260218T183000
DTEND;TZID=America/New_York:20260218T193000
DTSTAMP:20260423T212631
CREATED:20260120T213610Z
LAST-MODIFIED:20260120T213719Z
UID:10049142-1771439400-1771443000@visitnyack.org
SUMMARY:Open Mic with Featured Poet Christine Potter
DESCRIPTION:Christine Potter has taught English and creative writing in the Clarkstown Schools\, made church music\, and cooked for a living. These days she’s the poetry editor of Eclectica magazine\, and a poet whose work has appeared in Rattle\, The McNeese Review\, Tar River Poetry\, ONE ART\, Grain\, Booth\, Autumn Sky Poetry Daily\, and many other literary publications. She writes a monthly column about local poets for the Rockland County Business Journal. Her time traveling young adult series\, The Bean Books\, is on Evernight Teen\, and her last full-length collection of poetry\, Unforgetting\, is published by Kelsay Books. She lives locally with her husband and her indulged cat Bella. Her house is haunted.
URL:https://visitnyack.org/event/open-mic-with-featured-poet-christine-potter/
LOCATION:Big Red Books\,120 Main Street Nyack\, NY 10960
CATEGORIES:Literary,Literary-Arts
ATTACH;FMTTYPE=image/png:https://visitnyack.org/wp-content/uploads/2026/01/Open-Mic-with-Featured-Poet-Christine-Potter.png.png
ORGANIZER;CN="Big Red Books":MAILTO:bigredbooksny@gmail.com
END:VEVENT
BEGIN:VEVENT
DTSTART;TZID=America/New_York:20260208T160000
DTEND;TZID=America/New_York:20260208T170000
DTSTAMP:20260423T212631
CREATED:20260120T213521Z
LAST-MODIFIED:20260120T213521Z
UID:10049141-1770566400-1770570000@visitnyack.org
SUMMARY:Sci-Fi/Fantasy Book Club
DESCRIPTION:To participate in our discussion of How to Defeat a Demon King by Andrew Rowe\, you must purchase the novel at Big Red Books where you will receive a 15% discount. \nEveryone is welcome\, whether you’ve finished the book or not. \nFeel free to bring a snack or beverage to the meeting.
URL:https://visitnyack.org/event/sci-fi-fantasy-book-club/
LOCATION:Big Red Books\,120 Main St\, Nyack\, NY 10960\, USA
CATEGORIES:Literary,Literary-Arts
ATTACH;FMTTYPE=image/png:https://visitnyack.org/wp-content/uploads/2026/01/SciFi-Fantasy-Book-Club.png
ORGANIZER;CN="Big Red Books":MAILTO:bigredbooksny@gmail.com
END:VEVENT
BEGIN:VEVENT
DTSTART;TZID=America/New_York:20260204T183000
DTEND;TZID=America/New_York:20260204T193000
DTSTAMP:20260423T212631
CREATED:20260120T213451Z
LAST-MODIFIED:20260120T213451Z
UID:10049140-1770229800-1770233400@visitnyack.org
SUMMARY:Sound Mediation with Johnny Scifo
DESCRIPTION:Join us for a sound meditation session (beginner’s welcome!) with author\, musician\, and meditation teacher Johnny Scifo as he plays the singing bowls and shares insights from his book\, Brain Flowers: 10 Keys to Awakening in the Real World.
URL:https://visitnyack.org/event/sound-mediation-with-johnny-scifo/
LOCATION:Nyack\, NY\, USA
CATEGORIES:Wellness
ORGANIZER;CN="Big Red Books":MAILTO:bigredbooksny@gmail.com
END:VEVENT
BEGIN:VEVENT
DTSTART;TZID=America/New_York:20260128T183000
DTEND;TZID=America/New_York:20260128T193000
DTSTAMP:20260423T212631
CREATED:20251222T204221Z
LAST-MODIFIED:20251222T204221Z
UID:10048338-1769625000-1769628600@visitnyack.org
SUMMARY:Open Mic With Featured Poet Joan Larkin
DESCRIPTION:Joan Larkin’s sixth collection of poems\, Old Stranger\, was published by Alice James Books in 2024. Her previous work includes Cold River\, Blue Hanuman\, and My Body: New and Selected Poems\, recipient of the Publishing Triangle’s Audre Lorde Award. Joan co-founded Out & Out Books during the 1970s surge in feminist publishing and co-edited the groundbreaking anthologies Amazon Poetry and Gay and Lesbian Poetry in Our Time\, among others. A lifelong teacher\, she lives in Northern New Jersey.
URL:https://visitnyack.org/event/open-mic-with-featured-poet-joan-larkin/
LOCATION:Big Red Books\,120 Main St\, Nyack\, NY 10960\, USA
CATEGORIES:Literary,Literary-Arts
ATTACH;FMTTYPE=image/png:https://visitnyack.org/wp-content/uploads/2025/12/Open-Mic-Featuring-Poet-Joan-Larkin.png.png
ORGANIZER;CN="Big Red Books":MAILTO:bigredbooksny@gmail.com
END:VEVENT
BEGIN:VEVENT
DTSTART;TZID=America/New_York:20260123T173000
DTEND;TZID=America/New_York:20260123T183000
DTSTAMP:20260423T212631
CREATED:20251222T204130Z
LAST-MODIFIED:20251222T204130Z
UID:10048337-1769189400-1769193000@visitnyack.org
SUMMARY:Reading & Book Signing With Children's Author Janae Marks
DESCRIPTION:Janae Marks is the New York Times bestselling author of the Zoe Washington series\, A Soft Place to Land\, and A Split Second. Her work can also be found in the middle grade anthologies Hope Wins\, edited by Rose Brock\, and Black Girl Power\, edited by Leah Johnson. Her novels have been named Best Book of the Year by Parents Magazine\, Chicago Public Library\, the Boston Globe\, the Bank Street College of Education\, and others.
URL:https://visitnyack.org/event/reading-book-signing-with-childrens-author-janae-marks/
LOCATION:Big Red Books\,120 Main St\, Nyack\, NY 10960\, USA
CATEGORIES:Children,Families-&-Kids,Family-Friendly
ATTACH;FMTTYPE=image/jpeg:https://visitnyack.org/wp-content/uploads/2025/12/0-5.jpeg
ORGANIZER;CN="Big Red Books":MAILTO:bigredbooksny@gmail.com
END:VEVENT
END:VCALENDAR