BEGIN:VCALENDAR
VERSION:2.0
PRODID:-// Visit Nyack - ECPv6.15.15//NONSGML v1.0//EN
CALSCALE:GREGORIAN
METHOD:PUBLISH
X-ORIGINAL-URL:https://visitnyack.org
X-WR-CALDESC:Events for  Visit Nyack
REFRESH-INTERVAL;VALUE=DURATION:PT1H
X-Robots-Tag:noindex
X-PUBLISHED-TTL:PT1H
BEGIN:VTIMEZONE
TZID:America/New_York
BEGIN:DAYLIGHT
TZOFFSETFROM:-0500
TZOFFSETTO:-0400
TZNAME:EDT
DTSTART:20250309T070000
END:DAYLIGHT
BEGIN:STANDARD
TZOFFSETFROM:-0400
TZOFFSETTO:-0500
TZNAME:EST
DTSTART:20251102T060000
END:STANDARD
BEGIN:DAYLIGHT
TZOFFSETFROM:-0500
TZOFFSETTO:-0400
TZNAME:EDT
DTSTART:20260308T070000
END:DAYLIGHT
BEGIN:STANDARD
TZOFFSETFROM:-0400
TZOFFSETTO:-0500
TZNAME:EST
DTSTART:20261101T060000
END:STANDARD
BEGIN:DAYLIGHT
TZOFFSETFROM:-0500
TZOFFSETTO:-0400
TZNAME:EDT
DTSTART:20270314T070000
END:DAYLIGHT
BEGIN:STANDARD
TZOFFSETFROM:-0400
TZOFFSETTO:-0500
TZNAME:EST
DTSTART:20271107T060000
END:STANDARD
END:VTIMEZONE
BEGIN:VEVENT
DTSTART;TZID=America/New_York:20260409T180000
DTEND;TZID=America/New_York:20260409T193000
DTSTAMP:20260424T050643
CREATED:20260309T233827Z
LAST-MODIFIED:20260309T233827Z
UID:10049206-1775757600-1775763000@visitnyack.org
SUMMARY:55 x 2 Juried Show Artists Gallery Talks
DESCRIPTION:Come hear our Exhibiting Artists talk about their work in the galleries of the 55 x 2 Juried Show\nEdward Hopper House Museum & Study Center is pleased to present 55 x 2 Juried Exhibition celebrating the Museum’s 55th Anniversary. The 2026 Juried Show showcases 55 artists in each half of the two-part Exhibition in the Edward Hopper House galleries.Part 1 LINE \nPart 1 Line Artists Talk on TH\, March 12\, 6 – 7:30pm \nPart 2 Light Artists Talk on TH\, April 9\, 6 – 7:30pm \nFREE for Members of the Edward Hopper House Museum and Exhibitng Artists \n$5 for General Public\, per person
URL:https://visitnyack.org/event/55-x-2-juried-show-artists-gallery-talks/2026-04-09/
LOCATION:Nyack\, NY\, USA
CATEGORIES:Art,Artist-Opportunities,Featured,Visual-Art
ATTACH;FMTTYPE=image/jpeg:https://visitnyack.org/wp-content/uploads/2026/03/55x2_orig-2-1.jpg
END:VEVENT
BEGIN:VEVENT
DTSTART;TZID=America/New_York:20260319T190000
DTEND;TZID=America/New_York:20260319T210000
DTSTAMP:20260424T050643
CREATED:20260309T234237Z
LAST-MODIFIED:20260309T234237Z
UID:10049203-1773946800-1773954000@visitnyack.org
SUMMARY:BRING BACK THE MUSIC: A HOT NIGHT OF JAZZ  WITH KJ DENHER
DESCRIPTION:Melt the frost with Edward Hopper House Museum for an unforgettable evening as we celebrate the return of live rhythm featuring an award-winning songwriter\, guitarist\, and soulful storyteller\, the legendary KJ Denhert.  The concert\, held inside at The Nyack Center on Thursday\, March 19\, supports the Museum’s 55th Anniversary and ignites the upcoming Jazz 2026 season at Edward Hopper House Museum.\nDate: Thursday\, March 19\, 7-9pm  \nLocation: The Nyack Center\, 58 DepewAve\, Nyack\,NY 10960 \nTickets: $55 per person\, $100 for two tickets\nIncludes one complimentary glass of wine with ticket
URL:https://visitnyack.org/event/bring-back-the-music-a-hot-night-of-jazz-with-kj-denher/
LOCATION:The Nyack Center\,58 Depew Ave\, Nyack\, NY 10960\, USA
CATEGORIES:Featured,Live-Music,Music,Nightlife
ATTACH;FMTTYPE=image/jpeg:https://visitnyack.org/wp-content/uploads/2026/03/641427507_34153130850969348_5301634764150453733_n.jpg
END:VEVENT
END:VCALENDAR