BEGIN:VCALENDAR
VERSION:2.0
PRODID:-// Visit Nyack - ECPv6.15.15//NONSGML v1.0//EN
CALSCALE:GREGORIAN
METHOD:PUBLISH
X-WR-CALNAME: Visit Nyack
X-ORIGINAL-URL:https://visitnyack.org
X-WR-CALDESC:Events for  Visit Nyack
REFRESH-INTERVAL;VALUE=DURATION:PT1H
X-Robots-Tag:noindex
X-PUBLISHED-TTL:PT1H
BEGIN:VTIMEZONE
TZID:America/New_York
BEGIN:DAYLIGHT
TZOFFSETFROM:-0500
TZOFFSETTO:-0400
TZNAME:EDT
DTSTART:20250309T070000
END:DAYLIGHT
BEGIN:STANDARD
TZOFFSETFROM:-0400
TZOFFSETTO:-0500
TZNAME:EST
DTSTART:20251102T060000
END:STANDARD
BEGIN:DAYLIGHT
TZOFFSETFROM:-0500
TZOFFSETTO:-0400
TZNAME:EDT
DTSTART:20260308T070000
END:DAYLIGHT
BEGIN:STANDARD
TZOFFSETFROM:-0400
TZOFFSETTO:-0500
TZNAME:EST
DTSTART:20261101T060000
END:STANDARD
BEGIN:DAYLIGHT
TZOFFSETFROM:-0500
TZOFFSETTO:-0400
TZNAME:EDT
DTSTART:20270314T070000
END:DAYLIGHT
BEGIN:STANDARD
TZOFFSETFROM:-0400
TZOFFSETTO:-0500
TZNAME:EST
DTSTART:20271107T060000
END:STANDARD
END:VTIMEZONE
BEGIN:VEVENT
DTSTART;TZID=America/New_York:20260423T183000
DTEND;TZID=America/New_York:20260423T193000
DTSTAMP:20260423T212559
CREATED:20260401T230603Z
LAST-MODIFIED:20260401T230603Z
UID:10049230-1776969000-1776972600@visitnyack.org
SUMMARY:Poet Laureate Annual Poetry Reading: Embracing Our Lives - Five Poets from Our Community
DESCRIPTION:Join us for a reading by Juan Pablo Mobili’s\, Rockland County’s Poet Laureate\, along with four remarkable poets from our community:  Mary Lou Buschi\, H.E. Fisher\, James McSherry and Monica Wendel.  We invite you to an evening of poems that celebrate life\, its joys and hard moments\, and honor the power of language in bringing us together.
URL:https://visitnyack.org/event/poet-laureate-annual-poetry-reading-embracing-our-lives-five-poets-from-our-community/
LOCATION:Nyack\, NY\, USA
ORGANIZER;CN="Nyack Library":MAILTO:programs@nyacklibrary.org
END:VEVENT
BEGIN:VEVENT
DTSTART;TZID=America/New_York:20260423T183000
DTEND;TZID=America/New_York:20260423T193000
DTSTAMP:20260423T212559
CREATED:20260401T230508Z
LAST-MODIFIED:20260401T230508Z
UID:10049226-1776969000-1776972600@visitnyack.org
SUMMARY:Silent Book Club
DESCRIPTION:Gather\, chat\, and then spend about an hour silently reading your book of choice in the company of others who love to read. It’s a great way to be in the company of others when your social battery is low. \nLight Refreshments will be provided.
URL:https://visitnyack.org/event/silent-book-club/
LOCATION:Nyack\, NY\, USA
ATTACH;FMTTYPE=image/jpeg:https://visitnyack.org/wp-content/uploads/2026/03/shutterstock_113595094-4-857x630-1.jpg
ORGANIZER;CN="Nyack Library":MAILTO:programs@nyacklibrary.org
END:VEVENT
BEGIN:VEVENT
DTSTART;TZID=America/New_York:20260421T180000
DTEND;TZID=America/New_York:20260421T190000
DTSTAMP:20260423T212559
CREATED:20260401T230313Z
LAST-MODIFIED:20260401T230313Z
UID:10049229-1776794400-1776798000@visitnyack.org
SUMMARY:HomeBoost Kit Information Session
DESCRIPTION:Learn about our newest resource\, HomeBoost Kits! A Do-It-Yourself Home Every Assessment Program. HomeBoost provide Thermal Imaging Cameras for checkout by local library patrons that will allow customers to perform a DIY Home Energy Assessment.
URL:https://visitnyack.org/event/homeboost-kit-information-session/
LOCATION:Nyack\, NY\, USA
ORGANIZER;CN="Nyack Library":MAILTO:programs@nyacklibrary.org
END:VEVENT
BEGIN:VEVENT
DTSTART;TZID=America/New_York:20260415T140000
DTEND;TZID=America/New_York:20260415T163000
DTSTAMP:20260423T212559
CREATED:20260401T230046Z
LAST-MODIFIED:20260401T230046Z
UID:10049225-1776261600-1776270600@visitnyack.org
SUMMARY:Movie Matinee\, Nuremberg (2025)
DESCRIPTION:As the Nuremberg trials are set to begin\, a U.S. Army psychiatrist gets locked in a dramatic psychological showdown with accused Nazi war criminal Hermann Göring.\nRelease date – November 7\, 2025 (USA)\nDirector – James Vanderbilt\nProducers – James Vanderbilt\, Richard Saperstein\, Brad Fischer · See more\nRunning time2h 28m\nStory by Jack El-Hai
URL:https://visitnyack.org/event/movie-matinee-nuremberg-2025/
LOCATION:Nyack\, NY\, USA
ATTACH;FMTTYPE=image/jpeg:https://visitnyack.org/wp-content/uploads/2026/03/2699716e1798f7fc4e1fc76f74fd1fd8_nuremberg.jpg
ORGANIZER;CN="Nyack Library":MAILTO:programs@nyacklibrary.org
END:VEVENT
BEGIN:VEVENT
DTSTART;TZID=America/New_York:20260409T180000
DTEND;TZID=America/New_York:20260409T193000
DTSTAMP:20260423T212559
CREATED:20260401T225743Z
LAST-MODIFIED:20260401T225743Z
UID:10049227-1775757600-1775763000@visitnyack.org
SUMMARY:Challenges of a Poem with Poet Laureate\, Juan Pablo Mobili
DESCRIPTION:Explore challenges and opportunities in strengthening poems. Please bring a poem you are working on that could benefit from further examination.
URL:https://visitnyack.org/event/challenges-of-a-poem-with-poet-laureate-juan-pablo-mobili/
LOCATION:Nyack\, NY\, USA
ORGANIZER;CN="Nyack Library":MAILTO:programs@nyacklibrary.org
END:VEVENT
BEGIN:VEVENT
DTSTART;TZID=America/New_York:20260327T190000
DTEND;TZID=America/New_York:20260327T220000
DTSTAMP:20260423T212559
CREATED:20260309T234741Z
LAST-MODIFIED:20260309T234741Z
UID:10049197-1774638000-1774648800@visitnyack.org
SUMMARY:Friday Night Film School
DESCRIPTION:Geoff will host movies\, pausing along the way to appreciate and discuss the audacity of cinema when it fires on all cylinders (engaging story-world\, irony\, metaphor\, ideas and craft). \nThe Matrix – 1999 – rated R – 2hr 16min \nWhen a beautiful stranger leads computer hacker Neo to a forbidding underworld\, he discovers the shocking truth–the life he knows is the elaborate deception of an evil cyber-intelligence.
URL:https://visitnyack.org/event/friday-night-film-school/
LOCATION:Nyack Library\, 59 W Broadway\, Nyack\, NY\, United States
ATTACH;FMTTYPE=image/png:https://visitnyack.org/wp-content/uploads/2026/02/21a59c3993a0890b424eaa03b75b514d_FNFS-Spring.png
ORGANIZER;CN="Nyack Library":MAILTO:programs@nyacklibrary.org
GEO:41.092071;-73.939029
X-APPLE-STRUCTURED-LOCATION;VALUE=URI;X-ADDRESS=Nyack Library 59 W Broadway Nyack NY United States;X-APPLE-RADIUS=500;X-TITLE=59 W Broadway:geo:-73.939029,41.092071
END:VEVENT
BEGIN:VEVENT
DTSTART;TZID=America/New_York:20260326T183000
DTEND;TZID=America/New_York:20260326T193000
DTSTAMP:20260423T212559
CREATED:20260309T234658Z
LAST-MODIFIED:20260309T234658Z
UID:10049196-1774549800-1774553400@visitnyack.org
SUMMARY:Silent Book Club
DESCRIPTION:Gather\, chat\, and then spend about an hour silently reading your book of choice in the company of others who love to read. It’s a great way to be in the company of others when your social battery is low.
URL:https://visitnyack.org/event/silent-book-club-3/
LOCATION:Nyack Library\, 59 W Broadway\, Nyack\, NY\, United States
ORGANIZER;CN="Nyack Library":MAILTO:programs@nyacklibrary.org
GEO:41.092071;-73.939029
X-APPLE-STRUCTURED-LOCATION;VALUE=URI;X-ADDRESS=Nyack Library 59 W Broadway Nyack NY United States;X-APPLE-RADIUS=500;X-TITLE=59 W Broadway:geo:-73.939029,41.092071
END:VEVENT
BEGIN:VEVENT
DTSTART;TZID=America/New_York:20260325T183000
DTEND;TZID=America/New_York:20260325T193000
DTSTAMP:20260423T212559
CREATED:20260309T234435Z
LAST-MODIFIED:20260309T234435Z
UID:10049194-1774463400-1774467000@visitnyack.org
SUMMARY:My Father's Name: Film Screening and Director Q&A
DESCRIPTION:The intimate story of one woman’s attempt to uncover the truth about her father’s participation in a lynching\, find a way to hold her family accountable\, and face the dawning awareness of her own unconscious racism. \nYears after Lee Ed Frazier’s death\, his daughter Jan made a shocking discovery: as a young man her father had participated in a lynching. As she attempts to uncover the truth about what happened\, Jan learns that this specific lynching was iconic in American history\, because photos of it were the first ever to be published in a national publication. Both Time and Life magazines carried the story and the photos as they reported on the anti-lynching bill that was before Congress at that very moment. \nAdditionally\, she realizes that no names of the lynchers were ever published. Even the photographer was protected by a cloak of agreed-upon anonymity. Shaken by this stark reflection of white privilege and the brutality it sought to minimize\, Jan must now reckon with deeply conflicted feelings about the father she loved\, find a way to hold her family accountable and face the dawning awareness of her own unconscious racism.
URL:https://visitnyack.org/event/my-fathers-name-film-screening-and-director-qa/
LOCATION:Nyack Library\, 59 W Broadway\, Nyack\, NY\, United States
ORGANIZER;CN="Nyack Library":MAILTO:programs@nyacklibrary.org
GEO:41.092071;-73.939029
X-APPLE-STRUCTURED-LOCATION;VALUE=URI;X-ADDRESS=Nyack Library 59 W Broadway Nyack NY United States;X-APPLE-RADIUS=500;X-TITLE=59 W Broadway:geo:-73.939029,41.092071
END:VEVENT
BEGIN:VEVENT
DTSTART;TZID=America/New_York:20260319T183000
DTEND;TZID=America/New_York:20260319T193000
DTSTAMP:20260423T212559
CREATED:20260309T234147Z
LAST-MODIFIED:20260309T234147Z
UID:10049193-1773945000-1773948600@visitnyack.org
SUMMARY:Starting Little Gem Farm
DESCRIPTION:Join Zoe Friedberg of Little Gem Farm to learn about sustainable agriculture\, CSA programs\, and eating local.
URL:https://visitnyack.org/event/starting-little-gem-farm/
LOCATION:Nyack Library\, 59 W Broadway\, Nyack\, NY\, United States
ORGANIZER;CN="Nyack Library":MAILTO:programs@nyacklibrary.org
GEO:41.092071;-73.939029
X-APPLE-STRUCTURED-LOCATION;VALUE=URI;X-ADDRESS=Nyack Library 59 W Broadway Nyack NY United States;X-APPLE-RADIUS=500;X-TITLE=59 W Broadway:geo:-73.939029,41.092071
END:VEVENT
BEGIN:VEVENT
DTSTART;TZID=America/New_York:20260315T130000
DTEND;TZID=America/New_York:20260315T153000
DTSTAMP:20260423T212600
CREATED:20260309T233946Z
LAST-MODIFIED:20260309T233946Z
UID:10049192-1773579600-1773588600@visitnyack.org
SUMMARY:Pet Adoption - Four Legs Good
DESCRIPTION:Four Legs Good Animal Shelter will be at Nyack Library with some of their adoptable pets! Come see if you connect with a furry friend that is looking for a forever home.
URL:https://visitnyack.org/event/pet-adoption-four-legs-good/
LOCATION:Nyack Library\, 59 W Broadway\, Nyack\, NY\, United States
ORGANIZER;CN="Nyack Library":MAILTO:programs@nyacklibrary.org
GEO:41.092071;-73.939029
X-APPLE-STRUCTURED-LOCATION;VALUE=URI;X-ADDRESS=Nyack Library 59 W Broadway Nyack NY United States;X-APPLE-RADIUS=500;X-TITLE=59 W Broadway:geo:-73.939029,41.092071
END:VEVENT
BEGIN:VEVENT
DTSTART;TZID=America/New_York:20260227T140000
DTEND;TZID=America/New_York:20260227T150000
DTSTAMP:20260423T212600
CREATED:20260207T150532Z
LAST-MODIFIED:20260207T150532Z
UID:10049162-1772200800-1772204400@visitnyack.org
SUMMARY:Cookbook Club with Mike
DESCRIPTION:Join the group and explore cookbooks and new cuisine to make and share!
URL:https://visitnyack.org/event/cookbook-club-with-mike/
LOCATION:Nyack\, NY\, USA
ATTACH;FMTTYPE=image/jpeg:https://visitnyack.org/wp-content/uploads/2026/01/opt__aboutcom__coeus__resources__content_migration__serious_eats__seriouseats.com__images__2017__09__20170927-daniels-cookbooks-daniel-gritzer2-76915ff815a049e18d699d7bcb48d827.jpg
ORGANIZER;CN="Nyack Library":MAILTO:programs@nyacklibrary.org
END:VEVENT
BEGIN:VEVENT
DTSTART;TZID=America/New_York:20260226T183000
DTEND;TZID=America/New_York:20260226T193000
DTSTAMP:20260423T212600
CREATED:20260207T150636Z
LAST-MODIFIED:20260207T150636Z
UID:10049164-1772130600-1772134200@visitnyack.org
SUMMARY:Silent Book Club
DESCRIPTION:Gather\, chat\, and then spend about an hour silently reading your book of choice in the company of others who love to read. It’s a great way to be in the company of others when your social battery is low. \nLight Refreshments will be provided.
URL:https://visitnyack.org/event/silent-book-club-2/
LOCATION:Nyack\, NY\, USA
ATTACH;FMTTYPE=image/jpeg:https://visitnyack.org/wp-content/uploads/2026/01/shutterstock_113595094-4-857x630-1.jpg
ORGANIZER;CN="Nyack Library":MAILTO:programs@nyacklibrary.org
END:VEVENT
BEGIN:VEVENT
DTSTART;TZID=America/New_York:20260221T140000
DTEND;TZID=America/New_York:20260221T153000
DTSTAMP:20260423T212600
CREATED:20260207T150601Z
LAST-MODIFIED:20260207T150601Z
UID:10049163-1771682400-1771687800@visitnyack.org
SUMMARY:The Librarians: A Film Screening
DESCRIPTION:Join us for a documentary screening and learn how\nLibrarians emerge as first responders in the fight for\ndemocracy and our First Amendment Rights.
URL:https://visitnyack.org/event/the-librarians-a-film-screening/
LOCATION:Nyack\, NY\, USA
ATTACH;FMTTYPE=image/jpeg:https://visitnyack.org/wp-content/uploads/2026/01/images-2.jpg
ORGANIZER;CN="Nyack Library":MAILTO:programs@nyacklibrary.org
END:VEVENT
BEGIN:VEVENT
DTSTART;TZID=America/New_York:20260218T140000
DTEND;TZID=America/New_York:20260218T160000
DTSTAMP:20260423T212600
CREATED:20260207T150344Z
LAST-MODIFIED:20260207T150344Z
UID:10049160-1771423200-1771430400@visitnyack.org
SUMMARY:Movie Matinee: Carmen Jones (1954)
DESCRIPTION:Join us for a movie matinee! \nContemporary version of the Bizet opera\, with new lyrics and an African-American cast. \nDirected by Otto Preminger\nRated “Approved”\nRuntime 1h 45m
URL:https://visitnyack.org/event/movie-matinee-carmen-jones-1954/
LOCATION:Nyack\, NY\, USA
ATTACH;FMTTYPE=image/jpeg:https://visitnyack.org/wp-content/uploads/2026/01/cd62faa699cc4994af19eeafa0327cf6_carmen-1.jpg
ORGANIZER;CN="Nyack Library":MAILTO:programs@nyacklibrary.org
END:VEVENT
BEGIN:VEVENT
DTSTART;TZID=America/New_York:20260212T193000
DTEND;TZID=America/New_York:20260212T210000
DTSTAMP:20260423T212600
CREATED:20260207T150318Z
LAST-MODIFIED:20260207T150318Z
UID:10049159-1770924600-1770930000@visitnyack.org
SUMMARY:Open Mic Night
DESCRIPTION:Doors 7:00 pm\, Open Mic begins at 7:30 \nWe are excited to create a gathering of talent from our wonderful community! \nJoin like-minded patrons looking to display their skills in music\, song\, poetry\, storytelling\, comedy\, and more… \nAlthough most Open Mics have sign-ups the night of the event\, as a library we need to know we have some performers interested in attending. Please register (and we will also save some time for walk in sign-ups)!
URL:https://visitnyack.org/event/open-mic-night/
LOCATION:Nyack\, NY\, USA
ATTACH;FMTTYPE=image/jpeg:https://visitnyack.org/wp-content/uploads/2026/01/655e0fa544c67c1ee5ce1177_different-types-of-microphones-which-one-do-you-need-og-1.jpeg
ORGANIZER;CN="Nyack Library":MAILTO:programs@nyacklibrary.org
END:VEVENT
BEGIN:VEVENT
DTSTART;TZID=America/New_York:20260211T183000
DTEND;TZID=America/New_York:20260211T193000
DTSTAMP:20260423T212600
CREATED:20260207T145955Z
LAST-MODIFIED:20260207T145955Z
UID:10049158-1770834600-1770838200@visitnyack.org
SUMMARY:Sound Bath
DESCRIPTION:Experience the vibrational tones of tuning forks\, Native American drum and flute\, and singing bowls\, led by Lisa Detres.
URL:https://visitnyack.org/event/sound-bath/
LOCATION:Nyack\, NY\, USA
ATTACH;FMTTYPE=image/png:https://visitnyack.org/wp-content/uploads/2026/01/1fbaa654a1ee64ae07c42e89b9f8adc0_lisa-11.png
ORGANIZER;CN="Nyack Library":MAILTO:programs@nyacklibrary.org
END:VEVENT
BEGIN:VEVENT
DTSTART;TZID=America/New_York:20260209T183000
DTEND;TZID=America/New_York:20260209T193000
DTSTAMP:20260423T212600
CREATED:20260207T145819Z
LAST-MODIFIED:20260207T145819Z
UID:10049156-1770661800-1770665400@visitnyack.org
SUMMARY:Mount Moor Cemetery\, Presented by Bill Batson
DESCRIPTION:Bill Batson\, artist\, historian\, and activist\, is the current President\nof the Friends of Mount Moor Cemetery. He will share stories of\nthe over 300 residents of Mount Moor\, including the\nextraordinary service of the 32 veterans who served in every\nAmerican armed conflict since the Civil War. Batson will also\nreflect on the heroic efforts of former Mount Moor President\nHezekiah Easter preventing over-development of the cemetery.
URL:https://visitnyack.org/event/mount-moor-cemetery-presented-by-bill-batson/
LOCATION:Nyack\, NY\, USA
ATTACH;FMTTYPE=image/jpeg:https://visitnyack.org/wp-content/uploads/2026/01/WestNyackNY_MountMoorCemetery_01.jpg
ORGANIZER;CN="Nyack Library":MAILTO:programs@nyacklibrary.org
END:VEVENT
BEGIN:VEVENT
DTSTART;TZID=America/New_York:20260130T150000
DTEND;TZID=America/New_York:20260130T163000
DTSTAMP:20260423T212600
CREATED:20251222T204319Z
LAST-MODIFIED:20251222T204319Z
UID:10048332-1769785200-1769790600@visitnyack.org
SUMMARY:Everyone Has A Story: with Phoenix Theatre\, the Nyack Senior Center & Meals on Wheels
DESCRIPTION:Everyone Has A Story: with Phoenix Theatre\, the Nyack Senior Center & Meals on Wheels \nFriday\, January 30\, 3:00pm (Community Meeting Room) \nJoin us as our own Nyack seniors share the funny\, moving and poignant performance they have created.
URL:https://visitnyack.org/event/everyone-has-a-story-with-phoenix-theatre-the-nyack-senior-center-meals-on-wheels/
LOCATION:Nyack\, NY\, USA
CATEGORIES:Featured
ORGANIZER;CN="Nyack Library":MAILTO:programs@nyacklibrary.org
END:VEVENT
BEGIN:VEVENT
DTSTART;TZID=America/New_York:20260126T183000
DTEND;TZID=America/New_York:20260126T193000
DTSTAMP:20260423T212600
CREATED:20251222T203416Z
LAST-MODIFIED:20251222T203416Z
UID:10048330-1769452200-1769455800@visitnyack.org
SUMMARY:Broadway Week: Scene Study for Adults (with a Cabaret/Kit Kat Club actor through Broadway Weekends)
DESCRIPTION:This week\, we’re celebrating Broadway and local theater by bringing together passionate\, talented individuals to showcase their skills. We have exciting adult programs lined up\, along with one special program for kids. It’s a fantastic opportunity for actors and performers of all kinds to shine and discover the vibrant world of theater.
URL:https://visitnyack.org/event/broadway-week-scene-study-for-adults-with-a-cabaret-kit-kat-club-actor-through-broadway-weekends/
LOCATION:Nyack\, NY\, USA
ORGANIZER;CN="Nyack Library":MAILTO:programs@nyacklibrary.org
END:VEVENT
END:VCALENDAR